BEGIN:VCALENDAR
VERSION:2.0
PRODID:-//Mike Christiansen - ECPv6.14.0//NONSGML v1.0//EN
CALSCALE:GREGORIAN
METHOD:PUBLISH
X-WR-CALNAME:Mike Christiansen
X-ORIGINAL-URL:https://mikechristiansen.com
X-WR-CALDESC:Events for Mike Christiansen
REFRESH-INTERVAL;VALUE=DURATION:PT1H
X-Robots-Tag:noindex
X-PUBLISHED-TTL:PT1H
BEGIN:VTIMEZONE
TZID:America/Denver
BEGIN:DAYLIGHT
TZOFFSETFROM:-0700
TZOFFSETTO:-0600
TZNAME:MDT
DTSTART:20240310T090000
END:DAYLIGHT
BEGIN:STANDARD
TZOFFSETFROM:-0600
TZOFFSETTO:-0700
TZNAME:MST
DTSTART:20241103T080000
END:STANDARD
END:VTIMEZONE
BEGIN:VEVENT
DTSTART;TZID=America/Denver:20240616T173000
DTEND;TZID=America/Denver:20240616T210000
DTSTAMP:20260421T022743
CREATED:20240502T225231Z
LAST-MODIFIED:20240502T225400Z
UID:1510-1718559000-1718571600@mikechristiansen.com
SUMMARY:Solo Guitar Private Event/Herm's Cafe/Logan\, UT
DESCRIPTION:
URL:https://mikechristiansen.com/event/solo-guitar-le-nonne-restaurant/
END:VEVENT
BEGIN:VEVENT
DTSTART;TZID=America/Denver:20240615T163000
DTEND;TZID=America/Denver:20240615T193000
DTSTAMP:20260421T022743
CREATED:20240503T005603Z
LAST-MODIFIED:20240503T005603Z
UID:1515-1718469000-1718479800@mikechristiansen.com
SUMMARY:Solo Guitar Private Event/Wedding/Park City\, UT
DESCRIPTION:
URL:https://mikechristiansen.com/event/solo-guitar-private-event-wedding-park-city-ut/
END:VEVENT
BEGIN:VEVENT
DTSTART;TZID=America/Denver:20240614T173000
DTEND;TZID=America/Denver:20240614T210000
DTSTAMP:20260421T022743
CREATED:20240502T225136Z
LAST-MODIFIED:20240502T225136Z
UID:1508-1718386200-1718398800@mikechristiansen.com
SUMMARY:Solo Guitar @ Le Nonne Restaurant/Logan\, UT
DESCRIPTION:
URL:https://mikechristiansen.com/event/solo-guitar-le-nonne-restaurant-logan-ut-22/
END:VEVENT
BEGIN:VEVENT
DTSTART;TZID=America/Denver:20240608T183000
DTEND;TZID=America/Denver:20240608T210000
DTSTAMP:20260421T022743
CREATED:20240502T224414Z
LAST-MODIFIED:20240502T224913Z
UID:1503-1717871400-1717880400@mikechristiansen.com
SUMMARY:Private Event/Logan\, UT
DESCRIPTION:
URL:https://mikechristiansen.com/event/solo-guitar-le-nonne-restaurant-logan-ut-21/
END:VEVENT
BEGIN:VEVENT
DTSTART;VALUE=DATE:20240529
DTEND;VALUE=DATE:20240530
DTSTAMP:20260421T022743
CREATED:20240525T130815Z
LAST-MODIFIED:20240525T130815Z
UID:1549-1716940800-1717027199@mikechristiansen.com
SUMMARY:Denmark/Sweden/Finland/Estonia May 29-June 7
DESCRIPTION:
URL:https://mikechristiansen.com/event/denmark-sweden-finland-estonia-may-29-june-7/
END:VEVENT
BEGIN:VEVENT
DTSTART;TZID=America/Denver:20240525T173000
DTEND;TZID=America/Denver:20240525T210000
DTSTAMP:20260421T022743
CREATED:20240525T130650Z
LAST-MODIFIED:20240525T130650Z
UID:1547-1716658200-1716670800@mikechristiansen.com
SUMMARY:Solo Guitar at Le Nonne Restaurant/Logan Utah
DESCRIPTION:
URL:https://mikechristiansen.com/event/solo-guitar-at-le-nonne-restaurant-logan-utah-20/
END:VEVENT
BEGIN:VEVENT
DTSTART;TZID=America/Denver:20240524T173000
DTEND;TZID=America/Denver:20240524T210000
DTSTAMP:20260421T022743
CREATED:20240502T224239Z
LAST-MODIFIED:20240502T224239Z
UID:1501-1716571800-1716584400@mikechristiansen.com
SUMMARY:Solo Guitar @ Le Nonne Restaurant/Logan\,UT
DESCRIPTION:
URL:https://mikechristiansen.com/event/solo-guitar-le-nonne-restaurant-loganut/
END:VEVENT
BEGIN:VEVENT
DTSTART;TZID=America/Denver:20240518T173000
DTEND;TZID=America/Denver:20240518T210000
DTSTAMP:20260421T022743
CREATED:20240502T223726Z
LAST-MODIFIED:20240502T223726Z
UID:1498-1716053400-1716066000@mikechristiansen.com
SUMMARY:Solo Guitar @ Le Nonne Restaurant/ Logan\, UT
DESCRIPTION:
URL:https://mikechristiansen.com/event/solo-guitar-le-nonne-restaurant-logan-ut-20/
END:VEVENT
BEGIN:VEVENT
DTSTART;TZID=America/Denver:20240517T173000
DTEND;TZID=America/Denver:20240517T210000
DTSTAMP:20260421T022743
CREATED:20240502T223620Z
LAST-MODIFIED:20240502T223620Z
UID:1496-1715967000-1715979600@mikechristiansen.com
SUMMARY:Solo Guitar at Le Nonne Restaurant/Logan\, UT
DESCRIPTION:
URL:https://mikechristiansen.com/event/solo-guitar-at-le-nonne-restaurant-logan-ut-82/
END:VEVENT
BEGIN:VEVENT
DTSTART;TZID=America/Denver:20240511T173000
DTEND;TZID=America/Denver:20240511T210000
DTSTAMP:20260421T022743
CREATED:20240502T223437Z
LAST-MODIFIED:20240502T223437Z
UID:1494-1715448600-1715461200@mikechristiansen.com
SUMMARY:Solo Guitar at Le Nonne Restaurant/Logan\, UT
DESCRIPTION:
URL:https://mikechristiansen.com/event/solo-guitar-at-le-nonne-restaurant-logan-ut-81/
END:VEVENT
BEGIN:VEVENT
DTSTART;TZID=America/Denver:20240510T173000
DTEND;TZID=America/Denver:20240510T210000
DTSTAMP:20260421T022743
CREATED:20240502T223321Z
LAST-MODIFIED:20240502T223321Z
UID:1492-1715362200-1715374800@mikechristiansen.com
SUMMARY:Solo Guitar at Le Nonne Restaurant
DESCRIPTION:
URL:https://mikechristiansen.com/event/solo-guitar-at-le-nonne-restaurant-7/
END:VEVENT
BEGIN:VEVENT
DTSTART;TZID=America/Denver:20240504T053000
DTEND;TZID=America/Denver:20240504T210000
DTSTAMP:20260421T022743
CREATED:20240502T223204Z
LAST-MODIFIED:20240502T223204Z
UID:1490-1714800600-1714856400@mikechristiansen.com
SUMMARY:Solo Guitar at Le Nonne Restaurant/Logan\, UT
DESCRIPTION:
URL:https://mikechristiansen.com/event/solo-guitar-at-le-nonne-restaurant-logan-ut-80/
END:VEVENT
BEGIN:VEVENT
DTSTART;TZID=America/Denver:20240224T173000
DTEND;TZID=America/Denver:20240224T210000
DTSTAMP:20260421T022743
CREATED:20231121T153044Z
LAST-MODIFIED:20231121T153044Z
UID:1442-1708795800-1708808400@mikechristiansen.com
SUMMARY:Solo Guitar at Le Nonne Restaurant-Logan\, UT
DESCRIPTION:
URL:https://mikechristiansen.com/event/solo-guitar-at-le-nonne-restaurant-logan-ut-79/
END:VEVENT
BEGIN:VEVENT
DTSTART;TZID=America/Denver:20240224T173000
DTEND;TZID=America/Denver:20240224T203000
DTSTAMP:20260421T022743
CREATED:20231220T154216Z
LAST-MODIFIED:20231220T154216Z
UID:1469-1708795800-1708806600@mikechristiansen.com
SUMMARY:Solo Guitar for Wedding-Deer Valley\, Utah
DESCRIPTION:
URL:https://mikechristiansen.com/event/solo-guitar-for-wedding-deer-valley-utah/
END:VEVENT
BEGIN:VEVENT
DTSTART;TZID=America/Denver:20240223T173000
DTEND;TZID=America/Denver:20240223T210000
DTSTAMP:20260421T022743
CREATED:20231220T154020Z
LAST-MODIFIED:20231220T154020Z
UID:1467-1708709400-1708722000@mikechristiansen.com
SUMMARY:Solo Guitar at Le Nonne Restaurant-Logan\, Utah
DESCRIPTION:
URL:https://mikechristiansen.com/event/solo-guitar-at-le-nonne-restaurant-logan-utah-19/
END:VEVENT
BEGIN:VEVENT
DTSTART;TZID=America/Denver:20240223T173000
DTEND;TZID=America/Denver:20240223T210000
DTSTAMP:20260421T022743
CREATED:20231121T152945Z
LAST-MODIFIED:20231121T152945Z
UID:1440-1708709400-1708722000@mikechristiansen.com
SUMMARY:Solo Guitar at Le Nonne Restaurant- Logan\, UT
DESCRIPTION:
URL:https://mikechristiansen.com/event/solo-guitar-at-le-nonne-restaurant-logan-ut-78/
END:VEVENT
BEGIN:VEVENT
DTSTART;TZID=America/Denver:20240217T173000
DTEND;TZID=America/Denver:20240217T210000
DTSTAMP:20260421T022743
CREATED:20231220T153922Z
LAST-MODIFIED:20231220T153922Z
UID:1465-1708191000-1708203600@mikechristiansen.com
SUMMARY:Solo Guitar at Le Nonne Restaurant-Logan\, Utah
DESCRIPTION:
URL:https://mikechristiansen.com/event/solo-guitar-at-le-nonne-restaurant-logan-utah-18/
END:VEVENT
BEGIN:VEVENT
DTSTART;TZID=America/Denver:20240217T173000
DTEND;TZID=America/Denver:20240217T210000
DTSTAMP:20260421T022743
CREATED:20231121T152851Z
LAST-MODIFIED:20231121T152851Z
UID:1438-1708191000-1708203600@mikechristiansen.com
SUMMARY:Solo Guitar at Le Nonne Restaurant\, Logan\, UT
DESCRIPTION:
URL:https://mikechristiansen.com/event/solo-guitar-at-le-nonne-restaurant-logan-ut-77/
END:VEVENT
BEGIN:VEVENT
DTSTART;TZID=America/Denver:20240216T173000
DTEND;TZID=America/Denver:20240216T210000
DTSTAMP:20260421T022743
CREATED:20231220T153747Z
LAST-MODIFIED:20231220T153747Z
UID:1463-1708104600-1708117200@mikechristiansen.com
SUMMARY:Solo Guitar at Le Nonne Restaurant-Logan\, Utah
DESCRIPTION:
URL:https://mikechristiansen.com/event/solo-guitar-at-le-nonne-restaurant-logan-utah-17/
END:VEVENT
BEGIN:VEVENT
DTSTART;TZID=America/Denver:20240216T173000
DTEND;TZID=America/Denver:20240216T210000
DTSTAMP:20260421T022743
CREATED:20231121T152755Z
LAST-MODIFIED:20231121T152755Z
UID:1436-1708104600-1708117200@mikechristiansen.com
SUMMARY:Solo Guitar at Le Nonne Restaurant\, Logan\, UT
DESCRIPTION:
URL:https://mikechristiansen.com/event/solo-guitar-at-le-nonne-restaurant-logan-ut-76/
END:VEVENT
BEGIN:VEVENT
DTSTART;TZID=America/Denver:20240210T080000
DTEND;TZID=America/Denver:20240210T090000
DTSTAMP:20260421T022743
CREATED:20231220T153643Z
LAST-MODIFIED:20231220T153643Z
UID:1461-1707552000-1707555600@mikechristiansen.com
SUMMARY:Clinician KMEA Conference-Louisville\, Kentucky
DESCRIPTION:
URL:https://mikechristiansen.com/event/clinician-kmea-conference-louisville-kentucky/
END:VEVENT
BEGIN:VEVENT
DTSTART;TZID=America/Denver:20240210T080000
DTEND;TZID=America/Denver:20240210T090000
DTSTAMP:20260421T022743
CREATED:20231121T152647Z
LAST-MODIFIED:20231121T152647Z
UID:1434-1707552000-1707555600@mikechristiansen.com
SUMMARY:Clinic at KMEA Conference-Louisville\, Kentucky
DESCRIPTION:
URL:https://mikechristiansen.com/event/clinic-at-kmea-conference-louisville-kentucky-2/
END:VEVENT
BEGIN:VEVENT
DTSTART;TZID=America/Denver:20240209T143000
DTEND;TZID=America/Denver:20240209T153000
DTSTAMP:20260421T022743
CREATED:20231220T153059Z
LAST-MODIFIED:20231220T153432Z
UID:1455-1707489000-1707492600@mikechristiansen.com
SUMMARY:Clinician at KMEA Conference-Louisville\, Kentucky
DESCRIPTION:
URL:https://mikechristiansen.com/event/solo-guitar-at-le-nonne-restaurant-logan-utah-16/
END:VEVENT
BEGIN:VEVENT
DTSTART;TZID=America/Denver:20240203T173000
DTEND;TZID=America/Denver:20240203T210000
DTSTAMP:20260421T022743
CREATED:20231121T152258Z
LAST-MODIFIED:20231121T152258Z
UID:1430-1706981400-1706994000@mikechristiansen.com
SUMMARY:Solo Guitar at Le Nonne Restaurant- Logan\, UT
DESCRIPTION:
URL:https://mikechristiansen.com/event/solo-guitar-at-le-nonne-restaurant-logan-ut-75/
END:VEVENT
BEGIN:VEVENT
DTSTART;TZID=America/Denver:20240202T163000
DTEND;TZID=America/Denver:20240202T173000
DTSTAMP:20260421T022743
CREATED:20231121T152128Z
LAST-MODIFIED:20231121T152128Z
UID:1428-1706891400-1706895000@mikechristiansen.com
SUMMARY:Clinic at CMEA-Sacramento\, CA
DESCRIPTION:
URL:https://mikechristiansen.com/event/clinic-at-cmea-sacramento-ca/
END:VEVENT
BEGIN:VEVENT
DTSTART;TZID=America/Denver:20240202T150000
DTEND;TZID=America/Denver:20240202T160000
DTSTAMP:20260421T022743
CREATED:20231220T152954Z
LAST-MODIFIED:20231220T152954Z
UID:1453-1706886000-1706889600@mikechristiansen.com
SUMMARY:Clinician for CASMEC Conference-Sacramento\, CA
DESCRIPTION:
URL:https://mikechristiansen.com/event/clinician-for-casmec-conference-sacramento-ca/
END:VEVENT
BEGIN:VEVENT
DTSTART;TZID=America/Denver:20240131T170000
DTEND;TZID=America/Denver:20240131T210000
DTSTAMP:20260421T022743
CREATED:20240130T041316Z
LAST-MODIFIED:20240130T041316Z
UID:1481-1706720400-1706734800@mikechristiansen.com
SUMMARY:Solo at St. Regis Hotel-Deer Valley  Private Event
DESCRIPTION:
URL:https://mikechristiansen.com/event/solo-at-st-regis-hotel-deer-valley-private-event/
END:VEVENT
BEGIN:VEVENT
DTSTART;TZID=America/Denver:20240127T180000
DTEND;TZID=America/Denver:20240127T210000
DTSTAMP:20260421T022743
CREATED:20231220T152803Z
LAST-MODIFIED:20231220T152803Z
UID:1451-1706378400-1706389200@mikechristiansen.com
SUMMARY:Solo Guitar for Peak's Art Show-USU Art Gallery-Logan\, Utah
DESCRIPTION:
URL:https://mikechristiansen.com/event/solo-guitar-for-peaks-art-show-usu-art-gallery-logan-utah/
END:VEVENT
BEGIN:VEVENT
DTSTART;TZID=America/Denver:20240127T180000
DTEND;TZID=America/Denver:20240127T210000
DTSTAMP:20260421T022743
CREATED:20231121T151722Z
LAST-MODIFIED:20231121T151722Z
UID:1426-1706378400-1706389200@mikechristiansen.com
SUMMARY:Solo Guitar for Peak's Art Show-USU Art Gallery-Logan\, UT
DESCRIPTION:
URL:https://mikechristiansen.com/event/solo-guitar-for-peaks-art-show-usu-art-gallery-logan-ut/
END:VEVENT
BEGIN:VEVENT
DTSTART;TZID=America/Denver:20240126T173000
DTEND;TZID=America/Denver:20240126T210000
DTSTAMP:20260421T022743
CREATED:20231220T152613Z
LAST-MODIFIED:20231220T152613Z
UID:1449-1706290200-1706302800@mikechristiansen.com
SUMMARY:Solo Guitar at Le Nonne Restaurant- Logan\, Utah
DESCRIPTION:
URL:https://mikechristiansen.com/event/solo-guitar-at-le-nonne-restaurant-logan-utah-15/
END:VEVENT
END:VCALENDAR