BEGIN:VCALENDAR
VERSION:2.0
PRODID:-//Mike Christiansen - ECPv6.14.0//NONSGML v1.0//EN
CALSCALE:GREGORIAN
METHOD:PUBLISH
X-WR-CALNAME:Mike Christiansen
X-ORIGINAL-URL:https://mikechristiansen.com
X-WR-CALDESC:Events for Mike Christiansen
REFRESH-INTERVAL;VALUE=DURATION:PT1H
X-Robots-Tag:noindex
X-PUBLISHED-TTL:PT1H
BEGIN:VTIMEZONE
TZID:America/Denver
BEGIN:DAYLIGHT
TZOFFSETFROM:-0700
TZOFFSETTO:-0600
TZNAME:MDT
DTSTART:20230312T090000
END:DAYLIGHT
BEGIN:STANDARD
TZOFFSETFROM:-0600
TZOFFSETTO:-0700
TZNAME:MST
DTSTART:20231105T080000
END:STANDARD
BEGIN:DAYLIGHT
TZOFFSETFROM:-0700
TZOFFSETTO:-0600
TZNAME:MDT
DTSTART:20240310T090000
END:DAYLIGHT
BEGIN:STANDARD
TZOFFSETFROM:-0600
TZOFFSETTO:-0700
TZNAME:MST
DTSTART:20241103T080000
END:STANDARD
END:VTIMEZONE
BEGIN:VTIMEZONE
TZID:UTC
BEGIN:STANDARD
TZOFFSETFROM:+0000
TZOFFSETTO:+0000
TZNAME:UTC
DTSTART:20230101T000000
END:STANDARD
END:VTIMEZONE
BEGIN:VEVENT
DTSTART;TZID=America/Denver:20240112T150000
DTEND;TZID=America/Denver:20240112T163000
DTSTAMP:20260421T093539
CREATED:20231121T150618Z
LAST-MODIFIED:20231121T150618Z
UID:1414-1705071600-1705077000@mikechristiansen.com
SUMMARY:Clinic at OMEA Conference-Eugene\, Oregon
DESCRIPTION:
URL:https://mikechristiansen.com/event/clinic-at-omea-conference-eugene-oregon/
END:VEVENT
BEGIN:VEVENT
DTSTART;TZID=America/Denver:20240106T173000
DTEND;TZID=America/Denver:20240106T210000
DTSTAMP:20260421T093539
CREATED:20231121T150430Z
LAST-MODIFIED:20231121T150430Z
UID:1412-1704562200-1704574800@mikechristiansen.com
SUMMARY:Solo Guitar at Le Nonne Restaurant-Logan\, Utah
DESCRIPTION:
URL:https://mikechristiansen.com/event/solo-guitar-at-le-nonne-restaurant-logan-utah-10/
END:VEVENT
BEGIN:VEVENT
DTSTART;TZID=America/Denver:20240105T173000
DTEND;TZID=America/Denver:20240105T210000
DTSTAMP:20260421T093539
CREATED:20231121T150317Z
LAST-MODIFIED:20231121T150317Z
UID:1410-1704475800-1704488400@mikechristiansen.com
SUMMARY:Solo Guitar at Le Nonne Restaurant-Logan\, UT
DESCRIPTION:
URL:https://mikechristiansen.com/event/solo-guitar-at-le-nonne-restaurant-logan-ut-72/
END:VEVENT
BEGIN:VEVENT
DTSTART;TZID=America/Denver:20231230T173000
DTEND;TZID=America/Denver:20231230T210000
DTSTAMP:20260421T093539
CREATED:20231120T181432Z
LAST-MODIFIED:20231229T203811Z
UID:1408-1703957400-1703970000@mikechristiansen.com
SUMMARY:Solo at Le Nonne Restaurant-Logan\, Utah Cancelled Duo to Getting Covid
DESCRIPTION:
URL:https://mikechristiansen.com/event/solo-at-le-nonne-restaurant-logan-utah-22/
END:VEVENT
BEGIN:VEVENT
DTSTART;TZID=America/Denver:20231229T173000
DTEND;TZID=America/Denver:20231229T210000
DTSTAMP:20260421T093539
CREATED:20231120T181311Z
LAST-MODIFIED:20231229T204058Z
UID:1406-1703871000-1703883600@mikechristiansen.com
SUMMARY:Solo at Le Nonne Restaurant-Logan\, Utah Cancelled Duo to getting Covid
DESCRIPTION:
URL:https://mikechristiansen.com/event/solo-at-le-nonne-restaurant-logan-utah-21/
END:VEVENT
BEGIN:VEVENT
DTSTART;TZID=America/Denver:20231223T080000
DTEND;TZID=America/Denver:20231223T170000
DTSTAMP:20260421T093539
CREATED:20231120T174827Z
LAST-MODIFIED:20231120T174827Z
UID:1394-1703318400-1703350800@mikechristiansen.com
SUMMARY:Solo at Salt lake International Airport-SLC
DESCRIPTION:
URL:https://mikechristiansen.com/event/solo-at-salt-lake-international-airport-slc/
END:VEVENT
BEGIN:VEVENT
DTSTART;TZID=America/Denver:20231222T173000
DTEND;TZID=America/Denver:20231222T210000
DTSTAMP:20260421T093539
CREATED:20231120T174722Z
LAST-MODIFIED:20231120T174722Z
UID:1392-1703266200-1703278800@mikechristiansen.com
SUMMARY:Solo at Le Nonne Restaurant-Logan\, Utah
DESCRIPTION:
URL:https://mikechristiansen.com/event/solo-at-le-nonne-restaurant-logan-utah-20/
END:VEVENT
BEGIN:VEVENT
DTSTART;TZID=America/Denver:20231216T173000
DTEND;TZID=America/Denver:20231216T210000
DTSTAMP:20260421T093539
CREATED:20231120T174617Z
LAST-MODIFIED:20231120T174617Z
UID:1390-1702747800-1702760400@mikechristiansen.com
SUMMARY:Solo at Le Nonne Restaurant-Logan\, Utah
DESCRIPTION:
URL:https://mikechristiansen.com/event/solo-at-le-nonne-restaurant-logan-utah-19/
END:VEVENT
BEGIN:VEVENT
DTSTART;TZID=America/Denver:20231215T173000
DTEND;TZID=America/Denver:20231215T210000
DTSTAMP:20260421T093539
CREATED:20231120T174438Z
LAST-MODIFIED:20231120T174438Z
UID:1388-1702661400-1702674000@mikechristiansen.com
SUMMARY:Solo at Le Nonne Restaurant-Logan\, Utah
DESCRIPTION:
URL:https://mikechristiansen.com/event/solo-at-le-nonne-restaurant-logan-utah-18/
END:VEVENT
BEGIN:VEVENT
DTSTART;TZID=America/Denver:20231214T180000
DTEND;TZID=America/Denver:20231214T203000
DTSTAMP:20260421T093539
CREATED:20231120T174333Z
LAST-MODIFIED:20231120T174333Z
UID:1386-1702576800-1702585800@mikechristiansen.com
SUMMARY:Solo for Rotary Christmas Party-Logan Country Club-Logan\, Utah
DESCRIPTION:
URL:https://mikechristiansen.com/event/solo-for-rotary-christmas-party-logan-country-club-logan-utah/
END:VEVENT
BEGIN:VEVENT
DTSTART;TZID=America/Denver:20231213T193000
DTEND;TZID=America/Denver:20231213T210000
DTSTAMP:20260421T093539
CREATED:20231120T174207Z
LAST-MODIFIED:20231120T174207Z
UID:1384-1702495800-1702501200@mikechristiansen.com
SUMMARY:With Lars Yorgeson Singers-Tabernacle at Temple Square-SLC
DESCRIPTION:
URL:https://mikechristiansen.com/event/with-lars-yorgeson-singers-tabernacle-at-temple-square-slc/
END:VEVENT
BEGIN:VEVENT
DTSTART;TZID=America/Denver:20231209T200000
DTEND;TZID=America/Denver:20231209T230000
DTSTAMP:20260421T093539
CREATED:20231120T174022Z
LAST-MODIFIED:20231120T174022Z
UID:1382-1702152000-1702162800@mikechristiansen.com
SUMMARY:Solo for Private Event- Price\, Utah
DESCRIPTION:
URL:https://mikechristiansen.com/event/solo-for-private-event-price-utah/
END:VEVENT
BEGIN:VEVENT
DTSTART;TZID=America/Denver:20231208T173000
DTEND;TZID=America/Denver:20231208T203000
DTSTAMP:20260421T093539
CREATED:20231120T173848Z
LAST-MODIFIED:20231120T173848Z
UID:1380-1702056600-1702067400@mikechristiansen.com
SUMMARY:Solo for Apogee Christmas Party-Hyde Park\, Utah
DESCRIPTION:
URL:https://mikechristiansen.com/event/solo-for-apogee-christmas-party-hyde-park-utah/
END:VEVENT
BEGIN:VEVENT
DTSTART;TZID=America/Denver:20231207T143000
DTEND;TZID=America/Denver:20231207T190000
DTSTAMP:20260421T093539
CREATED:20231120T173729Z
LAST-MODIFIED:20231120T173729Z
UID:1378-1701959400-1701975600@mikechristiansen.com
SUMMARY:Solo for Tanner Accounting Firm Christmas Party-SLC
DESCRIPTION:
URL:https://mikechristiansen.com/event/solo-for-tanner-accounting-firm-christmas-party-slc/
END:VEVENT
BEGIN:VEVENT
DTSTART;TZID=America/Denver:20231207T110000
DTEND;TZID=America/Denver:20231207T130000
DTSTAMP:20260421T093539
CREATED:20231120T173618Z
LAST-MODIFIED:20231120T173618Z
UID:1376-1701946800-1701954000@mikechristiansen.com
SUMMARY:Solo for USU Facilities Christmas Party-USU Ballroom-Logan\, Utah
DESCRIPTION:
URL:https://mikechristiansen.com/event/solo-for-usu-facilities-christmas-party-usu-ballroom-logan-utah/
END:VEVENT
BEGIN:VEVENT
DTSTART;TZID=America/Denver:20231206T110000
DTEND;TZID=America/Denver:20231206T120000
DTSTAMP:20260421T093539
CREATED:20231120T173435Z
LAST-MODIFIED:20231120T173435Z
UID:1374-1701860400-1701864000@mikechristiansen.com
SUMMARY:With Tim Clover for UPR Broadcast
DESCRIPTION:
URL:https://mikechristiansen.com/event/with-tim-clover-for-upr-broadcast/
END:VEVENT
BEGIN:VEVENT
DTSTART;TZID=America/Denver:20231204T120000
DTEND;TZID=America/Denver:20231204T150000
DTSTAMP:20260421T093539
CREATED:20231120T173120Z
LAST-MODIFIED:20231120T173120Z
UID:1372-1701691200-1701702000@mikechristiansen.com
SUMMARY:Solo at Carol Laub Residence-Private Event-Logan\, UT
DESCRIPTION:
URL:https://mikechristiansen.com/event/solo-at-carol-laub-residence-private-event-logan-ut/
END:VEVENT
BEGIN:VEVENT
DTSTART;TZID=America/Denver:20231202T200000
DTEND;TZID=America/Denver:20231202T230000
DTSTAMP:20260421T093539
CREATED:20231120T172821Z
LAST-MODIFIED:20231120T172821Z
UID:1368-1701547200-1701558000@mikechristiansen.com
SUMMARY:With Joe Muscolino Band at GM Dealership Sandy Utah
DESCRIPTION:
URL:https://mikechristiansen.com/event/with-joe-muscolino-band-at-gm-dealership-sandy-utah/
END:VEVENT
BEGIN:VEVENT
DTSTART;TZID=America/Denver:20231202T130000
DTEND;TZID=America/Denver:20231202T150000
DTSTAMP:20260421T093539
CREATED:20231120T172937Z
LAST-MODIFIED:20231120T172937Z
UID:1370-1701522000-1701529200@mikechristiansen.com
SUMMARY:With Lars Yorgeson Singers-Private Event-American Fork\, UT
DESCRIPTION:
URL:https://mikechristiansen.com/event/with-lars-yorgeson-singers-private-event-american-fork-ut/
END:VEVENT
BEGIN:VEVENT
DTSTART;TZID=America/Denver:20231201T173000
DTEND;TZID=America/Denver:20231201T210000
DTSTAMP:20260421T093539
CREATED:20231120T172655Z
LAST-MODIFIED:20231120T172655Z
UID:1366-1701451800-1701464400@mikechristiansen.com
SUMMARY:Solo Guitar at Le Nonne Restaurant-Logan Utah
DESCRIPTION:
URL:https://mikechristiansen.com/event/solo-guitar-at-le-nonne-restaurant-logan-utah-9/
END:VEVENT
BEGIN:VEVENT
DTSTART;TZID=America/Denver:20231129T190000
DTEND;TZID=America/Denver:20231129T210000
DTSTAMP:20260421T093539
CREATED:20231120T172533Z
LAST-MODIFIED:20231120T172533Z
UID:1364-1701284400-1701291600@mikechristiansen.com
SUMMARY:With Lars Yorgeson Singers-Tabernacle at Temple Square
DESCRIPTION:
URL:https://mikechristiansen.com/event/with-lars-yorgeson-singers-tabernacle-at-temple-square/
END:VEVENT
BEGIN:VEVENT
DTSTART;TZID=America/Denver:20231122T080000
DTEND;TZID=America/Denver:20231122T180000
DTSTAMP:20260421T093539
CREATED:20231120T172405Z
LAST-MODIFIED:20231120T172405Z
UID:1362-1700640000-1700676000@mikechristiansen.com
SUMMARY:Solo at Salt Lake International Airport
DESCRIPTION:
URL:https://mikechristiansen.com/event/solo-at-salt-lake-international-airport/
END:VEVENT
BEGIN:VEVENT
DTSTART;TZID=UTC:20230930T173000
DTEND;TZID=UTC:20230930T210000
DTSTAMP:20260421T093539
CREATED:20230607T030650Z
LAST-MODIFIED:20230607T030650Z
UID:1132-1696095000-1696107600@mikechristiansen.com
SUMMARY:Solo Guitar at Le Nonne Restaurant/Logan\, UT
DESCRIPTION:
URL:https://mikechristiansen.com/event/solo-guitar-at-le-nonne-restaurant-logan-ut-71/
END:VEVENT
BEGIN:VEVENT
DTSTART;TZID=UTC:20230929T173000
DTEND;TZID=UTC:20230929T210000
DTSTAMP:20260421T093539
CREATED:20230607T030550Z
LAST-MODIFIED:20230607T030550Z
UID:1130-1696008600-1696021200@mikechristiansen.com
SUMMARY:Solo Guitar at Le Nonne Restaurant/Logan Ut
DESCRIPTION:
URL:https://mikechristiansen.com/event/solo-guitar-at-le-nonne-restaurant-logan-ut-70/
END:VEVENT
BEGIN:VEVENT
DTSTART;TZID=UTC:20230923T173000
DTEND;TZID=UTC:20230923T210000
DTSTAMP:20260421T093539
CREATED:20230607T030455Z
LAST-MODIFIED:20230607T030455Z
UID:1128-1695490200-1695502800@mikechristiansen.com
SUMMARY:Solo Guitar at Le Nonne Restaurant/Logan UT
DESCRIPTION:
URL:https://mikechristiansen.com/event/solo-guitar-at-le-nonne-restaurant-logan-ut-69/
END:VEVENT
BEGIN:VEVENT
DTSTART;TZID=UTC:20230922T173000
DTEND;TZID=UTC:20230922T210000
DTSTAMP:20260421T093539
CREATED:20230607T030402Z
LAST-MODIFIED:20230607T030402Z
UID:1126-1695403800-1695416400@mikechristiansen.com
SUMMARY:Solo Guitar at Le Nonne Restaurant/Logan\,UT
DESCRIPTION:
URL:https://mikechristiansen.com/event/solo-guitar-at-le-nonne-restaurant-loganut-17/
END:VEVENT
BEGIN:VEVENT
DTSTART;TZID=UTC:20230916T173000
DTEND;TZID=UTC:20230916T210000
DTSTAMP:20260421T093539
CREATED:20230607T030016Z
LAST-MODIFIED:20230607T030016Z
UID:1124-1694885400-1694898000@mikechristiansen.com
SUMMARY:Solo Guitar at Le Nonne Restaurant/Logan\,UT
DESCRIPTION:
URL:https://mikechristiansen.com/event/solo-guitar-at-le-nonne-restaurant-loganut-16/
END:VEVENT
BEGIN:VEVENT
DTSTART;TZID=UTC:20230915T173000
DTEND;TZID=UTC:20230915T210000
DTSTAMP:20260421T093539
CREATED:20230607T025931Z
LAST-MODIFIED:20230607T025931Z
UID:1122-1694799000-1694811600@mikechristiansen.com
SUMMARY:Solo Guitar at Le Nonne Restaurant/Logan\,UT
DESCRIPTION:
URL:https://mikechristiansen.com/event/solo-guitar-at-le-nonne-restaurant-loganut-15/
END:VEVENT
BEGIN:VEVENT
DTSTART;TZID=UTC:20230909T160000
DTEND;TZID=UTC:20230909T190000
DTSTAMP:20260421T093539
CREATED:20230607T025611Z
LAST-MODIFIED:20230607T025611Z
UID:1118-1694275200-1694286000@mikechristiansen.com
SUMMARY:Solo Guitar Private Wedding/Tag Ranch/Park City\, UT
DESCRIPTION:
URL:https://mikechristiansen.com/event/solo-guitar-private-wedding-tag-ranch-park-city-ut/
END:VEVENT
BEGIN:VEVENT
DTSTART;TZID=UTC:20230908T173000
DTEND;TZID=UTC:20230908T210000
DTSTAMP:20260421T093539
CREATED:20230607T025235Z
LAST-MODIFIED:20230607T025235Z
UID:1116-1694194200-1694206800@mikechristiansen.com
SUMMARY:Solo Guitar at Le Nonne Restaurant/Logan\,UT
DESCRIPTION:
URL:https://mikechristiansen.com/event/solo-guitar-at-le-nonne-restaurant-loganut-14/
END:VEVENT
END:VCALENDAR