BEGIN:VCALENDAR
VERSION:2.0
PRODID:-//Mike Christiansen - ECPv6.14.0//NONSGML v1.0//EN
CALSCALE:GREGORIAN
METHOD:PUBLISH
X-WR-CALNAME:Mike Christiansen
X-ORIGINAL-URL:https://mikechristiansen.com
X-WR-CALDESC:Events for Mike Christiansen
REFRESH-INTERVAL;VALUE=DURATION:PT1H
X-Robots-Tag:noindex
X-PUBLISHED-TTL:PT1H
BEGIN:VTIMEZONE
TZID:UTC
BEGIN:STANDARD
TZOFFSETFROM:+0000
TZOFFSETTO:+0000
TZNAME:UTC
DTSTART:20230101T000000
END:STANDARD
END:VTIMEZONE
BEGIN:VEVENT
DTSTART;TZID=UTC:20230804T173000
DTEND;TZID=UTC:20230804T210000
DTSTAMP:20260421T120039
CREATED:20230607T022602Z
LAST-MODIFIED:20230607T022602Z
UID:1092-1691170200-1691182800@mikechristiansen.com
SUMMARY:Solo Guitar at Le Nonne Restaurant/Logan UT
DESCRIPTION:
URL:https://mikechristiansen.com/event/solo-guitar-at-le-nonne-restaurant-logan-ut-67/
END:VEVENT
BEGIN:VEVENT
DTSTART;TZID=UTC:20230729T173000
DTEND;TZID=UTC:20230729T210000
DTSTAMP:20260421T120039
CREATED:20230607T021943Z
LAST-MODIFIED:20230607T021943Z
UID:1090-1690651800-1690664400@mikechristiansen.com
SUMMARY:Solo Guitar at Le Nonne Restaurant/Logan UT
DESCRIPTION:
URL:https://mikechristiansen.com/event/solo-guitar-at-le-nonne-restaurant-logan-ut-66/
END:VEVENT
BEGIN:VEVENT
DTSTART;TZID=UTC:20230729T130000
DTEND;TZID=UTC:20230729T150000
DTSTAMP:20260421T120039
CREATED:20230607T021847Z
LAST-MODIFIED:20230607T021847Z
UID:1088-1690635600-1690642800@mikechristiansen.com
SUMMARY:Solo Guitar for Funeral/Logan\,UT
DESCRIPTION:
URL:https://mikechristiansen.com/event/solo-guitar-for-funeral-loganut/
END:VEVENT
BEGIN:VEVENT
DTSTART;TZID=UTC:20230728T173000
DTEND;TZID=UTC:20230728T203000
DTSTAMP:20260421T120039
CREATED:20230607T021748Z
LAST-MODIFIED:20230607T021748Z
UID:1086-1690565400-1690576200@mikechristiansen.com
SUMMARY:Solo Guitar at Le Nonne Restaurant/Logan\,UT
DESCRIPTION:
URL:https://mikechristiansen.com/event/solo-guitar-at-le-nonne-restaurant-loganut-9/
END:VEVENT
BEGIN:VEVENT
DTSTART;TZID=UTC:20230722T173000
DTEND;TZID=UTC:20230722T213000
DTSTAMP:20260421T120039
CREATED:20230607T021646Z
LAST-MODIFIED:20230607T021646Z
UID:1084-1690047000-1690061400@mikechristiansen.com
SUMMARY:Solo Guitar at Le Nonne Restaurant/Logan UT
DESCRIPTION:
URL:https://mikechristiansen.com/event/solo-guitar-at-le-nonne-restaurant-logan-ut-65/
END:VEVENT
BEGIN:VEVENT
DTSTART;TZID=UTC:20230721T173000
DTEND;TZID=UTC:20230721T210000
DTSTAMP:20260421T120039
CREATED:20230607T021538Z
LAST-MODIFIED:20230607T021538Z
UID:1082-1689960600-1689973200@mikechristiansen.com
SUMMARY:Solo Guitar at Le Nonne Restaurant/Logan\,UT
DESCRIPTION:
URL:https://mikechristiansen.com/event/solo-guitar-at-le-nonne-restaurant-loganut-8/
END:VEVENT
BEGIN:VEVENT
DTSTART;TZID=UTC:20230715T173000
DTEND;TZID=UTC:20230715T210000
DTSTAMP:20260421T120039
CREATED:20230607T021425Z
LAST-MODIFIED:20230607T021425Z
UID:1080-1689442200-1689454800@mikechristiansen.com
SUMMARY:Solo Guitar at Le Nonne Restaurant/Logan\,UT
DESCRIPTION:
URL:https://mikechristiansen.com/event/solo-guitar-at-le-nonne-restaurant-loganut-7/
END:VEVENT
BEGIN:VEVENT
DTSTART;TZID=UTC:20230714T173000
DTEND;TZID=UTC:20230714T210000
DTSTAMP:20260421T120039
CREATED:20230607T021323Z
LAST-MODIFIED:20230607T021323Z
UID:1078-1689355800-1689368400@mikechristiansen.com
SUMMARY:Solo Guitar at Le Nonne Restaurant/Logan\,UT
DESCRIPTION:
URL:https://mikechristiansen.com/event/solo-guitar-at-le-nonne-restaurant-loganut-6/
END:VEVENT
BEGIN:VEVENT
DTSTART;TZID=UTC:20230708T173000
DTEND;TZID=UTC:20230708T210000
DTSTAMP:20260421T120039
CREATED:20230607T021236Z
LAST-MODIFIED:20230607T021236Z
UID:1076-1688837400-1688850000@mikechristiansen.com
SUMMARY:Solo Guitar at Le Nonne Restaurant/Logan\, UT
DESCRIPTION:
URL:https://mikechristiansen.com/event/solo-guitar-at-le-nonne-restaurant-logan-ut-64/
END:VEVENT
BEGIN:VEVENT
DTSTART;TZID=UTC:20230707T173000
DTEND;TZID=UTC:20230707T210000
DTSTAMP:20260421T120039
CREATED:20230607T021105Z
LAST-MODIFIED:20230607T021105Z
UID:1074-1688751000-1688763600@mikechristiansen.com
SUMMARY:Solo Guitar at Le Nonne Restaurant/Logan\,UT
DESCRIPTION:
URL:https://mikechristiansen.com/event/solo-guitar-at-le-nonne-restaurant-loganut-5/
END:VEVENT
BEGIN:VEVENT
DTSTART;TZID=UTC:20230701T170000
DTEND;TZID=UTC:20230701T210000
DTSTAMP:20260421T120039
CREATED:20230607T020935Z
LAST-MODIFIED:20230607T020935Z
UID:1072-1688230800-1688245200@mikechristiansen.com
SUMMARY:Solo Guitar and with Mirage at Private Wedding/Millville\, UT
DESCRIPTION:
URL:https://mikechristiansen.com/event/solo-guitar-and-with-mirage-at-private-wedding-millville-ut/
END:VEVENT
BEGIN:VEVENT
DTSTART;TZID=UTC:20230624T173000
DTEND;TZID=UTC:20230624T210000
DTSTAMP:20260421T120039
CREATED:20230607T020441Z
LAST-MODIFIED:20230607T020441Z
UID:1068-1687627800-1687640400@mikechristiansen.com
SUMMARY:Solo Guitar at Le Nonne Restaurant/Logan\, UT
DESCRIPTION:
URL:https://mikechristiansen.com/event/solo-guitar-at-le-nonne-restaurant-logan-ut-63/
END:VEVENT
BEGIN:VEVENT
DTSTART;TZID=UTC:20230624T170000
DTEND;TZID=UTC:20230624T210000
DTSTAMP:20260421T120039
CREATED:20230607T020323Z
LAST-MODIFIED:20230607T020323Z
UID:1066-1687626000-1687640400@mikechristiansen.com
SUMMARY:Solo Guitar at Private Wedding @ Vineyards\, Hyde Park UT
DESCRIPTION:
URL:https://mikechristiansen.com/event/solo-guitar-at-private-wedding-vineyards-hyde-park-ut/
END:VEVENT
BEGIN:VEVENT
DTSTART;TZID=UTC:20230623T173000
DTEND;TZID=UTC:20230623T210000
DTSTAMP:20260421T120039
CREATED:20230607T020205Z
LAST-MODIFIED:20230607T020205Z
UID:1064-1687541400-1687554000@mikechristiansen.com
SUMMARY:Solo Guitar at Le Nonne Restaurant/Logan\,UT
DESCRIPTION:
URL:https://mikechristiansen.com/event/solo-guitar-at-le-nonne-restaurant-loganut-4/
END:VEVENT
BEGIN:VEVENT
DTSTART;TZID=UTC:20230623T153000
DTEND;TZID=UTC:20230623T163000
DTSTAMP:20260421T120039
CREATED:20230607T020113Z
LAST-MODIFIED:20230607T020113Z
UID:1062-1687534200-1687537800@mikechristiansen.com
SUMMARY:Solo Guitar at Private Wedding/Smithfield/UT
DESCRIPTION:
URL:https://mikechristiansen.com/event/solo-guitar-at-private-wedding-smithfield-ut/
END:VEVENT
BEGIN:VEVENT
DTSTART;TZID=UTC:20230617T173000
DTEND;TZID=UTC:20230617T210000
DTSTAMP:20260421T120039
CREATED:20230607T015748Z
LAST-MODIFIED:20230607T015748Z
UID:1060-1687023000-1687035600@mikechristiansen.com
SUMMARY:Solo Guitar at Le Nonne Restaurant/Logan UT
DESCRIPTION:
URL:https://mikechristiansen.com/event/solo-guitar-at-le-nonne-restaurant-logan-ut-62/
END:VEVENT
BEGIN:VEVENT
DTSTART;TZID=UTC:20230616T173000
DTEND;TZID=UTC:20230616T210000
DTSTAMP:20260421T120039
CREATED:20230607T015637Z
LAST-MODIFIED:20230607T015637Z
UID:1058-1686936600-1686949200@mikechristiansen.com
SUMMARY:Solo Guitar at Le Nonne Restaurant/Logan\,UT
DESCRIPTION:
URL:https://mikechristiansen.com/event/solo-guitar-at-le-nonne-restaurant-loganut-3/
END:VEVENT
BEGIN:VEVENT
DTSTART;TZID=UTC:20230615T160000
DTEND;TZID=UTC:20230615T193000
DTSTAMP:20260421T120039
CREATED:20230607T015526Z
LAST-MODIFIED:20230607T015526Z
UID:1056-1686844800-1686857400@mikechristiansen.com
SUMMARY:Solo Guitar at President's Farewell Reception/Logan\,UT
DESCRIPTION:
URL:https://mikechristiansen.com/event/solo-guitar-at-presidents-farewell-reception-loganut/
END:VEVENT
BEGIN:VEVENT
DTSTART;TZID=UTC:20230610T173000
DTEND;TZID=UTC:20230610T210000
DTSTAMP:20260421T120039
CREATED:20230607T015409Z
LAST-MODIFIED:20230607T015409Z
UID:1054-1686418200-1686430800@mikechristiansen.com
SUMMARY:Solo Guitar at Le Nonne Restaurant/Logan\, UT
DESCRIPTION:
URL:https://mikechristiansen.com/event/solo-guitar-at-le-nonne-restaurant-logan-ut-61/
END:VEVENT
BEGIN:VEVENT
DTSTART;TZID=UTC:20230609T173000
DTEND;TZID=UTC:20230609T210000
DTSTAMP:20260421T120039
CREATED:20230607T015300Z
LAST-MODIFIED:20230607T015300Z
UID:1052-1686331800-1686344400@mikechristiansen.com
SUMMARY:Solo Guitar at Le Nonne Restaurant/Logan\,Ut
DESCRIPTION:
URL:https://mikechristiansen.com/event/solo-guitar-at-le-nonne-restaurant-loganut-2/
END:VEVENT
BEGIN:VEVENT
DTSTART;TZID=UTC:20230331T163000
DTEND;TZID=UTC:20230331T210000
DTSTAMP:20260421T120039
CREATED:20230131T235104Z
LAST-MODIFIED:20230131T235104Z
UID:1030-1680280200-1680296400@mikechristiansen.com
SUMMARY:Solo Guitar at Le Nonne Restaurant-Logan\, UT
DESCRIPTION:
URL:https://mikechristiansen.com/event/solo-guitar-at-le-nonne-restaurant-logan-ut-60/
END:VEVENT
BEGIN:VEVENT
DTSTART;TZID=UTC:20230325T173000
DTEND;TZID=UTC:20230325T210000
DTSTAMP:20260421T120039
CREATED:20230131T235004Z
LAST-MODIFIED:20230131T235004Z
UID:1028-1679765400-1679778000@mikechristiansen.com
SUMMARY:Solo Guitar at Le Nonne Restaurant-Logan\, UT
DESCRIPTION:
URL:https://mikechristiansen.com/event/solo-guitar-at-le-nonne-restaurant-logan-ut-59/
END:VEVENT
BEGIN:VEVENT
DTSTART;TZID=UTC:20230324T173000
DTEND;TZID=UTC:20230324T210000
DTSTAMP:20260421T120039
CREATED:20230131T234904Z
LAST-MODIFIED:20230131T234904Z
UID:1026-1679679000-1679691600@mikechristiansen.com
SUMMARY:Solo Guitar at Le Nonne Restaurant-Logan\, UT
DESCRIPTION:
URL:https://mikechristiansen.com/event/solo-guitar-at-le-nonne-restaurant-logan-ut-58/
END:VEVENT
BEGIN:VEVENT
DTSTART;TZID=UTC:20230318T173000
DTEND;TZID=UTC:20230318T210000
DTSTAMP:20260421T120039
CREATED:20230131T234739Z
LAST-MODIFIED:20230131T234739Z
UID:1024-1679160600-1679173200@mikechristiansen.com
SUMMARY:Solo Guitar at Le Nonne Restaurant-Logan\, UT
DESCRIPTION:
URL:https://mikechristiansen.com/event/solo-guitar-at-le-nonne-restaurant-logan-ut-57/
END:VEVENT
BEGIN:VEVENT
DTSTART;TZID=UTC:20230317T173000
DTEND;TZID=UTC:20230317T210000
DTSTAMP:20260421T120039
CREATED:20230131T234645Z
LAST-MODIFIED:20230131T234645Z
UID:1022-1679074200-1679086800@mikechristiansen.com
SUMMARY:Solo Guitar at Le Nonne Restaurant-Logan\, UT
DESCRIPTION:
URL:https://mikechristiansen.com/event/solo-guitar-at-le-nonne-restaurant-logan-ut-56/
END:VEVENT
BEGIN:VEVENT
DTSTART;TZID=UTC:20230311T173000
DTEND;TZID=UTC:20230311T210000
DTSTAMP:20260421T120039
CREATED:20230131T234537Z
LAST-MODIFIED:20230131T234537Z
UID:1020-1678555800-1678568400@mikechristiansen.com
SUMMARY:Solo Guitar at Le Nonne Restaurant-Logan\, UT
DESCRIPTION:
URL:https://mikechristiansen.com/event/solo-guitar-at-le-nonne-restaurant-logan-ut-55/
END:VEVENT
BEGIN:VEVENT
DTSTART;TZID=UTC:20230310T173000
DTEND;TZID=UTC:20230310T210000
DTSTAMP:20260421T120039
CREATED:20230131T234439Z
LAST-MODIFIED:20230131T234439Z
UID:1018-1678469400-1678482000@mikechristiansen.com
SUMMARY:Solo Guitar at Le Nonne Restaurant-Logan\, UT
DESCRIPTION:
URL:https://mikechristiansen.com/event/solo-guitar-at-le-nonne-restaurant-logan-ut-54/
END:VEVENT
BEGIN:VEVENT
DTSTART;TZID=UTC:20230304T080000
DTEND;TZID=UTC:20230304T170000
DTSTAMP:20260421T120039
CREATED:20230131T234306Z
LAST-MODIFIED:20230131T234306Z
UID:1016-1677916800-1677949200@mikechristiansen.com
SUMMARY:Clinic at MDMEA-Baltimore MD
DESCRIPTION:
URL:https://mikechristiansen.com/event/clinic-at-mdmea-baltimore-md/
END:VEVENT
BEGIN:VEVENT
DTSTART;TZID=UTC:20230303T080000
DTEND;TZID=UTC:20230303T170000
DTSTAMP:20260421T120039
CREATED:20230131T234209Z
LAST-MODIFIED:20230131T234209Z
UID:1014-1677830400-1677862800@mikechristiansen.com
SUMMARY:Clinic at MDMEA
DESCRIPTION:
URL:https://mikechristiansen.com/event/clinic-at-mdmea/
END:VEVENT
BEGIN:VEVENT
DTSTART;TZID=UTC:20230225T163000
DTEND;TZID=UTC:20230225T210000
DTSTAMP:20260421T120039
CREATED:20230131T234039Z
LAST-MODIFIED:20230131T234039Z
UID:1011-1677342600-1677358800@mikechristiansen.com
SUMMARY:Solo Guitar at Le Nonne Restaurant\, Logan\, UT
DESCRIPTION:
URL:https://mikechristiansen.com/event/solo-guitar-at-le-nonne-restaurant-logan-ut-53/
END:VEVENT
END:VCALENDAR