BEGIN:VCALENDAR
VERSION:2.0
PRODID:-//Mike Christiansen - ECPv6.14.0//NONSGML v1.0//EN
CALSCALE:GREGORIAN
METHOD:PUBLISH
X-WR-CALNAME:Mike Christiansen
X-ORIGINAL-URL:https://mikechristiansen.com
X-WR-CALDESC:Events for Mike Christiansen
REFRESH-INTERVAL;VALUE=DURATION:PT1H
X-Robots-Tag:noindex
X-PUBLISHED-TTL:PT1H
BEGIN:VTIMEZONE
TZID:UTC
BEGIN:STANDARD
TZOFFSETFROM:+0000
TZOFFSETTO:+0000
TZNAME:UTC
DTSTART:20220101T000000
END:STANDARD
END:VTIMEZONE
BEGIN:VEVENT
DTSTART;TZID=UTC:20221105T173000
DTEND;TZID=UTC:20221105T210000
DTSTAMP:20260421T191432
CREATED:20220930T220534Z
LAST-MODIFIED:20220930T220534Z
UID:941-1667669400-1667682000@mikechristiansen.com
SUMMARY:Solo Guitar at Le Nonne Restaurant Logan\, UT
DESCRIPTION:
URL:https://mikechristiansen.com/event/solo-guitar-at-le-nonne-restaurant-logan-ut-32/
END:VEVENT
BEGIN:VEVENT
DTSTART;TZID=UTC:20221104T173000
DTEND;TZID=UTC:20221104T210000
DTSTAMP:20260421T191432
CREATED:20220930T220436Z
LAST-MODIFIED:20220930T220436Z
UID:939-1667583000-1667595600@mikechristiansen.com
SUMMARY:Solo Guitar at Le Nonne Restaurant Logan\, Ut
DESCRIPTION:
URL:https://mikechristiansen.com/event/solo-guitar-at-le-nonne-restaurant-logan-ut-31/
END:VEVENT
BEGIN:VEVENT
DTSTART;TZID=UTC:20221029T173000
DTEND;TZID=UTC:20221029T210000
DTSTAMP:20260421T191432
CREATED:20220930T215511Z
LAST-MODIFIED:20220930T215511Z
UID:937-1667064600-1667077200@mikechristiansen.com
SUMMARY:Solo Guitar at Le Nonne Restaurant Logan\, UT
DESCRIPTION:
URL:https://mikechristiansen.com/event/solo-guitar-at-le-nonne-restaurant-logan-ut-30/
END:VEVENT
BEGIN:VEVENT
DTSTART;TZID=UTC:20221028T173000
DTEND;TZID=UTC:20221028T210000
DTSTAMP:20260421T191432
CREATED:20220930T215406Z
LAST-MODIFIED:20220930T215406Z
UID:935-1666978200-1666990800@mikechristiansen.com
SUMMARY:Solo Guitar at Le Nonne Restaurant Logan\, UT
DESCRIPTION:
URL:https://mikechristiansen.com/event/solo-guitar-at-le-nonne-restaurant-logan-ut-29/
END:VEVENT
BEGIN:VEVENT
DTSTART;TZID=UTC:20221026T190000
DTEND;TZID=UTC:20221026T210000
DTSTAMP:20260421T191432
CREATED:20221021T005426Z
LAST-MODIFIED:20221021T005426Z
UID:986-1666810800-1666818000@mikechristiansen.com
SUMMARY:With Jazz Quartet @ The Cache\, Logan UT
DESCRIPTION:
URL:https://mikechristiansen.com/event/with-jazz-quartet-the-cache-logan-ut/
END:VEVENT
BEGIN:VEVENT
DTSTART;TZID=UTC:20221024T180000
DTEND;TZID=UTC:20221024T200000
DTSTAMP:20260421T191432
CREATED:20221021T005044Z
LAST-MODIFIED:20221021T005044Z
UID:978-1666634400-1666641600@mikechristiansen.com
SUMMARY:With Jack Quintet @ Jack's Pizza. Logan UT
DESCRIPTION:
URL:https://mikechristiansen.com/event/with-jack-quintet-jacks-pizza-logan-ut/
END:VEVENT
BEGIN:VEVENT
DTSTART;TZID=UTC:20221022T173000
DTEND;TZID=UTC:20221022T210000
DTSTAMP:20260421T191432
CREATED:20220930T215247Z
LAST-MODIFIED:20220930T215247Z
UID:933-1666459800-1666472400@mikechristiansen.com
SUMMARY:Solo Guitar at Le Nonne Restaurant\, Logan\, UT
DESCRIPTION:
URL:https://mikechristiansen.com/event/solo-guitar-at-le-nonne-restaurant-logan-ut-28/
END:VEVENT
BEGIN:VEVENT
DTSTART;TZID=UTC:20221021T173000
DTEND;TZID=UTC:20221021T210000
DTSTAMP:20260421T191432
CREATED:20220930T215139Z
LAST-MODIFIED:20220930T215139Z
UID:931-1666373400-1666386000@mikechristiansen.com
SUMMARY:Solo Guitar at Le Nonne Restuarant Logan\, UT
DESCRIPTION:
URL:https://mikechristiansen.com/event/solo-guitar-at-le-nonne-restuarant-logan-ut/
END:VEVENT
BEGIN:VEVENT
DTSTART;TZID=UTC:20221015T173000
DTEND;TZID=UTC:20221015T210000
DTSTAMP:20260421T191432
CREATED:20220930T215030Z
LAST-MODIFIED:20220930T215030Z
UID:929-1665855000-1665867600@mikechristiansen.com
SUMMARY:Solo Guitar at Le Nonne Restaurant Logan\, UT
DESCRIPTION:
URL:https://mikechristiansen.com/event/solo-guitar-at-le-nonne-restaurant-logan-ut-27/
END:VEVENT
BEGIN:VEVENT
DTSTART;TZID=UTC:20221014T173000
DTEND;TZID=UTC:20221014T210000
DTSTAMP:20260421T191432
CREATED:20220930T214809Z
LAST-MODIFIED:20220930T214809Z
UID:925-1665768600-1665781200@mikechristiansen.com
SUMMARY:Solo Guitar at Le Nonne Restaurant Logan\, UT
DESCRIPTION:
URL:https://mikechristiansen.com/event/solo-guitar-at-le-nonne-restaurant-logan-ut-26/
END:VEVENT
BEGIN:VEVENT
DTSTART;TZID=UTC:20221011T180000
DTEND;TZID=UTC:20221011T210000
DTSTAMP:20260421T191432
CREATED:20220930T214656Z
LAST-MODIFIED:20220930T214656Z
UID:923-1665511200-1665522000@mikechristiansen.com
SUMMARY:With Lightwood Duo Haight Alumni Center/USU Retirement Dinner
DESCRIPTION:
URL:https://mikechristiansen.com/event/with-lightwood-duo-haight-alumni-center-usu-retirement-dinner/
END:VEVENT
BEGIN:VEVENT
DTSTART;TZID=UTC:20221010T180000
DTEND;TZID=UTC:20221010T200000
DTSTAMP:20260421T191432
CREATED:20220930T214933Z
LAST-MODIFIED:20220930T214933Z
UID:927-1665424800-1665432000@mikechristiansen.com
SUMMARY:With Jazz Quintet at Jack's Pizza\, Logan\, UT
DESCRIPTION:
URL:https://mikechristiansen.com/event/with-jazz-quintet-at-jacks-pizza-logan-ut/
END:VEVENT
BEGIN:VEVENT
DTSTART;TZID=UTC:20221008T173000
DTEND;TZID=UTC:20221008T210000
DTSTAMP:20260421T191432
CREATED:20220930T214533Z
LAST-MODIFIED:20220930T214533Z
UID:921-1665250200-1665262800@mikechristiansen.com
SUMMARY:Solo Guitar at Le Nonne Restaurant Logan\, UT
DESCRIPTION:
URL:https://mikechristiansen.com/event/solo-guitar-at-le-nonne-restaurant-logan-ut-25/
END:VEVENT
BEGIN:VEVENT
DTSTART;TZID=UTC:20221007T173000
DTEND;TZID=UTC:20221007T210000
DTSTAMP:20260421T191432
CREATED:20220930T214426Z
LAST-MODIFIED:20220930T214426Z
UID:919-1665163800-1665176400@mikechristiansen.com
SUMMARY:Solo Guitar at Le Nonne Restaurant Logan\, UT
DESCRIPTION:
URL:https://mikechristiansen.com/event/solo-guitar-at-le-nonne-restaurant-logan-ut-24/
END:VEVENT
BEGIN:VEVENT
DTSTART;TZID=UTC:20221001T173000
DTEND;TZID=UTC:20221001T210000
DTSTAMP:20260421T191432
CREATED:20220930T214315Z
LAST-MODIFIED:20220930T214315Z
UID:917-1664645400-1664658000@mikechristiansen.com
SUMMARY:Solo Guitar at Le Nonne Restaurant Logan\, UT
DESCRIPTION:
URL:https://mikechristiansen.com/event/solo-guitar-at-le-nonne-restaurant-logan-ut-23/
END:VEVENT
BEGIN:VEVENT
DTSTART;TZID=UTC:20220930T173000
DTEND;TZID=UTC:20220930T210000
DTSTAMP:20260421T191432
CREATED:20220930T214010Z
LAST-MODIFIED:20220930T214010Z
UID:915-1664559000-1664571600@mikechristiansen.com
SUMMARY:Solo Guitar at Le Nonne Restaurant
DESCRIPTION:
URL:https://mikechristiansen.com/event/solo-guitar-at-le-nonne-restaurant-6/
END:VEVENT
BEGIN:VEVENT
DTSTART;TZID=UTC:20220827T180000
DTEND;TZID=UTC:20220827T220000
DTSTAMP:20260421T191432
CREATED:20220625T020600Z
LAST-MODIFIED:20220625T020600Z
UID:904-1661623200-1661637600@mikechristiansen.com
SUMMARY:With Lightwood Duo-Private Event-Logan Chamber Music Society-Logan
DESCRIPTION:
URL:https://mikechristiansen.com/event/with-lightwood-duo-private-event-logan-chamber-music-society-logan/
END:VEVENT
BEGIN:VEVENT
DTSTART;TZID=UTC:20220826T173000
DTEND;TZID=UTC:20220826T210000
DTSTAMP:20260421T191432
CREATED:20220625T021011Z
LAST-MODIFIED:20220625T021011Z
UID:910-1661535000-1661547600@mikechristiansen.com
SUMMARY:Solo Guitar at Le Nonne Restaurant-Logan
DESCRIPTION:
URL:https://mikechristiansen.com/event/solo-guitar-at-le-nonne-restaurant-logan-43/
END:VEVENT
BEGIN:VEVENT
DTSTART;TZID=UTC:20220820T173000
DTEND;TZID=UTC:20220820T210000
DTSTAMP:20260421T191432
CREATED:20220625T020314Z
LAST-MODIFIED:20220625T020314Z
UID:902-1661016600-1661029200@mikechristiansen.com
SUMMARY:Solo Guitar at Le Nonne restaurant-Logan
DESCRIPTION:
URL:https://mikechristiansen.com/event/solo-guitar-at-le-nonne-restaurant-logan-40/
END:VEVENT
BEGIN:VEVENT
DTSTART;TZID=UTC:20220819T173000
DTEND;TZID=UTC:20220819T210000
DTSTAMP:20260421T191432
CREATED:20220625T020156Z
LAST-MODIFIED:20220625T020156Z
UID:900-1660930200-1660942800@mikechristiansen.com
SUMMARY:Solo Guitar at Le Nonne Restaurant-Logan
DESCRIPTION:
URL:https://mikechristiansen.com/event/solo-guitar-at-le-nonne-restaurant-logan-39/
END:VEVENT
BEGIN:VEVENT
DTSTART;TZID=UTC:20220817T180000
DTEND;TZID=UTC:20220817T210000
DTSTAMP:20260421T191432
CREATED:20220625T020052Z
LAST-MODIFIED:20220625T020052Z
UID:898-1660759200-1660770000@mikechristiansen.com
SUMMARY:With Lightwood Duo-Private Event-Logan
DESCRIPTION:
URL:https://mikechristiansen.com/event/with-lightwood-duo-private-event-logan-2/
END:VEVENT
BEGIN:VEVENT
DTSTART;TZID=UTC:20220815T180000
DTEND;TZID=UTC:20220815T210000
DTSTAMP:20260421T191432
CREATED:20220625T015951Z
LAST-MODIFIED:20220625T015951Z
UID:896-1660586400-1660597200@mikechristiansen.com
SUMMARY:With Lightwood Duo-Private Event-Logan
DESCRIPTION:
URL:https://mikechristiansen.com/event/with-lightwood-duo-private-event-logan/
END:VEVENT
BEGIN:VEVENT
DTSTART;TZID=UTC:20220813T173000
DTEND;TZID=UTC:20220813T210000
DTSTAMP:20260421T191432
CREATED:20220625T020656Z
LAST-MODIFIED:20220625T020656Z
UID:906-1660411800-1660424400@mikechristiansen.com
SUMMARY:Solo Guitar at Le Nonne Restaurant-Logan
DESCRIPTION:
URL:https://mikechristiansen.com/event/solo-guitar-at-le-nonne-restaurant-logan-41/
END:VEVENT
BEGIN:VEVENT
DTSTART;TZID=UTC:20220813T090000
DTEND;TZID=UTC:20220813T120000
DTSTAMP:20260421T191432
CREATED:20220625T015855Z
LAST-MODIFIED:20220625T015855Z
UID:894-1660381200-1660392000@mikechristiansen.com
SUMMARY:With Lightwood Duo at Farmer's Market-Logan
DESCRIPTION:
URL:https://mikechristiansen.com/event/with-lightwood-duo-at-farmers-market-logan/
END:VEVENT
BEGIN:VEVENT
DTSTART;TZID=UTC:20220812T173000
DTEND;TZID=UTC:20220812T210000
DTSTAMP:20260421T191432
CREATED:20220625T015449Z
LAST-MODIFIED:20220625T015449Z
UID:889-1660325400-1660338000@mikechristiansen.com
SUMMARY:Solo Guitar at Le Nonne Restaurant-Logan
DESCRIPTION:
URL:https://mikechristiansen.com/event/solo-guitar-at-le-nonne-restaurant-logan-38/
END:VEVENT
BEGIN:VEVENT
DTSTART;TZID=UTC:20220806T173000
DTEND;TZID=UTC:20220806T210000
DTSTAMP:20260421T191432
CREATED:20220625T020912Z
LAST-MODIFIED:20220625T020912Z
UID:908-1659807000-1659819600@mikechristiansen.com
SUMMARY:Solo Guitar at Le Nonne Restaurant-Logan
DESCRIPTION:
URL:https://mikechristiansen.com/event/solo-guitar-at-le-nonne-restaurant-logan-42/
END:VEVENT
BEGIN:VEVENT
DTSTART;TZID=UTC:20220805T173000
DTEND;TZID=UTC:20220805T213000
DTSTAMP:20260421T191432
CREATED:20220625T015402Z
LAST-MODIFIED:20220625T015402Z
UID:887-1659720600-1659735000@mikechristiansen.com
SUMMARY:Solo Guitar at Le Nonne Restaurant-Logan
DESCRIPTION:
URL:https://mikechristiansen.com/event/solo-guitar-at-le-nonne-restaurant-logan-37/
END:VEVENT
BEGIN:VEVENT
DTSTART;TZID=UTC:20220730T193000
DTEND;TZID=UTC:20220730T210000
DTSTAMP:20260421T191432
CREATED:20220625T014313Z
LAST-MODIFIED:20220625T014313Z
UID:885-1659209400-1659214800@mikechristiansen.com
SUMMARY:With The Lightwood Duo-Private Event-Deer Cliff Inn
DESCRIPTION:
URL:https://mikechristiansen.com/event/with-the-lightwood-duo-private-event-deer-cliff-inn/
END:VEVENT
BEGIN:VEVENT
DTSTART;TZID=UTC:20220729T173000
DTEND;TZID=UTC:20220729T210000
DTSTAMP:20260421T191432
CREATED:20220625T014125Z
LAST-MODIFIED:20220625T014125Z
UID:883-1659115800-1659128400@mikechristiansen.com
SUMMARY:Solo Guitar at Le Nonne Restaurant-Logan
DESCRIPTION:
URL:https://mikechristiansen.com/event/solo-guitar-at-le-nonne-restaurant-logan-36/
END:VEVENT
BEGIN:VEVENT
DTSTART;TZID=UTC:20220723T173000
DTEND;TZID=UTC:20220723T210000
DTSTAMP:20260421T191432
CREATED:20220625T014021Z
LAST-MODIFIED:20220625T014021Z
UID:881-1658597400-1658610000@mikechristiansen.com
SUMMARY:Solo Guitar at Le Nonne Restaurant-Logan
DESCRIPTION:
URL:https://mikechristiansen.com/event/solo-guitar-at-le-nonne-restaurant-logan-35/
END:VEVENT
END:VCALENDAR