BEGIN:VCALENDAR
VERSION:2.0
PRODID:-//Mike Christiansen - ECPv6.14.0//NONSGML v1.0//EN
CALSCALE:GREGORIAN
METHOD:PUBLISH
X-WR-CALNAME:Mike Christiansen
X-ORIGINAL-URL:https://mikechristiansen.com
X-WR-CALDESC:Events for Mike Christiansen
REFRESH-INTERVAL;VALUE=DURATION:PT1H
X-Robots-Tag:noindex
X-PUBLISHED-TTL:PT1H
BEGIN:VTIMEZONE
TZID:UTC
BEGIN:STANDARD
TZOFFSETFROM:+0000
TZOFFSETTO:+0000
TZNAME:UTC
DTSTART:20220101T000000
END:STANDARD
END:VTIMEZONE
BEGIN:VEVENT
DTSTART;TZID=UTC:20221231T173000
DTEND;TZID=UTC:20221231T210000
DTSTAMP:20260421T164517
CREATED:20220930T222745Z
LAST-MODIFIED:20220930T222745Z
UID:973-1672507800-1672520400@mikechristiansen.com
SUMMARY:Solo Guitar at Le Nonne Restaurant Logan\, UT
DESCRIPTION:
URL:https://mikechristiansen.com/event/solo-guitar-at-le-nonne-restaurant-logan-ut-46/
END:VEVENT
BEGIN:VEVENT
DTSTART;TZID=UTC:20221230T173000
DTEND;TZID=UTC:20221230T210000
DTSTAMP:20260421T164517
CREATED:20220930T222642Z
LAST-MODIFIED:20220930T222642Z
UID:971-1672421400-1672434000@mikechristiansen.com
SUMMARY:Solo Guitar at Le Nonne Restaurant Logan\, UT
DESCRIPTION:
URL:https://mikechristiansen.com/event/solo-guitar-at-le-nonne-restaurant-logan-ut-45/
END:VEVENT
BEGIN:VEVENT
DTSTART;TZID=UTC:20221224T070000
DTEND;TZID=UTC:20221224T150000
DTSTAMP:20260421T164517
CREATED:20220930T222553Z
LAST-MODIFIED:20220930T222553Z
UID:969-1671865200-1671894000@mikechristiansen.com
SUMMARY:With Lightwood Duo\, SLC Airport (by security)
DESCRIPTION:
URL:https://mikechristiansen.com/event/with-lightwood-duo-slc-airport-by-security-2/
END:VEVENT
BEGIN:VEVENT
DTSTART;TZID=UTC:20221223T173000
DTEND;TZID=UTC:20221223T210000
DTSTAMP:20260421T164517
CREATED:20220930T222409Z
LAST-MODIFIED:20220930T222409Z
UID:967-1671816600-1671829200@mikechristiansen.com
SUMMARY:Solo Guitar at Le Nonne Restaurant Logan\, UT
DESCRIPTION:
URL:https://mikechristiansen.com/event/solo-guitar-at-le-nonne-restaurant-logan-ut-44/
END:VEVENT
BEGIN:VEVENT
DTSTART;TZID=UTC:20221217T173000
DTEND;TZID=UTC:20221217T210000
DTSTAMP:20260421T164517
CREATED:20220930T222311Z
LAST-MODIFIED:20220930T222311Z
UID:965-1671298200-1671310800@mikechristiansen.com
SUMMARY:Solo Guitar at Le Nonne Restaurant Logan\, UT
DESCRIPTION:
URL:https://mikechristiansen.com/event/solo-guitar-at-le-nonne-restaurant-logan-ut-43/
END:VEVENT
BEGIN:VEVENT
DTSTART;TZID=UTC:20221216T173000
DTEND;TZID=UTC:20221216T210000
DTSTAMP:20260421T164517
CREATED:20220930T222224Z
LAST-MODIFIED:20220930T222224Z
UID:963-1671211800-1671224400@mikechristiansen.com
SUMMARY:Solo Guitar at Le Nonne Restaurant Logan\, UT
DESCRIPTION:
URL:https://mikechristiansen.com/event/solo-guitar-at-le-nonne-restaurant-logan-ut-42/
END:VEVENT
BEGIN:VEVENT
DTSTART;TZID=UTC:20221210T173000
DTEND;TZID=UTC:20221210T210000
DTSTAMP:20260421T164517
CREATED:20220930T222129Z
LAST-MODIFIED:20220930T222129Z
UID:961-1670693400-1670706000@mikechristiansen.com
SUMMARY:Solo Guitar at Le Nonne Restaurant Logan\, UT
DESCRIPTION:
URL:https://mikechristiansen.com/event/solo-guitar-at-le-nonne-restaurant-logan-ut-41/
END:VEVENT
BEGIN:VEVENT
DTSTART;TZID=UTC:20221209T173000
DTEND;TZID=UTC:20221209T210000
DTSTAMP:20260421T164517
CREATED:20220930T222032Z
LAST-MODIFIED:20220930T222032Z
UID:959-1670607000-1670619600@mikechristiansen.com
SUMMARY:Solo Guitar at Le Nonne Restaurant Logan\, UT
DESCRIPTION:
URL:https://mikechristiansen.com/event/solo-guitar-at-le-nonne-restaurant-logan-ut-40/
END:VEVENT
BEGIN:VEVENT
DTSTART;TZID=UTC:20221203T173000
DTEND;TZID=UTC:20221203T210000
DTSTAMP:20260421T164517
CREATED:20220930T221938Z
LAST-MODIFIED:20220930T221938Z
UID:957-1670088600-1670101200@mikechristiansen.com
SUMMARY:Solo Guitar at Le Nonne Restaurant Logan\, UT
DESCRIPTION:
URL:https://mikechristiansen.com/event/solo-guitar-at-le-nonne-restaurant-logan-ut-39/
END:VEVENT
BEGIN:VEVENT
DTSTART;TZID=UTC:20221202T173000
DTEND;TZID=UTC:20221202T210000
DTSTAMP:20260421T164517
CREATED:20220930T221844Z
LAST-MODIFIED:20220930T221844Z
UID:955-1670002200-1670014800@mikechristiansen.com
SUMMARY:Solo Guitar at Le Nonne Restaurant Logan\, Ut
DESCRIPTION:
URL:https://mikechristiansen.com/event/solo-guitar-at-le-nonne-restaurant-logan-ut-38/
END:VEVENT
BEGIN:VEVENT
DTSTART;TZID=UTC:20221128T180000
DTEND;TZID=UTC:20221128T200000
DTSTAMP:20260421T164517
CREATED:20221021T005333Z
LAST-MODIFIED:20221021T005333Z
UID:984-1669658400-1669665600@mikechristiansen.com
SUMMARY:With Jazz Quintet @ Jack's Pizza\, Logan UT
DESCRIPTION:
URL:https://mikechristiansen.com/event/with-jazz-quintet-jacks-pizza-logan-ut-3/
END:VEVENT
BEGIN:VEVENT
DTSTART;TZID=UTC:20221126T173000
DTEND;TZID=UTC:20221126T210000
DTSTAMP:20260421T164517
CREATED:20220930T221249Z
LAST-MODIFIED:20220930T221249Z
UID:953-1669483800-1669496400@mikechristiansen.com
SUMMARY:Solo Guitar at Le Nonne Restaurant Logan\, UT
DESCRIPTION:
URL:https://mikechristiansen.com/event/solo-guitar-at-le-nonne-restaurant-logan-ut-37/
END:VEVENT
BEGIN:VEVENT
DTSTART;TZID=UTC:20221123T073000
DTEND;TZID=UTC:20221123T200000
DTSTAMP:20260421T164517
CREATED:20220930T221022Z
LAST-MODIFIED:20220930T221022Z
UID:951-1669188600-1669233600@mikechristiansen.com
SUMMARY:With Lightwood Duo\, SLC Airport (by Security)
DESCRIPTION:
URL:https://mikechristiansen.com/event/with-lightwood-duo-slc-airport-by-security/
END:VEVENT
BEGIN:VEVENT
DTSTART;TZID=UTC:20221121T180000
DTEND;TZID=UTC:20221121T200000
DTSTAMP:20260421T164517
CREATED:20221021T005244Z
LAST-MODIFIED:20221021T005244Z
UID:982-1669053600-1669060800@mikechristiansen.com
SUMMARY:With Jazz Quintet @ Jack's Pizza\, Logan UT
DESCRIPTION:
URL:https://mikechristiansen.com/event/with-jazz-quintet-jacks-pizza-logan-ut-2/
END:VEVENT
BEGIN:VEVENT
DTSTART;TZID=UTC:20221119T173000
DTEND;TZID=UTC:20221119T210000
DTSTAMP:20260421T164517
CREATED:20220930T220913Z
LAST-MODIFIED:20220930T220913Z
UID:949-1668879000-1668891600@mikechristiansen.com
SUMMARY:Solo Guitar at Le Nonne Restaurant Logan\, UT
DESCRIPTION:
URL:https://mikechristiansen.com/event/solo-guitar-at-le-nonne-restaurant-logan-ut-36/
END:VEVENT
BEGIN:VEVENT
DTSTART;TZID=UTC:20221118T173000
DTEND;TZID=UTC:20221118T210000
DTSTAMP:20260421T164517
CREATED:20220930T220821Z
LAST-MODIFIED:20220930T220821Z
UID:947-1668792600-1668805200@mikechristiansen.com
SUMMARY:Solo Guitar at Le Nonne Restaurant Logan\, Ut
DESCRIPTION:
URL:https://mikechristiansen.com/event/solo-guitar-at-le-nonne-restaurant-logan-ut-35/
END:VEVENT
BEGIN:VEVENT
DTSTART;TZID=UTC:20221112T173000
DTEND;TZID=UTC:20221112T210000
DTSTAMP:20260421T164517
CREATED:20220930T220728Z
LAST-MODIFIED:20220930T220728Z
UID:945-1668274200-1668286800@mikechristiansen.com
SUMMARY:Solo Guitar at Le Nonne Restaurant Logan\, UT
DESCRIPTION:
URL:https://mikechristiansen.com/event/solo-guitar-at-le-nonne-restaurant-logan-ut-34/
END:VEVENT
BEGIN:VEVENT
DTSTART;TZID=UTC:20221111T170000
DTEND;TZID=UTC:20221111T210000
DTSTAMP:20260421T164517
CREATED:20220930T220629Z
LAST-MODIFIED:20220930T220629Z
UID:943-1668186000-1668200400@mikechristiansen.com
SUMMARY:Solo Guitar at Le Nonne Restaurant Logan\, UT
DESCRIPTION:
URL:https://mikechristiansen.com/event/solo-guitar-at-le-nonne-restaurant-logan-ut-33/
END:VEVENT
BEGIN:VEVENT
DTSTART;TZID=UTC:20221109T190000
DTEND;TZID=UTC:20221109T210000
DTSTAMP:20260421T164517
CREATED:20221021T005514Z
LAST-MODIFIED:20221021T005514Z
UID:988-1668020400-1668027600@mikechristiansen.com
SUMMARY:With Jazz Quartet @ The Cache\, Logan UT
DESCRIPTION:
URL:https://mikechristiansen.com/event/with-jazz-quartet-the-cache-logan-ut-2/
END:VEVENT
BEGIN:VEVENT
DTSTART;TZID=UTC:20221107T180000
DTEND;TZID=UTC:20221107T200000
DTSTAMP:20260421T164517
CREATED:20221021T005142Z
LAST-MODIFIED:20221021T005142Z
UID:980-1667844000-1667851200@mikechristiansen.com
SUMMARY:With Jazz Quintet @ Jack's Pizza\, Logan UT
DESCRIPTION:
URL:https://mikechristiansen.com/event/with-jazz-quintet-jacks-pizza-logan-ut/
END:VEVENT
BEGIN:VEVENT
DTSTART;TZID=UTC:20221105T173000
DTEND;TZID=UTC:20221105T210000
DTSTAMP:20260421T164517
CREATED:20220930T220534Z
LAST-MODIFIED:20220930T220534Z
UID:941-1667669400-1667682000@mikechristiansen.com
SUMMARY:Solo Guitar at Le Nonne Restaurant Logan\, UT
DESCRIPTION:
URL:https://mikechristiansen.com/event/solo-guitar-at-le-nonne-restaurant-logan-ut-32/
END:VEVENT
BEGIN:VEVENT
DTSTART;TZID=UTC:20221104T173000
DTEND;TZID=UTC:20221104T210000
DTSTAMP:20260421T164517
CREATED:20220930T220436Z
LAST-MODIFIED:20220930T220436Z
UID:939-1667583000-1667595600@mikechristiansen.com
SUMMARY:Solo Guitar at Le Nonne Restaurant Logan\, Ut
DESCRIPTION:
URL:https://mikechristiansen.com/event/solo-guitar-at-le-nonne-restaurant-logan-ut-31/
END:VEVENT
BEGIN:VEVENT
DTSTART;TZID=UTC:20221029T173000
DTEND;TZID=UTC:20221029T210000
DTSTAMP:20260421T164517
CREATED:20220930T215511Z
LAST-MODIFIED:20220930T215511Z
UID:937-1667064600-1667077200@mikechristiansen.com
SUMMARY:Solo Guitar at Le Nonne Restaurant Logan\, UT
DESCRIPTION:
URL:https://mikechristiansen.com/event/solo-guitar-at-le-nonne-restaurant-logan-ut-30/
END:VEVENT
BEGIN:VEVENT
DTSTART;TZID=UTC:20221028T173000
DTEND;TZID=UTC:20221028T210000
DTSTAMP:20260421T164517
CREATED:20220930T215406Z
LAST-MODIFIED:20220930T215406Z
UID:935-1666978200-1666990800@mikechristiansen.com
SUMMARY:Solo Guitar at Le Nonne Restaurant Logan\, UT
DESCRIPTION:
URL:https://mikechristiansen.com/event/solo-guitar-at-le-nonne-restaurant-logan-ut-29/
END:VEVENT
BEGIN:VEVENT
DTSTART;TZID=UTC:20221026T190000
DTEND;TZID=UTC:20221026T210000
DTSTAMP:20260421T164517
CREATED:20221021T005426Z
LAST-MODIFIED:20221021T005426Z
UID:986-1666810800-1666818000@mikechristiansen.com
SUMMARY:With Jazz Quartet @ The Cache\, Logan UT
DESCRIPTION:
URL:https://mikechristiansen.com/event/with-jazz-quartet-the-cache-logan-ut/
END:VEVENT
BEGIN:VEVENT
DTSTART;TZID=UTC:20221024T180000
DTEND;TZID=UTC:20221024T200000
DTSTAMP:20260421T164517
CREATED:20221021T005044Z
LAST-MODIFIED:20221021T005044Z
UID:978-1666634400-1666641600@mikechristiansen.com
SUMMARY:With Jack Quintet @ Jack's Pizza. Logan UT
DESCRIPTION:
URL:https://mikechristiansen.com/event/with-jack-quintet-jacks-pizza-logan-ut/
END:VEVENT
BEGIN:VEVENT
DTSTART;TZID=UTC:20221022T173000
DTEND;TZID=UTC:20221022T210000
DTSTAMP:20260421T164517
CREATED:20220930T215247Z
LAST-MODIFIED:20220930T215247Z
UID:933-1666459800-1666472400@mikechristiansen.com
SUMMARY:Solo Guitar at Le Nonne Restaurant\, Logan\, UT
DESCRIPTION:
URL:https://mikechristiansen.com/event/solo-guitar-at-le-nonne-restaurant-logan-ut-28/
END:VEVENT
BEGIN:VEVENT
DTSTART;TZID=UTC:20221021T173000
DTEND;TZID=UTC:20221021T210000
DTSTAMP:20260421T164517
CREATED:20220930T215139Z
LAST-MODIFIED:20220930T215139Z
UID:931-1666373400-1666386000@mikechristiansen.com
SUMMARY:Solo Guitar at Le Nonne Restuarant Logan\, UT
DESCRIPTION:
URL:https://mikechristiansen.com/event/solo-guitar-at-le-nonne-restuarant-logan-ut/
END:VEVENT
BEGIN:VEVENT
DTSTART;TZID=UTC:20221015T173000
DTEND;TZID=UTC:20221015T210000
DTSTAMP:20260421T164517
CREATED:20220930T215030Z
LAST-MODIFIED:20220930T215030Z
UID:929-1665855000-1665867600@mikechristiansen.com
SUMMARY:Solo Guitar at Le Nonne Restaurant Logan\, UT
DESCRIPTION:
URL:https://mikechristiansen.com/event/solo-guitar-at-le-nonne-restaurant-logan-ut-27/
END:VEVENT
BEGIN:VEVENT
DTSTART;TZID=UTC:20221014T173000
DTEND;TZID=UTC:20221014T210000
DTSTAMP:20260421T164517
CREATED:20220930T214809Z
LAST-MODIFIED:20220930T214809Z
UID:925-1665768600-1665781200@mikechristiansen.com
SUMMARY:Solo Guitar at Le Nonne Restaurant Logan\, UT
DESCRIPTION:
URL:https://mikechristiansen.com/event/solo-guitar-at-le-nonne-restaurant-logan-ut-26/
END:VEVENT
END:VCALENDAR