BEGIN:VCALENDAR
VERSION:2.0
PRODID:-//Mike Christiansen - ECPv6.14.0//NONSGML v1.0//EN
CALSCALE:GREGORIAN
METHOD:PUBLISH
X-WR-CALNAME:Mike Christiansen
X-ORIGINAL-URL:https://mikechristiansen.com
X-WR-CALDESC:Events for Mike Christiansen
REFRESH-INTERVAL;VALUE=DURATION:PT1H
X-Robots-Tag:noindex
X-PUBLISHED-TTL:PT1H
BEGIN:VTIMEZONE
TZID:UTC
BEGIN:STANDARD
TZOFFSETFROM:+0000
TZOFFSETTO:+0000
TZNAME:UTC
DTSTART:20210101T000000
END:STANDARD
END:VTIMEZONE
BEGIN:VEVENT
DTSTART;TZID=UTC:20220313T173000
DTEND;TZID=UTC:20220313T210000
DTSTAMP:20260422T005550
CREATED:20220311T060256Z
LAST-MODIFIED:20220311T060256Z
UID:850-1647192600-1647205200@mikechristiansen.com
SUMMARY:Solo Guitar @ Le Nonne Restaurant - Logan\, UT
DESCRIPTION:
URL:https://mikechristiansen.com/event/solo-guitar-le-nonne-restaurant-logan-ut-18/
END:VEVENT
BEGIN:VEVENT
DTSTART;TZID=UTC:20220310T180000
DTEND;TZID=UTC:20220310T210000
DTSTAMP:20260422T005550
CREATED:20220311T055941Z
LAST-MODIFIED:20220311T055941Z
UID:848-1646935200-1646946000@mikechristiansen.com
SUMMARY:Solo Guitar at Le Nonne Restaurant - Logan\, UT
DESCRIPTION:
URL:https://mikechristiansen.com/event/solo-guitar-at-le-nonne-restaurant-logan-ut-22/
END:VEVENT
BEGIN:VEVENT
DTSTART;TZID=UTC:20220304T053000
DTEND;TZID=UTC:20220304T210000
DTSTAMP:20260422T005550
CREATED:20220207T232836Z
LAST-MODIFIED:20220207T232836Z
UID:826-1646371800-1646427600@mikechristiansen.com
SUMMARY:Solo Guitar at Le Nonne Restaurant - Logan\, Utah
DESCRIPTION:
URL:https://mikechristiansen.com/event/solo-guitar-at-le-nonne-restaurant-logan-utah/
END:VEVENT
BEGIN:VEVENT
DTSTART;TZID=UTC:20220226T173000
DTEND;TZID=UTC:20220226T210000
DTSTAMP:20260422T005550
CREATED:20211028T020810Z
LAST-MODIFIED:20211028T020810Z
UID:813-1645896600-1645909200@mikechristiansen.com
SUMMARY:Solo Guitar at Le Nonne Restaurant-Logan\, UT
DESCRIPTION:
URL:https://mikechristiansen.com/event/solo-guitar-at-le-nonne-restaurant-logan-ut-21/
END:VEVENT
BEGIN:VEVENT
DTSTART;TZID=UTC:20220225T173000
DTEND;TZID=UTC:20220225T210000
DTSTAMP:20260422T005550
CREATED:20220207T233217Z
LAST-MODIFIED:20220207T233217Z
UID:832-1645810200-1645822800@mikechristiansen.com
SUMMARY:Solo Guitar at Le Nonne Restaurant - Logan\, Utah
DESCRIPTION:
URL:https://mikechristiansen.com/event/solo-guitar-at-le-nonne-restaurant-logan-utah-3/
END:VEVENT
BEGIN:VEVENT
DTSTART;TZID=UTC:20220225T173000
DTEND;TZID=UTC:20220225T210000
DTSTAMP:20260422T005550
CREATED:20211028T020705Z
LAST-MODIFIED:20211028T020705Z
UID:811-1645810200-1645822800@mikechristiansen.com
SUMMARY:Solo Guitar at Le Nonne Restaurant-Logan\,UT
DESCRIPTION:
URL:https://mikechristiansen.com/event/solo-guitar-at-le-nonne-restaurant-loganut/
END:VEVENT
BEGIN:VEVENT
DTSTART;TZID=UTC:20220224T000000
DTEND;TZID=UTC:20220224T000000
DTSTAMP:20260422T005550
CREATED:20211028T020903Z
LAST-MODIFIED:20211028T020903Z
UID:815-1645660800-1645660800@mikechristiansen.com
SUMMARY:New Jersey MEA Conference-Atlantic City
DESCRIPTION:
URL:https://mikechristiansen.com/event/new-jersey-mea-conference-atlantic-city/
END:VEVENT
BEGIN:VEVENT
DTSTART;TZID=UTC:20220219T000000
DTEND;TZID=UTC:20220219T000000
DTSTAMP:20260422T005550
CREATED:20211028T020559Z
LAST-MODIFIED:20211028T020559Z
UID:809-1645228800-1645228800@mikechristiansen.com
SUMMARY:Washington MEA Conference-Yakima
DESCRIPTION:
URL:https://mikechristiansen.com/event/washington-mea-conference-yakima/
END:VEVENT
BEGIN:VEVENT
DTSTART;TZID=UTC:20220218T173000
DTEND;TZID=UTC:20220218T210000
DTSTAMP:20260422T005550
CREATED:20220207T233039Z
LAST-MODIFIED:20220207T233039Z
UID:830-1645205400-1645218000@mikechristiansen.com
SUMMARY:Solo Guitar at Le Nonne Restaurant - Logan\, Utah
DESCRIPTION:
URL:https://mikechristiansen.com/event/solo-guitar-at-le-nonne-restaurant-logan-utah-2/
END:VEVENT
BEGIN:VEVENT
DTSTART;TZID=UTC:20220212T000000
DTEND;TZID=UTC:20220212T000000
DTSTAMP:20260422T005550
CREATED:20211028T020406Z
LAST-MODIFIED:20211028T020406Z
UID:805-1644624000-1644624000@mikechristiansen.com
SUMMARY:Texs MEA Conference-San Antonio
DESCRIPTION:
URL:https://mikechristiansen.com/event/texs-mea-conference-san-antonio/
END:VEVENT
BEGIN:VEVENT
DTSTART;TZID=UTC:20220211T173000
DTEND;TZID=UTC:20220211T210000
DTSTAMP:20260422T005550
CREATED:20220207T232943Z
LAST-MODIFIED:20220207T232943Z
UID:828-1644600600-1644613200@mikechristiansen.com
SUMMARY:Solo Guitar at Le Nonne Restaurant
DESCRIPTION:
URL:https://mikechristiansen.com/event/solo-guitar-at-le-nonne-restaurant-5/
END:VEVENT
BEGIN:VEVENT
DTSTART;TZID=UTC:20220204T000000
DTEND;TZID=UTC:20220204T000000
DTSTAMP:20260422T005550
CREATED:20211028T020312Z
LAST-MODIFIED:20211028T020312Z
UID:803-1643932800-1643932800@mikechristiansen.com
SUMMARY:Utah MEA-St. George
DESCRIPTION:
URL:https://mikechristiansen.com/event/utah-mea-st-george/
END:VEVENT
BEGIN:VEVENT
DTSTART;TZID=UTC:20220203T000000
DTEND;TZID=UTC:20220203T000000
DTSTAMP:20260422T005550
CREATED:20211028T020222Z
LAST-MODIFIED:20211028T020222Z
UID:801-1643846400-1643846400@mikechristiansen.com
SUMMARY:Ohio MEA-Clevland
DESCRIPTION:
URL:https://mikechristiansen.com/event/ohio-mea-clevland/
END:VEVENT
BEGIN:VEVENT
DTSTART;TZID=UTC:20220129T000000
DTEND;TZID=UTC:20220129T000000
DTSTAMP:20260422T005550
CREATED:20211027T202036Z
LAST-MODIFIED:20211027T202036Z
UID:792-1643414400-1643414400@mikechristiansen.com
SUMMARY:Michigan MEA-Grand Rapids Michigan
DESCRIPTION:
URL:https://mikechristiansen.com/event/michigan-mea-grand-rapids-michigan/
END:VEVENT
BEGIN:VEVENT
DTSTART;TZID=UTC:20220128T000000
DTEND;TZID=UTC:20220128T000000
DTSTAMP:20260422T005550
CREATED:20211027T202702Z
LAST-MODIFIED:20211027T202702Z
UID:799-1643328000-1643328000@mikechristiansen.com
SUMMARY:Michigan MEA-Grand Rapids Michigan
DESCRIPTION:
URL:https://mikechristiansen.com/event/michigan-mea-grand-rapids-michigan-2/
END:VEVENT
BEGIN:VEVENT
DTSTART;TZID=UTC:20220122T173000
DTEND;TZID=UTC:20220122T210000
DTSTAMP:20260422T005550
CREATED:20211027T201554Z
LAST-MODIFIED:20211027T201554Z
UID:787-1642872600-1642885200@mikechristiansen.com
SUMMARY:Solo Guitar- Le Nonne Restaurant-Logan\, UT
DESCRIPTION:
URL:https://mikechristiansen.com/event/clinic-florida-mea-tampa-fl/
END:VEVENT
BEGIN:VEVENT
DTSTART;TZID=UTC:20220121T173000
DTEND;TZID=UTC:20220121T210000
DTSTAMP:20260422T005550
CREATED:20211027T202601Z
LAST-MODIFIED:20211027T202601Z
UID:797-1642786200-1642798800@mikechristiansen.com
SUMMARY:Solo Guitar-Le Nonne Restaurant-Logan\, UT
DESCRIPTION:
URL:https://mikechristiansen.com/event/solo-guitar-le-nonne-restaurant-logan-ut-17/
END:VEVENT
BEGIN:VEVENT
DTSTART;TZID=UTC:20220116T000000
DTEND;TZID=UTC:20220116T000000
DTSTAMP:20260422T005550
CREATED:20211028T020504Z
LAST-MODIFIED:20211028T020504Z
UID:807-1642291200-1642291200@mikechristiansen.com
SUMMARY:Louisiana MEA Conference-Baton Rouge
DESCRIPTION:
URL:https://mikechristiansen.com/event/louisiana-mea-conference-baton-rouge/
END:VEVENT
BEGIN:VEVENT
DTSTART;TZID=UTC:20220115T000000
DTEND;TZID=UTC:20220115T000000
DTSTAMP:20260422T005550
CREATED:20211027T202506Z
LAST-MODIFIED:20211027T202506Z
UID:795-1642204800-1642204800@mikechristiansen.com
SUMMARY:New Mexico MEA-Albuquerque NM
DESCRIPTION:
URL:https://mikechristiansen.com/event/new-mexico-mea-albuquerque-nm/
END:VEVENT
BEGIN:VEVENT
DTSTART;TZID=UTC:20220108T173000
DTEND;TZID=UTC:20220108T210000
DTSTAMP:20260422T005550
CREATED:20211027T201419Z
LAST-MODIFIED:20211027T201419Z
UID:785-1641663000-1641675600@mikechristiansen.com
SUMMARY:Solo Guitar-Le Nonne Restaurant-Logan\, UT
DESCRIPTION:
URL:https://mikechristiansen.com/event/solo-guitar-le-nonne-restaurant-logan-ut-16/
END:VEVENT
BEGIN:VEVENT
DTSTART;TZID=UTC:20220107T173000
DTEND;TZID=UTC:20220107T210000
DTSTAMP:20260422T005550
CREATED:20211027T201321Z
LAST-MODIFIED:20211027T201321Z
UID:782-1641576600-1641589200@mikechristiansen.com
SUMMARY:Solo Guitar-Le Nonne Restaurant-Logan\, UT
DESCRIPTION:
URL:https://mikechristiansen.com/event/solo-guitar-le-nonne-restaurant-logan-ut-15/
END:VEVENT
BEGIN:VEVENT
DTSTART;TZID=UTC:20211231T173000
DTEND;TZID=UTC:20211231T210000
DTSTAMP:20260422T005550
CREATED:20211027T101832Z
LAST-MODIFIED:20211027T101832Z
UID:769-1640971800-1640984400@mikechristiansen.com
SUMMARY:Solo Guitar at Le Nonne Restaurant-Logan UT
DESCRIPTION:
URL:https://mikechristiansen.com/event/solo-guitar-at-le-nonne-restaurant-logan-ut-19/
END:VEVENT
BEGIN:VEVENT
DTSTART;TZID=UTC:20211224T060000
DTEND;TZID=UTC:20211224T180000
DTSTAMP:20260422T005550
CREATED:20211027T101733Z
LAST-MODIFIED:20211027T101733Z
UID:767-1640325600-1640368800@mikechristiansen.com
SUMMARY:Solo Guitar at SLC International Airport
DESCRIPTION:
URL:https://mikechristiansen.com/event/solo-guitar-at-slc-international-airport/
END:VEVENT
BEGIN:VEVENT
DTSTART;TZID=UTC:20211218T173000
DTEND;TZID=UTC:20211218T210000
DTSTAMP:20260422T005550
CREATED:20211027T101620Z
LAST-MODIFIED:20211027T101620Z
UID:765-1639848600-1639861200@mikechristiansen.com
SUMMARY:Solo Guitar at Le Nonne Restaurant-Logan\, UT
DESCRIPTION:
URL:https://mikechristiansen.com/event/solo-guitar-at-le-nonne-restaurant-logan-ut-18/
END:VEVENT
BEGIN:VEVENT
DTSTART;TZID=UTC:20211217T120000
DTEND;TZID=UTC:20211217T140000
DTSTAMP:20260422T005550
CREATED:20211027T101249Z
LAST-MODIFIED:20211027T101249Z
UID:759-1639742400-1639749600@mikechristiansen.com
SUMMARY:Solo Guitar at Le Nonne Restaurant- Logan\, UT
DESCRIPTION:
URL:https://mikechristiansen.com/event/solo-guitar-at-le-nonne-restaurant-logan-ut-17/
END:VEVENT
BEGIN:VEVENT
DTSTART;TZID=UTC:20211211T173000
DTEND;TZID=UTC:20211211T210000
DTSTAMP:20260422T005550
CREATED:20211027T102515Z
LAST-MODIFIED:20211027T102515Z
UID:779-1639243800-1639256400@mikechristiansen.com
SUMMARY:Solo Guitar-Le Nonne Restaurant-Logan UT
DESCRIPTION:
URL:https://mikechristiansen.com/event/solo-guitar-le-nonne-restaurant-logan-ut-14/
END:VEVENT
BEGIN:VEVENT
DTSTART;TZID=UTC:20211210T173000
DTEND;TZID=UTC:20211210T210000
DTSTAMP:20260422T005550
CREATED:20211027T100945Z
LAST-MODIFIED:20211027T100945Z
UID:754-1639157400-1639170000@mikechristiansen.com
SUMMARY:Solo Guitar at Le Nonne Restaurant- Logan\, UT
DESCRIPTION:
URL:https://mikechristiansen.com/event/solo-guitar-private-event-2/
END:VEVENT
BEGIN:VEVENT
DTSTART;TZID=UTC:20211207T200000
DTEND;TZID=UTC:20211207T210000
DTSTAMP:20260422T005550
CREATED:20211027T102410Z
LAST-MODIFIED:20211027T102410Z
UID:777-1638907200-1638910800@mikechristiansen.com
SUMMARY:Duo with Jim Schaub-Private Event
DESCRIPTION:
URL:https://mikechristiansen.com/event/duo-with-jim-schaub-private-event/
END:VEVENT
BEGIN:VEVENT
DTSTART;TZID=UTC:20211206T003000
DTEND;TZID=UTC:20211206T150000
DTSTAMP:20260422T005550
CREATED:20211027T102309Z
LAST-MODIFIED:20211027T102309Z
UID:775-1638750600-1638802800@mikechristiansen.com
SUMMARY:Solo Guitar-Private Event
DESCRIPTION:
URL:https://mikechristiansen.com/event/solo-guitar-private-event-3/
END:VEVENT
BEGIN:VEVENT
DTSTART;TZID=UTC:20211204T173000
DTEND;TZID=UTC:20211204T210000
DTSTAMP:20260422T005550
CREATED:20211027T100734Z
LAST-MODIFIED:20211027T100734Z
UID:752-1638639000-1638651600@mikechristiansen.com
SUMMARY:Solo Guitar at Le Nonne Restaurant
DESCRIPTION:
URL:https://mikechristiansen.com/event/solo-guitar-at-le-nonne-restaurant-4/
END:VEVENT
END:VCALENDAR