BEGIN:VCALENDAR
VERSION:2.0
PRODID:-//Mike Christiansen - ECPv6.14.0//NONSGML v1.0//EN
CALSCALE:GREGORIAN
METHOD:PUBLISH
X-WR-CALNAME:Mike Christiansen
X-ORIGINAL-URL:https://mikechristiansen.com
X-WR-CALDESC:Events for Mike Christiansen
REFRESH-INTERVAL;VALUE=DURATION:PT1H
X-Robots-Tag:noindex
X-PUBLISHED-TTL:PT1H
BEGIN:VTIMEZONE
TZID:UTC
BEGIN:STANDARD
TZOFFSETFROM:+0000
TZOFFSETTO:+0000
TZNAME:UTC
DTSTART:20200101T000000
END:STANDARD
END:VTIMEZONE
BEGIN:VEVENT
DTSTART;TZID=UTC:20201217T090000
DTEND;TZID=UTC:20201217T100000
DTSTAMP:20260422T105502
CREATED:20201201T064418Z
LAST-MODIFIED:20201201T064418Z
UID:618-1608195600-1608199200@mikechristiansen.com
SUMMARY:Performance with the Lightwood Duo for UPR radio
DESCRIPTION:
URL:https://mikechristiansen.com/event/performance-with-the-lightwood-duo-for-upr-radio/
END:VEVENT
BEGIN:VEVENT
DTSTART;TZID=UTC:20201211T180000
DTEND;TZID=UTC:20201211T210000
DTSTAMP:20260422T105502
CREATED:20201201T064200Z
LAST-MODIFIED:20201201T064200Z
UID:616-1607709600-1607720400@mikechristiansen.com
SUMMARY:Solo Guitar at Le Nonne Restaurant
DESCRIPTION:
URL:https://mikechristiansen.com/event/solo-guitar-at-le-nonne-restaurant-2/
END:VEVENT
BEGIN:VEVENT
DTSTART;TZID=UTC:20201204T180000
DTEND;TZID=UTC:20201204T210000
DTSTAMP:20260422T105502
CREATED:20201201T063942Z
LAST-MODIFIED:20201201T063942Z
UID:614-1607104800-1607115600@mikechristiansen.com
SUMMARY:Solo Guitar at Le Nonne Restaurant
DESCRIPTION:
URL:https://mikechristiansen.com/event/solo-guitar-at-le-nonne-restaurant/
END:VEVENT
BEGIN:VEVENT
DTSTART;TZID=UTC:20201203T090000
DTEND;TZID=UTC:20201203T100000
DTSTAMP:20260422T105502
CREATED:20201201T064806Z
LAST-MODIFIED:20201201T064806Z
UID:624-1606986000-1606989600@mikechristiansen.com
SUMMARY:Virtual Clinic for New York Music Educators Conference
DESCRIPTION:
URL:https://mikechristiansen.com/event/virtual-clinic-for-new-york-music-educators-conference/
END:VEVENT
BEGIN:VEVENT
DTSTART;TZID=UTC:20200626T180000
DTEND;TZID=UTC:20200626T210000
DTSTAMP:20260422T105502
CREATED:20200304T051716Z
LAST-MODIFIED:20200304T051716Z
UID:579-1593194400-1593205200@mikechristiansen.com
SUMMARY:Solo Guitar at Le Nonne Restaurant - Logan\, UT
DESCRIPTION:
URL:https://mikechristiansen.com/event/solo-guitar-at-le-nonne-restaurant-logan-ut-15/
END:VEVENT
BEGIN:VEVENT
DTSTART;TZID=UTC:20200619T180000
DTEND;TZID=UTC:20200619T210000
DTSTAMP:20260422T105502
CREATED:20200304T051625Z
LAST-MODIFIED:20200304T051625Z
UID:577-1592589600-1592600400@mikechristiansen.com
SUMMARY:Solo Guitar at Le Nonne Restaurant - Logan\, UT
DESCRIPTION:
URL:https://mikechristiansen.com/event/solo-guitar-at-le-nonne-restaurant-logan-ut-14/
END:VEVENT
BEGIN:VEVENT
DTSTART;TZID=UTC:20200612T180000
DTEND;TZID=UTC:20200612T210000
DTSTAMP:20260422T105502
CREATED:20200304T051537Z
LAST-MODIFIED:20200304T051537Z
UID:575-1591984800-1591995600@mikechristiansen.com
SUMMARY:Solo Guitar at Le Nonne Restaurant - Logan\, UT
DESCRIPTION:
URL:https://mikechristiansen.com/event/solo-guitar-at-le-nonne-restaurant-logan-ut-13/
END:VEVENT
BEGIN:VEVENT
DTSTART;TZID=UTC:20200605T180000
DTEND;TZID=UTC:20200605T203000
DTSTAMP:20260422T105502
CREATED:20200304T051419Z
LAST-MODIFIED:20200304T051419Z
UID:573-1591380000-1591389000@mikechristiansen.com
SUMMARY:Solo Guitar at Le Nonne Restaurant - Logan\, UT
DESCRIPTION:
URL:https://mikechristiansen.com/event/solo-guitar-at-le-nonne-restaurant-logan-ut-12/
END:VEVENT
BEGIN:VEVENT
DTSTART;TZID=UTC:20200529T180000
DTEND;TZID=UTC:20200529T210000
DTSTAMP:20260422T105502
CREATED:20200304T051249Z
LAST-MODIFIED:20200304T051249Z
UID:571-1590775200-1590786000@mikechristiansen.com
SUMMARY:Solo Guitar at Le Nonne Restaurant - Logan\, UT
DESCRIPTION:
URL:https://mikechristiansen.com/event/solo-guitar-at-le-nonne-restaurant-logan-ut-11/
END:VEVENT
BEGIN:VEVENT
DTSTART;TZID=UTC:20200522T180000
DTEND;TZID=UTC:20200522T210000
DTSTAMP:20260422T105502
CREATED:20200304T051141Z
LAST-MODIFIED:20200304T051141Z
UID:569-1590170400-1590181200@mikechristiansen.com
SUMMARY:Solo Guitar at Le Nonne Restaurant - Logan\, UT
DESCRIPTION:
URL:https://mikechristiansen.com/event/solo-guitar-at-le-nonne-restaurant-logan-ut-10/
END:VEVENT
BEGIN:VEVENT
DTSTART;TZID=UTC:20200508T190000
DTEND;TZID=UTC:20200508T210000
DTSTAMP:20260422T105502
CREATED:20200304T050633Z
LAST-MODIFIED:20200304T050633Z
UID:561-1588964400-1588971600@mikechristiansen.com
SUMMARY:With Lars Yorgeson Singers - Ogden\, UT
DESCRIPTION:
URL:https://mikechristiansen.com/event/solo-guitar-at-le-nonne-restaurant-logan-ut-8/
END:VEVENT
BEGIN:VEVENT
DTSTART;TZID=UTC:20200425T200000
DTEND;TZID=UTC:20200425T233000
DTSTAMP:20260422T105502
CREATED:20200304T050533Z
LAST-MODIFIED:20200304T050533Z
UID:559-1587844800-1587857400@mikechristiansen.com
SUMMARY:With Band\, Mirage - Logan Golf and Country Club - Private Event
DESCRIPTION:
URL:https://mikechristiansen.com/event/with-band-mirage-logan-golf-and-country-club-private-event/
END:VEVENT
BEGIN:VEVENT
DTSTART;TZID=UTC:20200424T180000
DTEND;TZID=UTC:20200424T210000
DTSTAMP:20260422T105502
CREATED:20200304T050349Z
LAST-MODIFIED:20200304T050349Z
UID:557-1587751200-1587762000@mikechristiansen.com
SUMMARY:Solo Guitar at Le Nonne Restaurant - Logan\, UT
DESCRIPTION:
URL:https://mikechristiansen.com/event/solo-guitar-at-le-nonne-restaurant-logan-ut-7/
END:VEVENT
BEGIN:VEVENT
DTSTART;TZID=UTC:20200417T180000
DTEND;TZID=UTC:20200417T210000
DTSTAMP:20260422T105502
CREATED:20200304T050219Z
LAST-MODIFIED:20200304T050219Z
UID:555-1587146400-1587157200@mikechristiansen.com
SUMMARY:Solo Guitar at Le Nonne Restaurant - Logan\, UT
DESCRIPTION:
URL:https://mikechristiansen.com/event/solo-guitar-at-le-nonne-restaurant-logan-ut-6/
END:VEVENT
BEGIN:VEVENT
DTSTART;TZID=UTC:20200416T080000
DTEND;TZID=UTC:20200416T100000
DTSTAMP:20260422T105502
CREATED:20200304T050129Z
LAST-MODIFIED:20200304T050129Z
UID:553-1587024000-1587031200@mikechristiansen.com
SUMMARY:Clinician Tennessee MEA Conference -  Gaylord Opryland Hotel - Nashville\, TN
DESCRIPTION:Clinic – Developing the Successful Guitar Class 9:00am-10:00am \nClinic – Tips on Playing and Teaching Ukulele 10:00am-11:00am
URL:https://mikechristiansen.com/event/clinician-tennessee-mea-conference-gaylord-opryland-hotel-nashville-tn/
END:VEVENT
BEGIN:VEVENT
DTSTART;TZID=UTC:20200410T180000
DTEND;TZID=UTC:20200410T210000
DTSTAMP:20260422T105502
CREATED:20200304T045657Z
LAST-MODIFIED:20200304T045657Z
UID:551-1586541600-1586552400@mikechristiansen.com
SUMMARY:Solo Guitar at Le Nonne Restaurant - Logan\, UT
DESCRIPTION:
URL:https://mikechristiansen.com/event/solo-guitar-at-le-nonne-restaurant-logan-ut-5/
END:VEVENT
BEGIN:VEVENT
DTSTART;TZID=UTC:20200404T080000
DTEND;TZID=UTC:20200404T100000
DTSTAMP:20260422T105502
CREATED:20200304T045609Z
LAST-MODIFIED:20200304T045609Z
UID:549-1585987200-1585994400@mikechristiansen.com
SUMMARY:Clinician - Connecticut MEA Conference - Connecticut Conference Center - Hartford\, CT
DESCRIPTION:Clinic – Beginning Composition and Improvisation for Classroom Guitar 8:00am-9:00am \nClinic -So…You’re the One That Will Be Teaching the Guitar Class 9:00am-10:00am
URL:https://mikechristiansen.com/event/clinician-connecticut-mea-conference-connecticut-conference-center-hartford-ct/
END:VEVENT
BEGIN:VEVENT
DTSTART;TZID=UTC:20200402T084500
DTEND;TZID=UTC:20200402T094500
DTSTAMP:20260422T105502
CREATED:20200304T044112Z
LAST-MODIFIED:20200304T044112Z
UID:539-1585817100-1585820700@mikechristiansen.com
SUMMARY:Clinician Connecticut MEA Conference - Connecticut Convention Center - Hartford\, CT
DESCRIPTION:Clinic – Incorporating Ensemble Into the Guitar Class 8:45am – 9:45am \nClinic- Tips on Playing and Teaching Ukulele 3:15 – 4:15
URL:https://mikechristiansen.com/event/clinician-connecticut-mea-conference-incorporating-ensembles-into-the-guitar-curriculum/
END:VEVENT
BEGIN:VEVENT
DTSTART;TZID=UTC:20200327T180000
DTEND;TZID=UTC:20200327T210000
DTSTAMP:20260422T105502
CREATED:20200304T043740Z
LAST-MODIFIED:20200304T043740Z
UID:537-1585332000-1585342800@mikechristiansen.com
SUMMARY:Solo Guitar at Le Nonne Restaurant - Logan\, UT
DESCRIPTION:
URL:https://mikechristiansen.com/event/solo-guitar-at-le-nonne-restaurant-logan-ut-4/
END:VEVENT
BEGIN:VEVENT
DTSTART;TZID=UTC:20200320T180000
DTEND;TZID=UTC:20200320T210000
DTSTAMP:20260422T105502
CREATED:20200304T043540Z
LAST-MODIFIED:20200304T043540Z
UID:535-1584727200-1584738000@mikechristiansen.com
SUMMARY:Solo Guitar at Le Nonne Restaurant - Logan\, UT
DESCRIPTION:
URL:https://mikechristiansen.com/event/solo-guitar-at-le-nonne-restaurant-logan-ut-3/
END:VEVENT
BEGIN:VEVENT
DTSTART;TZID=UTC:20200318T190000
DTEND;TZID=UTC:20200318T210000
DTSTAMP:20260422T105502
CREATED:20200304T051044Z
LAST-MODIFIED:20200304T051044Z
UID:567-1584558000-1584565200@mikechristiansen.com
SUMMARY:With Lars Yorgason Singers - Ogden\, UT
DESCRIPTION:
URL:https://mikechristiansen.com/event/with-lars-yorgason-singers-ogden-ut/
END:VEVENT
BEGIN:VEVENT
DTSTART;TZID=UTC:20200315T180000
DTEND;TZID=UTC:20200315T210000
DTSTAMP:20260422T105502
CREATED:20200304T050949Z
LAST-MODIFIED:20200304T050949Z
UID:565-1584295200-1584306000@mikechristiansen.com
SUMMARY:Solo Guitar at le Nonne Restaurant - Logan\, UT
DESCRIPTION:
URL:https://mikechristiansen.com/event/solo-guitar-at-le-nonne-restaurant-logan-ut-9/
END:VEVENT
BEGIN:VEVENT
DTSTART;TZID=UTC:20200313T180000
DTEND;TZID=UTC:20200313T210000
DTSTAMP:20260422T105502
CREATED:20200304T043014Z
LAST-MODIFIED:20200304T043014Z
UID:532-1584122400-1584133200@mikechristiansen.com
SUMMARY:Solo Guitar at Le Nonne Restaurant - Logan\, UT
DESCRIPTION:
URL:https://mikechristiansen.com/event/solo-guitar-at-le-nonne-restaurant-logan-ut-2/
END:VEVENT
BEGIN:VEVENT
DTSTART;TZID=UTC:20200307T180000
DTEND;TZID=UTC:20200307T210000
DTSTAMP:20260422T105502
CREATED:20200304T042849Z
LAST-MODIFIED:20200304T042849Z
UID:530-1583604000-1583614800@mikechristiansen.com
SUMMARY:Solo Guitar at Le Nonne Restaurant - Logan\, UT
DESCRIPTION:
URL:https://mikechristiansen.com/event/solo-guitar-at-le-nonne-restaurant-logan-ut/
END:VEVENT
BEGIN:VEVENT
DTSTART;TZID=UTC:20200306T090000
DTEND;TZID=UTC:20200306T103000
DTSTAMP:20260422T105502
CREATED:20200304T042710Z
LAST-MODIFIED:20200304T042710Z
UID:528-1583485200-1583490600@mikechristiansen.com
SUMMARY:Clinician at Massachusetts MEA - At World Trade Center\, Boston
DESCRIPTION:9:15 AM – Clinic – Incorporating Ensembles Into the Guitar Class
URL:https://mikechristiansen.com/event/clinician-at-massachusetts-mea-at-world-trade-center-boston/
END:VEVENT
BEGIN:VEVENT
DTSTART;TZID=UTC:20200303T080000
DTEND;TZID=UTC:20200303T170000
DTSTAMP:20260422T105502
CREATED:20200304T045052Z
LAST-MODIFIED:20200304T045052Z
UID:546-1583222400-1583254800@mikechristiansen.com
SUMMARY:Clinician - Connecticut MEA Conference - Connecticut Convention Center - Hartford\, CT
DESCRIPTION:Clinic – Tips for Your Jazz Band Guitarist – 8:00am-9:00am \n 
URL:https://mikechristiansen.com/event/clinician-connecticut-mea-conference-connecticut-convention-center-hartford-ct/
END:VEVENT
BEGIN:VEVENT
DTSTART;TZID=UTC:20200131T180000
DTEND;TZID=UTC:20200131T210000
DTSTAMP:20260422T105502
CREATED:20191002T204614Z
LAST-MODIFIED:20191002T204614Z
UID:451-1580493600-1580504400@mikechristiansen.com
SUMMARY:Solo Guitar @ Le Nonne Restaurant\, Logan UT
DESCRIPTION:
URL:https://mikechristiansen.com/event/solo-guitar-le-nonne-restaurant-logan-ut-11/
END:VEVENT
BEGIN:VEVENT
DTSTART;TZID=UTC:20200124T083000
DTEND;TZID=UTC:20200124T093000
DTSTAMP:20260422T105502
CREATED:20191002T204512Z
LAST-MODIFIED:20191002T204512Z
UID:449-1579854600-1579858200@mikechristiansen.com
SUMMARY:Presentation @ Georgia MEA Conference\, Athens\, Georgia
DESCRIPTION:
URL:https://mikechristiansen.com/event/presentation-georgia-mea-conference-athens-georgia-2/
END:VEVENT
BEGIN:VEVENT
DTSTART;TZID=UTC:20200123T133000
DTEND;TZID=UTC:20200123T143000
DTSTAMP:20260422T105502
CREATED:20191002T204349Z
LAST-MODIFIED:20191002T204349Z
UID:447-1579786200-1579789800@mikechristiansen.com
SUMMARY:Presentation @ Georgia MEA Conference\, Athens Georgia
DESCRIPTION:
URL:https://mikechristiansen.com/event/presentation-georgia-mea-conference-athens-georgia/
END:VEVENT
BEGIN:VEVENT
DTSTART;TZID=UTC:20200117T180000
DTEND;TZID=UTC:20200117T210000
DTSTAMP:20260422T105502
CREATED:20191002T204221Z
LAST-MODIFIED:20191002T204221Z
UID:445-1579284000-1579294800@mikechristiansen.com
SUMMARY:Solo Guitar @ Le Nonne Restaurant\, Logan UT
DESCRIPTION:
URL:https://mikechristiansen.com/event/solo-guitar-le-nonne-restaurant-logan-ut-10/
END:VEVENT
END:VCALENDAR