BEGIN:VCALENDAR
VERSION:2.0
PRODID:-//Mike Christiansen - ECPv6.14.0//NONSGML v1.0//EN
CALSCALE:GREGORIAN
METHOD:PUBLISH
X-WR-CALNAME:Mike Christiansen
X-ORIGINAL-URL:https://mikechristiansen.com
X-WR-CALDESC:Events for Mike Christiansen
REFRESH-INTERVAL;VALUE=DURATION:PT1H
X-Robots-Tag:noindex
X-PUBLISHED-TTL:PT1H
BEGIN:VTIMEZONE
TZID:UTC
BEGIN:STANDARD
TZOFFSETFROM:+0000
TZOFFSETTO:+0000
TZNAME:UTC
DTSTART:20190101T000000
END:STANDARD
END:VTIMEZONE
BEGIN:VEVENT
DTSTART;TZID=UTC:20190611T120000
DTEND;TZID=UTC:20190611T130000
DTSTAMP:20260422T215759
CREATED:20190419T040709Z
LAST-MODIFIED:20190419T040709Z
UID:1274-1560254400-1560258000@mikechristiansen.com
SUMMARY:Brazilian Guitar Master Class - Lincoln\, Nebraska
DESCRIPTION:
URL:https://mikechristiansen.com/event/brazilian-guitar-master-class-lincoln-nebraska-2/
END:VEVENT
BEGIN:VEVENT
DTSTART;TZID=UTC:20190607T170000
DTEND;TZID=UTC:20190607T210000
DTSTAMP:20260422T215759
CREATED:20190419T040520Z
LAST-MODIFIED:20190419T040520Z
UID:1273-1559926800-1559941200@mikechristiansen.com
SUMMARY:Solo at Le Nonne Restaurant - Logan\, Utah
DESCRIPTION:
URL:https://mikechristiansen.com/event/solo-at-le-nonne-restaurant-logan-utah-3-2/
END:VEVENT
BEGIN:VEVENT
DTSTART;TZID=UTC:20190603T170000
DTEND;TZID=UTC:20190603T210000
DTSTAMP:20260422T215759
CREATED:20190419T040415Z
LAST-MODIFIED:20190419T040415Z
UID:1272-1559581200-1559595600@mikechristiansen.com
SUMMARY:With the Lightwood Duo - Private Event - Logan\, Utah
DESCRIPTION:
URL:https://mikechristiansen.com/event/with-the-lightwood-duo-private-event-logan-utah-2/
END:VEVENT
BEGIN:VEVENT
DTSTART;TZID=UTC:20190531T050000
DTEND;TZID=UTC:20190531T210000
DTSTAMP:20260422T215759
CREATED:20190419T040312Z
LAST-MODIFIED:20190419T040312Z
UID:1271-1559278800-1559336400@mikechristiansen.com
SUMMARY:Solo at Le Nonne Restaurant - Logan\, Utah
DESCRIPTION:
URL:https://mikechristiansen.com/event/solo-at-le-nonne-restaurant-logan-utah-2-2/
END:VEVENT
BEGIN:VEVENT
DTSTART;TZID=UTC:20190524T060000
DTEND;TZID=UTC:20190524T210000
DTSTAMP:20260422T215759
CREATED:20190419T040216Z
LAST-MODIFIED:20190419T040216Z
UID:1270-1558677600-1558731600@mikechristiansen.com
SUMMARY:Solo at Le Nonne Restaurant - Logan\, Utah
DESCRIPTION:
URL:https://mikechristiansen.com/event/solo-at-le-nonne-restaurant-logan-utah-17/
END:VEVENT
BEGIN:VEVENT
DTSTART;TZID=UTC:20190521T120000
DTEND;TZID=UTC:20190521T130000
DTSTAMP:20260422T215759
CREATED:20190419T040109Z
LAST-MODIFIED:20190419T040109Z
UID:1269-1558440000-1558443600@mikechristiansen.com
SUMMARY:Concert with Lightwood Duo - Private Event - Smithfield\, Utah
DESCRIPTION:
URL:https://mikechristiansen.com/event/concert-with-lightwood-duo-private-event-smithfield-utah-2/
END:VEVENT
BEGIN:VEVENT
DTSTART;TZID=UTC:20190517T180000
DTEND;TZID=UTC:20190517T210000
DTSTAMP:20260422T215759
CREATED:20190419T033236Z
LAST-MODIFIED:20190419T033236Z
UID:1263-1558116000-1558126800@mikechristiansen.com
SUMMARY:Solo gig @ Le Nonne Restaurant - Logan\, Utah
DESCRIPTION:
URL:https://mikechristiansen.com/event/gig-with-las-yorgeson-singers-2/
END:VEVENT
BEGIN:VEVENT
DTSTART;TZID=UTC:20190516T190000
DTEND;TZID=UTC:20190516T210000
DTSTAMP:20260422T215759
CREATED:20190419T034847Z
LAST-MODIFIED:20190419T034847Z
UID:1265-1558033200-1558040400@mikechristiansen.com
SUMMARY:With Lightwood Duo - For Common Ground - Logan\, Utah
DESCRIPTION:
URL:https://mikechristiansen.com/event/solo-at-cactus-a-topicals-slc-private-event-2/
END:VEVENT
BEGIN:VEVENT
DTSTART;TZID=UTC:20190515T180000
DTEND;TZID=UTC:20190515T210000
DTSTAMP:20260422T215759
CREATED:20190419T043504Z
LAST-MODIFIED:20190419T043504Z
UID:1290-1557943200-1557954000@mikechristiansen.com
SUMMARY:Solo at Cactus and Tropicals - Salt Lake City
DESCRIPTION:
URL:https://mikechristiansen.com/event/solo-at-cactus-and-tropicals-salt-lake-city-2/
END:VEVENT
BEGIN:VEVENT
DTSTART;TZID=UTC:20190515T180000
DTEND;TZID=UTC:20190515T210000
DTSTAMP:20260422T215759
CREATED:20190419T043103Z
LAST-MODIFIED:20190419T043103Z
UID:1289-1557943200-1557954000@mikechristiansen.com
SUMMARY:Solo at Cactus and Tropicals - Salt Lake City
DESCRIPTION:
URL:https://mikechristiansen.com/event/solo-at-le-nonne-restaurant-logan-utah-14-2/
END:VEVENT
BEGIN:VEVENT
DTSTART;TZID=UTC:20190514T060000
DTEND;TZID=UTC:20190514T203000
DTSTAMP:20260422T215759
CREATED:20190419T033516Z
LAST-MODIFIED:20190419T033516Z
UID:1264-1557813600-1557865800@mikechristiansen.com
SUMMARY:Solo gig at Elements restaurant - Logan\, Utah
DESCRIPTION:
URL:https://mikechristiansen.com/event/solo-gig-at-elements-restaurant-logan-utah-2/
END:VEVENT
BEGIN:VEVENT
DTSTART;TZID=UTC:20190510T193000
DTEND;TZID=UTC:20190510T213000
DTSTAMP:20260422T215759
CREATED:20190419T035431Z
LAST-MODIFIED:20190419T035431Z
UID:1267-1557516600-1557523800@mikechristiansen.com
SUMMARY:Concert with Lars Yorgeson Singers - Private Event - Ogden\, Utah
DESCRIPTION:
URL:https://mikechristiansen.com/event/concert-with-lars-yorgeson-singers-private-event-ogden-utah-2/
END:VEVENT
BEGIN:VEVENT
DTSTART;TZID=UTC:20190507T190000
DTEND;TZID=UTC:20190507T210000
DTSTAMP:20260422T215759
CREATED:20190419T035849Z
LAST-MODIFIED:20190419T035849Z
UID:1268-1557255600-1557262800@mikechristiansen.com
SUMMARY:Concert with Lars Yorgeson Singers
DESCRIPTION:
URL:https://mikechristiansen.com/event/concert-with-lars-yorgeson-singers-2/
END:VEVENT
BEGIN:VEVENT
DTSTART;TZID=UTC:20190503T170000
DTEND;TZID=UTC:20190503T210000
DTSTAMP:20260422T215759
CREATED:20190419T032724Z
LAST-MODIFIED:20190419T032724Z
UID:1260-1556902800-1556917200@mikechristiansen.com
SUMMARY:Solo Gig at Le Nonne Restaurant - Logan\, Utah
DESCRIPTION:The perfect place for solo guitar. Great food\, great atmosphere. I love this gig.
URL:https://mikechristiansen.com/event/solo-gig-at-le-nonne-restaurant-logan-utah-2-2/
CATEGORIES:Performances
END:VEVENT
BEGIN:VEVENT
DTSTART;TZID=UTC:20190426T170000
DTEND;TZID=UTC:20190426T210000
DTSTAMP:20260422T215759
CREATED:20190419T032437Z
LAST-MODIFIED:20190419T032437Z
UID:1259-1556298000-1556312400@mikechristiansen.com
SUMMARY:Solo Gig at Le Nonne Restaurant - Logan\, Utah
DESCRIPTION:Wonderful food. Great atmosphere. The perfect place to play solo guitar. I love this gig.
URL:https://mikechristiansen.com/event/solo-gig-at-le-nonne-restaurant-logan-utah-3/
END:VEVENT
BEGIN:VEVENT
DTSTART;TZID=UTC:20190419T190000
DTEND;TZID=UTC:20190419T210000
DTSTAMP:20260422T215759
CREATED:20190419T033115Z
LAST-MODIFIED:20190419T033115Z
UID:1262-1555700400-1555707600@mikechristiansen.com
SUMMARY:Gig with Lars Yorgeson Singers - Private Event
DESCRIPTION:
URL:https://mikechristiansen.com/event/gig-with-lars-yorgeson-singers-private-event-3/
END:VEVENT
BEGIN:VEVENT
DTSTART;TZID=UTC:20190419T190000
DTEND;TZID=UTC:20190419T200000
DTSTAMP:20260422T215759
CREATED:20190419T033013Z
LAST-MODIFIED:20190419T033013Z
UID:1261-1555700400-1555704000@mikechristiansen.com
SUMMARY:Gig with Lars Yorgeson Singers
DESCRIPTION:Very fun. Playing Brazilian music at Morgan High School.
URL:https://mikechristiansen.com/event/gig-with-lars-yorgeson-singers-2-2/
END:VEVENT
BEGIN:VEVENT
DTSTART;TZID=UTC:20190419T080000
DTEND;TZID=UTC:20190419T190000
DTSTAMP:20260422T215759
CREATED:20190419T020006Z
LAST-MODIFIED:20190419T020006Z
UID:1257-1555660800-1555700400@mikechristiansen.com
SUMMARY:Gig with the Lars Yorgeson Singers
DESCRIPTION:
URL:https://mikechristiansen.com/event/gig-with-the-lars-yorgeson-singers-2/
END:VEVENT
BEGIN:VEVENT
DTSTART;TZID=UTC:20190418T070000
DTEND;TZID=UTC:20190418T200000
DTSTAMP:20260422T215759
CREATED:20190419T035142Z
LAST-MODIFIED:20190419T035142Z
UID:1266-1555570800-1555617600@mikechristiansen.com
SUMMARY:Gig with Lars Yorgeson Singers - Private Event
DESCRIPTION:
URL:https://mikechristiansen.com/event/gig-with-lars-yorgeson-singers-private-event-2-2/
END:VEVENT
BEGIN:VEVENT
DTSTART;TZID=UTC:20190405T180000
DTEND;TZID=UTC:20190405T210000
DTSTAMP:20260422T215759
CREATED:20190214T064451Z
LAST-MODIFIED:20190214T064451Z
UID:1256-1554487200-1554498000@mikechristiansen.com
SUMMARY:Solo Gig at Le Nonne
DESCRIPTION:
URL:https://mikechristiansen.com/event/solo-gig-at-le-nonne-9-2/
END:VEVENT
BEGIN:VEVENT
DTSTART;TZID=UTC:20190404T190000
DTEND;TZID=UTC:20190404T210000
DTSTAMP:20260422T215759
CREATED:20190214T064008Z
LAST-MODIFIED:20190214T064008Z
UID:1254-1554404400-1554411600@mikechristiansen.com
SUMMARY:Gig with the Lightwood Duo Private Event
DESCRIPTION:
URL:https://mikechristiansen.com/event/gig-with-the-lightwood-duo-private-event-2/
END:VEVENT
BEGIN:VEVENT
DTSTART;TZID=UTC:20190329T180000
DTEND;TZID=UTC:20190329T210000
DTSTAMP:20260422T215759
CREATED:20190214T063801Z
LAST-MODIFIED:20190214T063801Z
UID:1253-1553882400-1553893200@mikechristiansen.com
SUMMARY:Solo Gig at Le Nonne
DESCRIPTION:
URL:https://mikechristiansen.com/event/solo-gig-at-le-nonne-7-2/
END:VEVENT
BEGIN:VEVENT
DTSTART;TZID=UTC:20190328T190000
DTEND;TZID=UTC:20190328T210000
DTSTAMP:20260422T215759
CREATED:20190214T062516Z
LAST-MODIFIED:20190214T062516Z
UID:1249-1553799600-1553806800@mikechristiansen.com
SUMMARY:Duo with Lightwood Duo Private Event
DESCRIPTION:
URL:https://mikechristiansen.com/event/duo-with-lightwood-duo-private-event-2/
END:VEVENT
BEGIN:VEVENT
DTSTART;TZID=UTC:20190322T180000
DTEND;TZID=UTC:20190322T210000
DTSTAMP:20260422T215759
CREATED:20190214T063552Z
LAST-MODIFIED:20190214T063552Z
UID:1252-1553277600-1553288400@mikechristiansen.com
SUMMARY:Solo Gig at Le Nonne
DESCRIPTION:
URL:https://mikechristiansen.com/event/solo-gig-at-le-nonne-6-2/
END:VEVENT
BEGIN:VEVENT
DTSTART;TZID=UTC:20190322T180000
DTEND;TZID=UTC:20190322T210000
DTSTAMP:20260422T215759
CREATED:20190214T063418Z
LAST-MODIFIED:20190214T063418Z
UID:1251-1553277600-1553288400@mikechristiansen.com
SUMMARY:Solo Gig at Le Nonne
DESCRIPTION:
URL:https://mikechristiansen.com/event/solo-gig-at-le-nonne-5-2/
END:VEVENT
BEGIN:VEVENT
DTSTART;TZID=UTC:20190315T180000
DTEND;TZID=UTC:20190315T210000
DTSTAMP:20260422T215759
CREATED:20190214T063215Z
LAST-MODIFIED:20190214T063215Z
UID:1250-1552672800-1552683600@mikechristiansen.com
SUMMARY:Solo Gig at Le Nonne
DESCRIPTION:
URL:https://mikechristiansen.com/event/solo-gig-at-le-nonne-4-2/
END:VEVENT
BEGIN:VEVENT
DTSTART;VALUE=DATE:20190307
DTEND;VALUE=DATE:20190309
DTSTAMP:20260422T215759
CREATED:20190214T062032Z
LAST-MODIFIED:20190214T062032Z
UID:1246-1551916800-1552089599@mikechristiansen.com
SUMMARY:Clinics at West Virginia MEA Conference
DESCRIPTION:
URL:https://mikechristiansen.com/event/clinics-at-west-virginia-mea-conference-2/
END:VEVENT
BEGIN:VEVENT
DTSTART;TZID=UTC:20190301T180000
DTEND;TZID=UTC:20190301T210000
DTSTAMP:20260422T215759
CREATED:20190214T064351Z
LAST-MODIFIED:20190214T064351Z
UID:1255-1551463200-1551474000@mikechristiansen.com
SUMMARY:Solo Gig at Le Nonne
DESCRIPTION:
URL:https://mikechristiansen.com/event/solo-gig-at-le-nonne-8-2/
END:VEVENT
BEGIN:VEVENT
DTSTART;TZID=UTC:20190227T063000
DTEND;TZID=UTC:20190227T080000
DTSTAMP:20260422T215759
CREATED:20190214T061901Z
LAST-MODIFIED:20190214T061901Z
UID:1245-1551249000-1551254400@mikechristiansen.com
SUMMARY:Clinic for Brighton High School Jazz Ensemble
DESCRIPTION:
URL:https://mikechristiansen.com/event/clinic-for-brighton-high-school-jazz-ensemble-2/
END:VEVENT
BEGIN:VEVENT
DTSTART;VALUE=DATE:20190224
DTEND;VALUE=DATE:20190227
DTSTAMP:20260422T215759
CREATED:20181026T051055Z
LAST-MODIFIED:20181026T051055Z
UID:1239-1550966400-1551225599@mikechristiansen.com
SUMMARY:Clinics\, Colorado MEA\, Colorado Springs
DESCRIPTION:
URL:https://mikechristiansen.com/event/clinics-colorado-mea-colorado-springs-2/
CATEGORIES:Clinics
END:VEVENT
END:VCALENDAR