BEGIN:VCALENDAR
VERSION:2.0
PRODID:-//Mike Christiansen - ECPv6.14.0//NONSGML v1.0//EN
CALSCALE:GREGORIAN
METHOD:PUBLISH
X-WR-CALNAME:Mike Christiansen
X-ORIGINAL-URL:https://mikechristiansen.com
X-WR-CALDESC:Events for Mike Christiansen
REFRESH-INTERVAL;VALUE=DURATION:PT1H
X-Robots-Tag:noindex
X-PUBLISHED-TTL:PT1H
BEGIN:VTIMEZONE
TZID:UTC
BEGIN:STANDARD
TZOFFSETFROM:+0000
TZOFFSETTO:+0000
TZNAME:UTC
DTSTART:20180101T000000
END:STANDARD
END:VTIMEZONE
BEGIN:VEVENT
DTSTART;TZID=UTC:20181214T180000
DTEND;TZID=UTC:20181214T210000
DTSTAMP:20260423T020700
CREATED:20181026T042329Z
LAST-MODIFIED:20181026T042329Z
UID:1226-1544810400-1544821200@mikechristiansen.com
SUMMARY:Solo @ Le Nonne\, Logan\, UT
DESCRIPTION:
URL:https://mikechristiansen.com/event/solo-le-nonne-logan-ut-5-2/
CATEGORIES:Performances
END:VEVENT
BEGIN:VEVENT
DTSTART;TZID=UTC:20181208T190000
DTEND;TZID=UTC:20181208T210000
DTSTAMP:20260423T020700
CREATED:20181026T051054Z
LAST-MODIFIED:20181026T051054Z
UID:1234-1544295600-1544302800@mikechristiansen.com
SUMMARY:Solo\, Private Event\, Park City\, UT
DESCRIPTION:
URL:https://mikechristiansen.com/event/solo-private-event-park-city-ut-2/
CATEGORIES:Performances
END:VEVENT
BEGIN:VEVENT
DTSTART;TZID=UTC:20181208T180000
DTEND;TZID=UTC:20181208T203000
DTSTAMP:20260423T020700
CREATED:20181030T233537Z
LAST-MODIFIED:20181030T233537Z
UID:1243-1544292000-1544301000@mikechristiansen.com
SUMMARY:Solo Gig - SLC - For UofU Surgeons Party
DESCRIPTION:
URL:https://mikechristiansen.com/event/solo-gig-slc-for-uofu-surgeons-party-2/
END:VEVENT
BEGIN:VEVENT
DTSTART;TZID=UTC:20181207T180000
DTEND;TZID=UTC:20181207T210000
DTSTAMP:20260423T020700
CREATED:20181026T042238Z
LAST-MODIFIED:20181026T042238Z
UID:1225-1544205600-1544216400@mikechristiansen.com
SUMMARY:Solo @ Le Nonne\, Logan\, UT
DESCRIPTION:
URL:https://mikechristiansen.com/event/solo-le-nonne-logan-ut-4-2/
CATEGORIES:Performances
END:VEVENT
BEGIN:VEVENT
DTSTART;TZID=UTC:20181206T190000
DTEND;TZID=UTC:20181206T210000
DTSTAMP:20260423T020700
CREATED:20181026T051051Z
LAST-MODIFIED:20181026T051051Z
UID:1233-1544122800-1544130000@mikechristiansen.com
SUMMARY:Lightwood Duo\,Private Event\, Logan UT
DESCRIPTION:
URL:https://mikechristiansen.com/event/lightwood-duoprivate-event-logan-ut-2/
CATEGORIES:Performances
END:VEVENT
BEGIN:VEVENT
DTSTART;TZID=UTC:20181130T180000
DTEND;TZID=UTC:20181130T210000
DTSTAMP:20260423T020700
CREATED:20181026T042200Z
LAST-MODIFIED:20181026T042200Z
UID:1224-1543600800-1543611600@mikechristiansen.com
SUMMARY:Solo @ Le Nonne\, Logan\, UT
DESCRIPTION:
URL:https://mikechristiansen.com/event/solo-le-nonne-logan-ut-3-2/
CATEGORIES:Performances
END:VEVENT
BEGIN:VEVENT
DTSTART;VALUE=DATE:20181121
DTEND;VALUE=DATE:20181122
DTSTAMP:20260423T020700
CREATED:20181026T051051Z
LAST-MODIFIED:20181026T051051Z
UID:1232-1542758400-1542844799@mikechristiansen.com
SUMMARY:Lightwood Duo\, Salt Lake International Airport
DESCRIPTION:
URL:https://mikechristiansen.com/event/lightwood-duo-salt-lake-international-airport-3/
CATEGORIES:Performances
END:VEVENT
BEGIN:VEVENT
DTSTART;VALUE=DATE:20181117
DTEND;VALUE=DATE:20181118
DTSTAMP:20260423T020700
CREATED:20181026T051051Z
LAST-MODIFIED:20181026T051051Z
UID:1231-1542412800-1542499199@mikechristiansen.com
SUMMARY:Louisiana MEA Conference\, Baton Rouge\, LA
DESCRIPTION:
URL:https://mikechristiansen.com/event/louisiana-mea-conference-baton-rouge-la-2/
CATEGORIES:Clinics
END:VEVENT
BEGIN:VEVENT
DTSTART;VALUE=DATE:20181115
DTEND;VALUE=DATE:20181117
DTSTAMP:20260423T020700
CREATED:20181026T051051Z
LAST-MODIFIED:20181026T051051Z
UID:1230-1542240000-1542412799@mikechristiansen.com
SUMMARY:MEA Conference\, Hot Springs Virginia
DESCRIPTION:
URL:https://mikechristiansen.com/event/mea-conference-hot-springs-virginia-2/
CATEGORIES:Clinics
END:VEVENT
BEGIN:VEVENT
DTSTART;VALUE=DATE:20181113
DTEND;VALUE=DATE:20181115
DTSTAMP:20260423T020700
CREATED:20181026T051051Z
LAST-MODIFIED:20181026T051051Z
UID:1229-1542067200-1542239999@mikechristiansen.com
SUMMARY:NAfME National Conference\, Dallas\, TX
DESCRIPTION:
URL:https://mikechristiansen.com/event/nafme-national-conference-dallas-tx-2/
CATEGORIES:Clinics
END:VEVENT
BEGIN:VEVENT
DTSTART;VALUE=DATE:20181113
DTEND;VALUE=DATE:20181115
DTSTAMP:20260423T020700
CREATED:20181025T022447Z
LAST-MODIFIED:20181025T022447Z
UID:1221-1542067200-1542239999@mikechristiansen.com
SUMMARY:Clinics for NAfME National Conference\, Dallas\, TX
DESCRIPTION:
URL:https://mikechristiansen.com/event/clinics-for-nafme-national-conference-dallas-tx-2/
CATEGORIES:Clinics
END:VEVENT
BEGIN:VEVENT
DTSTART;TZID=UTC:20181109T180000
DTEND;TZID=UTC:20181109T210000
DTSTAMP:20260423T020700
CREATED:20181026T042012Z
LAST-MODIFIED:20181026T042012Z
UID:1223-1541786400-1541797200@mikechristiansen.com
SUMMARY:Solo @ Le Nonne\, Logan\, UT
DESCRIPTION:
URL:https://mikechristiansen.com/event/solo-le-nonne-logan-ut-2-2/
CATEGORIES:Performances
END:VEVENT
BEGIN:VEVENT
DTSTART;TZID=UTC:20181102T180000
DTEND;TZID=UTC:20181102T210000
DTSTAMP:20260423T020700
CREATED:20181025T022903Z
LAST-MODIFIED:20181025T022903Z
UID:1222-1541181600-1541192400@mikechristiansen.com
SUMMARY:Solo @ Le Nonne\, Logan\, UT
DESCRIPTION:
URL:https://mikechristiansen.com/event/solo-le-nonne-logan-ut-8/
CATEGORIES:Performances
END:VEVENT
BEGIN:VEVENT
DTSTART;TZID=UTC:20181026T180000
DTEND;TZID=UTC:20181026T210000
DTSTAMP:20260423T020700
CREATED:20181005T234745Z
LAST-MODIFIED:20181005T234745Z
UID:1220-1540576800-1540587600@mikechristiansen.com
SUMMARY:Solo Performance
DESCRIPTION:Mike performs a variety of music on solo guitar.  Enjoy world class Italian food with amazing live entertainment.
URL:https://mikechristiansen.com/event/solo-performance-2-2/
END:VEVENT
BEGIN:VEVENT
DTSTART;TZID=UTC:20181012T180000
DTEND;TZID=UTC:20181012T210000
DTSTAMP:20260423T020700
CREATED:20181005T234545Z
LAST-MODIFIED:20181005T234545Z
UID:1219-1539367200-1539378000@mikechristiansen.com
SUMMARY:Solo Performance
DESCRIPTION:
URL:https://mikechristiansen.com/event/solo-performance-3/
END:VEVENT
BEGIN:VEVENT
DTSTART;TZID=UTC:20180921T180000
DTEND;TZID=UTC:20180921T210000
DTSTAMP:20260423T020700
CREATED:20180922T014229Z
LAST-MODIFIED:20180922T014229Z
UID:1218-1537552800-1537563600@mikechristiansen.com
SUMMARY:Solo Guitar Performance
DESCRIPTION:
URL:https://mikechristiansen.com/event/solor-guitar-performance-2/
CATEGORIES:Performances
END:VEVENT
END:VCALENDAR