BEGIN:VCALENDAR
VERSION:2.0
PRODID:-//Mike Christiansen - ECPv6.14.0//NONSGML v1.0//EN
CALSCALE:GREGORIAN
METHOD:PUBLISH
X-ORIGINAL-URL:https://mikechristiansen.com
X-WR-CALDESC:Events for Mike Christiansen
REFRESH-INTERVAL;VALUE=DURATION:PT1H
X-Robots-Tag:noindex
X-PUBLISHED-TTL:PT1H
BEGIN:VTIMEZONE
TZID:UTC
BEGIN:STANDARD
TZOFFSETFROM:+0000
TZOFFSETTO:+0000
TZNAME:UTC
DTSTART:20210101T000000
END:STANDARD
END:VTIMEZONE
BEGIN:VEVENT
DTSTART;TZID=UTC:20210101T180000
DTEND;TZID=UTC:20210101T210000
DTSTAMP:20260421T161339
CREATED:20201201T064928Z
LAST-MODIFIED:20201201T064928Z
UID:626-1609524000-1609534800@mikechristiansen.com
SUMMARY:Solo Guitar at Le Nonne Restaurant (Logan)
DESCRIPTION:
URL:https://mikechristiansen.com/event/solo-guitar-at-le-nonne-restaurant-logan/
END:VEVENT
BEGIN:VEVENT
DTSTART;TZID=UTC:20210108T180000
DTEND;TZID=UTC:20210108T210000
DTSTAMP:20260421T161339
CREATED:20201201T070131Z
LAST-MODIFIED:20201201T070131Z
UID:635-1610128800-1610139600@mikechristiansen.com
SUMMARY:Solo Guitar at Le Nonne Restaurant (Logan)
DESCRIPTION:
URL:https://mikechristiansen.com/event/solo-guitar-at-le-nonne-restaurant-logan-2/
END:VEVENT
BEGIN:VEVENT
DTSTART;TZID=UTC:20210115T180000
DTEND;TZID=UTC:20210115T210000
DTSTAMP:20260421T161339
CREATED:20201201T070216Z
LAST-MODIFIED:20201201T070216Z
UID:637-1610733600-1610744400@mikechristiansen.com
SUMMARY:Solo Guitar at Le Nonne Restaurant (Logan)
DESCRIPTION:
URL:https://mikechristiansen.com/event/solo-guitar-at-le-nonne-restaurant-logan-3/
END:VEVENT
BEGIN:VEVENT
DTSTART;TZID=UTC:20210122T180000
DTEND;TZID=UTC:20210122T210000
DTSTAMP:20260421T161339
CREATED:20201201T070309Z
LAST-MODIFIED:20201201T070309Z
UID:639-1611338400-1611349200@mikechristiansen.com
SUMMARY:Solo Guitar at Le Nonne Restaurant (Logan)
DESCRIPTION:
URL:https://mikechristiansen.com/event/solo-guitar-at-le-nonne-restaurant-logan-4/
END:VEVENT
BEGIN:VEVENT
DTSTART;TZID=UTC:20210129T180000
DTEND;TZID=UTC:20210129T210000
DTSTAMP:20260421T161339
CREATED:20201201T070354Z
LAST-MODIFIED:20201201T070354Z
UID:641-1611943200-1611954000@mikechristiansen.com
SUMMARY:Solo Guitar at Le Nonne Restaurant (Logan)
DESCRIPTION:
URL:https://mikechristiansen.com/event/solo-guitar-at-le-nonne-restaurant-logan-5/
END:VEVENT
END:VCALENDAR