BEGIN:VCALENDAR
VERSION:2.0
PRODID:-//Mike Christiansen - ECPv6.14.0//NONSGML v1.0//EN
CALSCALE:GREGORIAN
METHOD:PUBLISH
X-ORIGINAL-URL:https://mikechristiansen.com
X-WR-CALDESC:Events for Mike Christiansen
REFRESH-INTERVAL;VALUE=DURATION:PT1H
X-Robots-Tag:noindex
X-PUBLISHED-TTL:PT1H
BEGIN:VTIMEZONE
TZID:UTC
BEGIN:STANDARD
TZOFFSETFROM:+0000
TZOFFSETTO:+0000
TZNAME:UTC
DTSTART:20210101T000000
END:STANDARD
END:VTIMEZONE
BEGIN:VEVENT
DTSTART;TZID=UTC:20210206T180000
DTEND;TZID=UTC:20210206T210000
DTSTAMP:20260424T150137
CREATED:20201201T070636Z
LAST-MODIFIED:20201201T070636Z
UID:643-1612634400-1612645200@mikechristiansen.com
SUMMARY:Solo Guitar at Le Nonne Restaurant (Logan)
DESCRIPTION:
URL:https://mikechristiansen.com/event/solo-guitar-at-le-nonne-restaurant-logan-6/
END:VEVENT
BEGIN:VEVENT
DTSTART;TZID=UTC:20210210T090000
DTEND;TZID=UTC:20210210T220000
DTSTAMP:20260424T150137
CREATED:20201201T065737Z
LAST-MODIFIED:20201201T065737Z
UID:631-1612947600-1612994400@mikechristiansen.com
SUMMARY:Virtual Clinic for Vermont Music Educators
DESCRIPTION:
URL:https://mikechristiansen.com/event/virtual-clinic-for-vermont-music-educators/
END:VEVENT
BEGIN:VEVENT
DTSTART;TZID=UTC:20210213T180000
DTEND;TZID=UTC:20210213T210000
DTSTAMP:20260424T150137
CREATED:20201201T070718Z
LAST-MODIFIED:20201201T070718Z
UID:645-1613239200-1613250000@mikechristiansen.com
SUMMARY:Solo Guitar at Le Nonne Restaurant (Logan)
DESCRIPTION:
URL:https://mikechristiansen.com/event/solo-guitar-at-le-nonne-restaurant-logan-7/
END:VEVENT
BEGIN:VEVENT
DTSTART;TZID=UTC:20210220T090000
DTEND;TZID=UTC:20210220T100000
DTSTAMP:20260424T150137
CREATED:20201201T065105Z
LAST-MODIFIED:20201201T065105Z
UID:628-1613811600-1613815200@mikechristiansen.com
SUMMARY:Virtual Clinic for California Music Educators Conference
DESCRIPTION:
URL:https://mikechristiansen.com/event/virtual-clinic-for-vermont-music-education-conference/
END:VEVENT
BEGIN:VEVENT
DTSTART;TZID=UTC:20210220T090000
DTEND;TZID=UTC:20210220T100000
DTSTAMP:20260424T150137
CREATED:20201201T065829Z
LAST-MODIFIED:20201201T065829Z
UID:633-1613811600-1613815200@mikechristiansen.com
SUMMARY:Virtual Clinic for California Music Educators
DESCRIPTION:
URL:https://mikechristiansen.com/event/virtual-clinic-for-california-music-educators/
END:VEVENT
BEGIN:VEVENT
DTSTART;TZID=UTC:20210220T180000
DTEND;TZID=UTC:20210220T210000
DTSTAMP:20260424T150137
CREATED:20201201T070811Z
LAST-MODIFIED:20201201T070811Z
UID:647-1613844000-1613854800@mikechristiansen.com
SUMMARY:Solo Guitar ar Le Nonne Restaurant (Logan)
DESCRIPTION:
URL:https://mikechristiansen.com/event/solo-guitar-ar-le-nonne-restaurant-logan/
END:VEVENT
BEGIN:VEVENT
DTSTART;TZID=UTC:20210227T180000
DTEND;TZID=UTC:20210227T210000
DTSTAMP:20260424T150137
CREATED:20201201T070850Z
LAST-MODIFIED:20201201T070850Z
UID:649-1614448800-1614459600@mikechristiansen.com
SUMMARY:Solo Guitar at Le Nonne Restaurant (Logan)
DESCRIPTION:
URL:https://mikechristiansen.com/event/solo-guitar-at-le-nonne-restaurant-logan-8/
END:VEVENT
END:VCALENDAR