BEGIN:VCALENDAR
VERSION:2.0
PRODID:-//Mike Christiansen - ECPv6.14.0//NONSGML v1.0//EN
CALSCALE:GREGORIAN
METHOD:PUBLISH
X-ORIGINAL-URL:https://mikechristiansen.com
X-WR-CALDESC:Events for Mike Christiansen
REFRESH-INTERVAL;VALUE=DURATION:PT1H
X-Robots-Tag:noindex
X-PUBLISHED-TTL:PT1H
BEGIN:VTIMEZONE
TZID:UTC
BEGIN:STANDARD
TZOFFSETFROM:+0000
TZOFFSETTO:+0000
TZNAME:UTC
DTSTART:20210101T000000
END:STANDARD
END:VTIMEZONE
BEGIN:VEVENT
DTSTART;TZID=UTC:20210806T173000
DTEND;TZID=UTC:20210806T213000
DTSTAMP:20260425T093745
CREATED:20210710T223157Z
LAST-MODIFIED:20210710T223157Z
UID:688-1628271000-1628285400@mikechristiansen.com
SUMMARY:Solo Guitar at Le None Restaurant (Logan)
DESCRIPTION:
URL:https://mikechristiansen.com/event/solo-guitar-at-le-none-restaurant-logan/
END:VEVENT
BEGIN:VEVENT
DTSTART;TZID=UTC:20210807T173000
DTEND;TZID=UTC:20210807T213000
DTSTAMP:20260425T093745
CREATED:20210710T223328Z
LAST-MODIFIED:20210710T223328Z
UID:690-1628357400-1628371800@mikechristiansen.com
SUMMARY:Solo Guitar at Le Nonne Restaurant (Logan)
DESCRIPTION:
URL:https://mikechristiansen.com/event/solo-guitar-at-le-nonne-restaurant-logan-13/
END:VEVENT
BEGIN:VEVENT
DTSTART;TZID=UTC:20210812T180000
DTEND;TZID=UTC:20210812T210000
DTSTAMP:20260425T093745
CREATED:20210710T223530Z
LAST-MODIFIED:20210710T223530Z
UID:692-1628791200-1628802000@mikechristiansen.com
SUMMARY:With Lightwood Duo at USU President's House (Private Event)
DESCRIPTION:
URL:https://mikechristiansen.com/event/with-lightwood-duo-at-usu-presidents-house-private-event/
END:VEVENT
BEGIN:VEVENT
DTSTART;TZID=UTC:20210813T173000
DTEND;TZID=UTC:20210813T210000
DTSTAMP:20260425T093745
CREATED:20210710T223623Z
LAST-MODIFIED:20210710T223623Z
UID:694-1628875800-1628888400@mikechristiansen.com
SUMMARY:Solo Guitar at Le Nonne Restaurant (Logan)
DESCRIPTION:
URL:https://mikechristiansen.com/event/solo-guitar-at-le-nonne-restaurant-logan-14/
END:VEVENT
BEGIN:VEVENT
DTSTART;TZID=UTC:20210814T173000
DTEND;TZID=UTC:20210814T210000
DTSTAMP:20260425T093745
CREATED:20210710T223725Z
LAST-MODIFIED:20210710T223725Z
UID:696-1628962200-1628974800@mikechristiansen.com
SUMMARY:Solo Guitar at Le Nonne Restaurant (Logan)
DESCRIPTION:
URL:https://mikechristiansen.com/event/solo-guitar-at-le-nonne-restaurant-logan-15/
END:VEVENT
BEGIN:VEVENT
DTSTART;TZID=UTC:20210816T180000
DTEND;TZID=UTC:20210816T210000
DTSTAMP:20260425T093745
CREATED:20210710T223920Z
LAST-MODIFIED:20210710T223920Z
UID:699-1629136800-1629147600@mikechristiansen.com
SUMMARY:With Lightwood Duo at USU TSC Ballroom (Private Event)
DESCRIPTION:
URL:https://mikechristiansen.com/event/with-lightwood-duo-at-usu-tsc-ballroom-private-event/
END:VEVENT
BEGIN:VEVENT
DTSTART;TZID=UTC:20210820T173000
DTEND;TZID=UTC:20210820T210000
DTSTAMP:20260425T093745
CREATED:20210710T224009Z
LAST-MODIFIED:20210710T224009Z
UID:701-1629480600-1629493200@mikechristiansen.com
SUMMARY:Solo Guitar at Le Nonne Restaurant (Logan)
DESCRIPTION:
URL:https://mikechristiansen.com/event/solo-guitar-at-le-nonne-restaurant-logan-16/
END:VEVENT
BEGIN:VEVENT
DTSTART;TZID=UTC:20210821T173000
DTEND;TZID=UTC:20210821T210000
DTSTAMP:20260425T093745
CREATED:20210710T224144Z
LAST-MODIFIED:20210710T224144Z
UID:703-1629567000-1629579600@mikechristiansen.com
SUMMARY:Solo Guitar at Le Nonne Restaurant (Logan)
DESCRIPTION:
URL:https://mikechristiansen.com/event/solo-guitar-at-le-nonne-restaurant-logan-17/
END:VEVENT
BEGIN:VEVENT
DTSTART;TZID=UTC:20210827T173000
DTEND;TZID=UTC:20210827T210000
DTSTAMP:20260425T093745
CREATED:20210710T224241Z
LAST-MODIFIED:20210710T224241Z
UID:705-1630085400-1630098000@mikechristiansen.com
SUMMARY:Solo Guitar at Le Nonne Restaurant (Logan)
DESCRIPTION:
URL:https://mikechristiansen.com/event/solo-guitar-at-le-nonne-restaurant-logan-18/
END:VEVENT
BEGIN:VEVENT
DTSTART;TZID=UTC:20210828T173000
DTEND;TZID=UTC:20210828T210000
DTSTAMP:20260425T093745
CREATED:20210710T224334Z
LAST-MODIFIED:20210710T224334Z
UID:707-1630171800-1630184400@mikechristiansen.com
SUMMARY:Solo Guitar at Le Nonne Restaurant (Logan)
DESCRIPTION:
URL:https://mikechristiansen.com/event/solo-guitar-at-le-nonne-restaurant-logan-19/
END:VEVENT
BEGIN:VEVENT
DTSTART;TZID=UTC:20210831T160000
DTEND;TZID=UTC:20210831T200000
DTSTAMP:20260425T093745
CREATED:20210710T224432Z
LAST-MODIFIED:20210710T224432Z
UID:709-1630425600-1630440000@mikechristiansen.com
SUMMARY:With Lightwood Duo Private Party in Burley Idaho
DESCRIPTION:
URL:https://mikechristiansen.com/event/with-lightwood-duo-private-party-in-burley-idaho/
END:VEVENT
END:VCALENDAR