BEGIN:VCALENDAR
VERSION:2.0
PRODID:-//Mike Christiansen - ECPv6.14.0//NONSGML v1.0//EN
CALSCALE:GREGORIAN
METHOD:PUBLISH
X-ORIGINAL-URL:https://mikechristiansen.com
X-WR-CALDESC:Events for Mike Christiansen
REFRESH-INTERVAL;VALUE=DURATION:PT1H
X-Robots-Tag:noindex
X-PUBLISHED-TTL:PT1H
BEGIN:VTIMEZONE
TZID:UTC
BEGIN:STANDARD
TZOFFSETFROM:+0000
TZOFFSETTO:+0000
TZNAME:UTC
DTSTART:20210101T000000
END:STANDARD
END:VTIMEZONE
BEGIN:VEVENT
DTSTART;TZID=UTC:20210903T173000
DTEND;TZID=UTC:20210903T210000
DTSTAMP:20260425T080542
CREATED:20210710T224706Z
LAST-MODIFIED:20210710T224706Z
UID:711-1630690200-1630702800@mikechristiansen.com
SUMMARY:Solo Guitar at Le Nonne Restaurant (Logan)
DESCRIPTION:
URL:https://mikechristiansen.com/event/solo-guitar-at-le-nonne-restaurant-logan-20/
END:VEVENT
BEGIN:VEVENT
DTSTART;TZID=UTC:20210904T173000
DTEND;TZID=UTC:20210904T213000
DTSTAMP:20260425T080542
CREATED:20210710T224810Z
LAST-MODIFIED:20210710T224810Z
UID:713-1630776600-1630791000@mikechristiansen.com
SUMMARY:Solo Guitar at Le Nonne Restaurant (Logan)
DESCRIPTION:
URL:https://mikechristiansen.com/event/solo-guitar-at-le-nonne-restaurant-logan-21/
END:VEVENT
BEGIN:VEVENT
DTSTART;TZID=UTC:20210910T173000
DTEND;TZID=UTC:20210910T210000
DTSTAMP:20260425T080542
CREATED:20210710T224935Z
LAST-MODIFIED:20210710T224935Z
UID:715-1631295000-1631307600@mikechristiansen.com
SUMMARY:Solo Guitar at Le Nonne Restaurant (Logan)
DESCRIPTION:
URL:https://mikechristiansen.com/event/solo-guitar-at-le-nonne-restaurant-logan-22/
END:VEVENT
BEGIN:VEVENT
DTSTART;TZID=UTC:20210911T173000
DTEND;TZID=UTC:20210911T210000
DTSTAMP:20260425T080542
CREATED:20210710T225018Z
LAST-MODIFIED:20210710T225018Z
UID:717-1631381400-1631394000@mikechristiansen.com
SUMMARY:Solo Guitar for Mark Laub Wedding at Montage in Deer Valley
DESCRIPTION:
URL:https://mikechristiansen.com/event/solo-guitar-at-le-nonne-restaurant-logan-23/
END:VEVENT
BEGIN:VEVENT
DTSTART;TZID=UTC:20210917T173000
DTEND;TZID=UTC:20210917T210000
DTSTAMP:20260425T080542
CREATED:20210710T225148Z
LAST-MODIFIED:20210710T225148Z
UID:720-1631899800-1631912400@mikechristiansen.com
SUMMARY:Solo Guitar at Le Nonne Restaurant (Logan)
DESCRIPTION:
URL:https://mikechristiansen.com/event/solo-guitar-at-le-nonne-restaurant-logan-24/
END:VEVENT
BEGIN:VEVENT
DTSTART;TZID=UTC:20210918T173000
DTEND;TZID=UTC:20210918T210000
DTSTAMP:20260425T080542
CREATED:20210710T225230Z
LAST-MODIFIED:20210710T225230Z
UID:722-1631986200-1631998800@mikechristiansen.com
SUMMARY:Solo Guitar at Le Nonne Restaurant (Logan)
DESCRIPTION:
URL:https://mikechristiansen.com/event/solo-guitar-at-le-nonne-restaurant-logan-25/
END:VEVENT
BEGIN:VEVENT
DTSTART;TZID=UTC:20210924T173000
DTEND;TZID=UTC:20210924T210000
DTSTAMP:20260425T080542
CREATED:20210710T225321Z
LAST-MODIFIED:20210710T225321Z
UID:724-1632504600-1632517200@mikechristiansen.com
SUMMARY:Solo Guitar at Le Nonne Restaurant (Logan)
DESCRIPTION:
URL:https://mikechristiansen.com/event/solo-guitar-at-le-nonne-restaurant-logan-26/
END:VEVENT
BEGIN:VEVENT
DTSTART;TZID=UTC:20210925T173000
DTEND;TZID=UTC:20210925T210000
DTSTAMP:20260425T080542
CREATED:20210710T225409Z
LAST-MODIFIED:20210710T225409Z
UID:726-1632591000-1632603600@mikechristiansen.com
SUMMARY:Solo Guitar at Le Nonne Restaurant (Logan)
DESCRIPTION:
URL:https://mikechristiansen.com/event/solo-guitar-at-le-nonne-restaurant-logan-27/
END:VEVENT
END:VCALENDAR