BEGIN:VCALENDAR
VERSION:2.0
PRODID:-//Mike Christiansen - ECPv6.14.0//NONSGML v1.0//EN
CALSCALE:GREGORIAN
METHOD:PUBLISH
X-ORIGINAL-URL:https://mikechristiansen.com
X-WR-CALDESC:Events for Mike Christiansen
REFRESH-INTERVAL;VALUE=DURATION:PT1H
X-Robots-Tag:noindex
X-PUBLISHED-TTL:PT1H
BEGIN:VTIMEZONE
TZID:UTC
BEGIN:STANDARD
TZOFFSETFROM:+0000
TZOFFSETTO:+0000
TZNAME:UTC
DTSTART:20220101T000000
END:STANDARD
END:VTIMEZONE
BEGIN:VEVENT
DTSTART;TZID=UTC:20220304T053000
DTEND;TZID=UTC:20220304T210000
DTSTAMP:20260424T215326
CREATED:20220207T232836Z
LAST-MODIFIED:20220207T232836Z
UID:826-1646371800-1646427600@mikechristiansen.com
SUMMARY:Solo Guitar at Le Nonne Restaurant - Logan\, Utah
DESCRIPTION:
URL:https://mikechristiansen.com/event/solo-guitar-at-le-nonne-restaurant-logan-utah/
END:VEVENT
BEGIN:VEVENT
DTSTART;TZID=UTC:20220310T180000
DTEND;TZID=UTC:20220310T210000
DTSTAMP:20260424T215326
CREATED:20220311T055941Z
LAST-MODIFIED:20220311T055941Z
UID:848-1646935200-1646946000@mikechristiansen.com
SUMMARY:Solo Guitar at Le Nonne Restaurant - Logan\, UT
DESCRIPTION:
URL:https://mikechristiansen.com/event/solo-guitar-at-le-nonne-restaurant-logan-ut-22/
END:VEVENT
BEGIN:VEVENT
DTSTART;TZID=UTC:20220313T173000
DTEND;TZID=UTC:20220313T210000
DTSTAMP:20260424T215326
CREATED:20220311T060256Z
LAST-MODIFIED:20220311T060256Z
UID:850-1647192600-1647205200@mikechristiansen.com
SUMMARY:Solo Guitar @ Le Nonne Restaurant - Logan\, UT
DESCRIPTION:
URL:https://mikechristiansen.com/event/solo-guitar-le-nonne-restaurant-logan-ut-18/
END:VEVENT
BEGIN:VEVENT
DTSTART;TZID=UTC:20220314T180000
DTEND;TZID=UTC:20220314T200000
DTSTAMP:20260424T215326
CREATED:20220311T060426Z
LAST-MODIFIED:20220311T060426Z
UID:852-1647280800-1647288000@mikechristiansen.com
SUMMARY:Gig with Quartet at Jack's Pizza - Logan UT
DESCRIPTION:
URL:https://mikechristiansen.com/event/gig-with-quartet-at-jacks-pizza-logan-ut/
END:VEVENT
BEGIN:VEVENT
DTSTART;TZID=UTC:20220316T190000
DTEND;TZID=UTC:20220316T210000
DTSTAMP:20260424T215326
CREATED:20220311T060554Z
LAST-MODIFIED:20220311T060554Z
UID:854-1647457200-1647464400@mikechristiansen.com
SUMMARY:Trio Gig at The Cache - Logan\, UT
DESCRIPTION:
URL:https://mikechristiansen.com/event/trio-gig-at-the-cache-logan-ut/
END:VEVENT
BEGIN:VEVENT
DTSTART;TZID=UTC:20220319T173000
DTEND;TZID=UTC:20220319T210000
DTSTAMP:20260424T215326
CREATED:20220311T060724Z
LAST-MODIFIED:20220311T060724Z
UID:856-1647711000-1647723600@mikechristiansen.com
SUMMARY:Solo Guitar @ Le Nonne Restaurant - Logan\, UT
DESCRIPTION:
URL:https://mikechristiansen.com/event/solo-guitar-le-nonne-restaurant-logan-ut-19/
END:VEVENT
BEGIN:VEVENT
DTSTART;TZID=UTC:20220322T170000
DTEND;TZID=UTC:20220322T190000
DTSTAMP:20260424T215326
CREATED:20220311T060835Z
LAST-MODIFIED:20220311T060835Z
UID:858-1647968400-1647975600@mikechristiansen.com
SUMMARY:Solo - Private Event - Las Vegas Convention Center
DESCRIPTION:
URL:https://mikechristiansen.com/event/solo-private-event-las-vegas-convention-center/
END:VEVENT
BEGIN:VEVENT
DTSTART;TZID=UTC:20220326T173000
DTEND;TZID=UTC:20220326T210000
DTSTAMP:20260424T215326
CREATED:20220311T060931Z
LAST-MODIFIED:20220311T060931Z
UID:860-1648315800-1648328400@mikechristiansen.com
SUMMARY:Solo @ Le Nonne Restaurant - Logan\, UT
DESCRIPTION:
URL:https://mikechristiansen.com/event/solo-le-nonne-restaurant-logan-ut/
END:VEVENT
END:VCALENDAR