BEGIN:VCALENDAR
VERSION:2.0
PRODID:-//Mike Christiansen - ECPv6.14.0//NONSGML v1.0//EN
CALSCALE:GREGORIAN
METHOD:PUBLISH
X-ORIGINAL-URL:https://mikechristiansen.com
X-WR-CALDESC:Events for Mike Christiansen
REFRESH-INTERVAL;VALUE=DURATION:PT1H
X-Robots-Tag:noindex
X-PUBLISHED-TTL:PT1H
BEGIN:VTIMEZONE
TZID:UTC
BEGIN:STANDARD
TZOFFSETFROM:+0000
TZOFFSETTO:+0000
TZNAME:UTC
DTSTART:20230101T000000
END:STANDARD
END:VTIMEZONE
BEGIN:VEVENT
DTSTART;TZID=UTC:20230303T080000
DTEND;TZID=UTC:20230303T170000
DTSTAMP:20260424T032326
CREATED:20230131T234209Z
LAST-MODIFIED:20230131T234209Z
UID:1014-1677830400-1677862800@mikechristiansen.com
SUMMARY:Clinic at MDMEA
DESCRIPTION:
URL:https://mikechristiansen.com/event/clinic-at-mdmea/
END:VEVENT
BEGIN:VEVENT
DTSTART;TZID=UTC:20230304T080000
DTEND;TZID=UTC:20230304T170000
DTSTAMP:20260424T032326
CREATED:20230131T234306Z
LAST-MODIFIED:20230131T234306Z
UID:1016-1677916800-1677949200@mikechristiansen.com
SUMMARY:Clinic at MDMEA-Baltimore MD
DESCRIPTION:
URL:https://mikechristiansen.com/event/clinic-at-mdmea-baltimore-md/
END:VEVENT
BEGIN:VEVENT
DTSTART;TZID=UTC:20230310T173000
DTEND;TZID=UTC:20230310T210000
DTSTAMP:20260424T032326
CREATED:20230131T234439Z
LAST-MODIFIED:20230131T234439Z
UID:1018-1678469400-1678482000@mikechristiansen.com
SUMMARY:Solo Guitar at Le Nonne Restaurant-Logan\, UT
DESCRIPTION:
URL:https://mikechristiansen.com/event/solo-guitar-at-le-nonne-restaurant-logan-ut-54/
END:VEVENT
BEGIN:VEVENT
DTSTART;TZID=UTC:20230311T173000
DTEND;TZID=UTC:20230311T210000
DTSTAMP:20260424T032326
CREATED:20230131T234537Z
LAST-MODIFIED:20230131T234537Z
UID:1020-1678555800-1678568400@mikechristiansen.com
SUMMARY:Solo Guitar at Le Nonne Restaurant-Logan\, UT
DESCRIPTION:
URL:https://mikechristiansen.com/event/solo-guitar-at-le-nonne-restaurant-logan-ut-55/
END:VEVENT
BEGIN:VEVENT
DTSTART;TZID=UTC:20230317T173000
DTEND;TZID=UTC:20230317T210000
DTSTAMP:20260424T032326
CREATED:20230131T234645Z
LAST-MODIFIED:20230131T234645Z
UID:1022-1679074200-1679086800@mikechristiansen.com
SUMMARY:Solo Guitar at Le Nonne Restaurant-Logan\, UT
DESCRIPTION:
URL:https://mikechristiansen.com/event/solo-guitar-at-le-nonne-restaurant-logan-ut-56/
END:VEVENT
BEGIN:VEVENT
DTSTART;TZID=UTC:20230318T173000
DTEND;TZID=UTC:20230318T210000
DTSTAMP:20260424T032326
CREATED:20230131T234739Z
LAST-MODIFIED:20230131T234739Z
UID:1024-1679160600-1679173200@mikechristiansen.com
SUMMARY:Solo Guitar at Le Nonne Restaurant-Logan\, UT
DESCRIPTION:
URL:https://mikechristiansen.com/event/solo-guitar-at-le-nonne-restaurant-logan-ut-57/
END:VEVENT
BEGIN:VEVENT
DTSTART;TZID=UTC:20230324T173000
DTEND;TZID=UTC:20230324T210000
DTSTAMP:20260424T032326
CREATED:20230131T234904Z
LAST-MODIFIED:20230131T234904Z
UID:1026-1679679000-1679691600@mikechristiansen.com
SUMMARY:Solo Guitar at Le Nonne Restaurant-Logan\, UT
DESCRIPTION:
URL:https://mikechristiansen.com/event/solo-guitar-at-le-nonne-restaurant-logan-ut-58/
END:VEVENT
BEGIN:VEVENT
DTSTART;TZID=UTC:20230325T173000
DTEND;TZID=UTC:20230325T210000
DTSTAMP:20260424T032326
CREATED:20230131T235004Z
LAST-MODIFIED:20230131T235004Z
UID:1028-1679765400-1679778000@mikechristiansen.com
SUMMARY:Solo Guitar at Le Nonne Restaurant-Logan\, UT
DESCRIPTION:
URL:https://mikechristiansen.com/event/solo-guitar-at-le-nonne-restaurant-logan-ut-59/
END:VEVENT
BEGIN:VEVENT
DTSTART;TZID=UTC:20230331T163000
DTEND;TZID=UTC:20230331T210000
DTSTAMP:20260424T032326
CREATED:20230131T235104Z
LAST-MODIFIED:20230131T235104Z
UID:1030-1680280200-1680296400@mikechristiansen.com
SUMMARY:Solo Guitar at Le Nonne Restaurant-Logan\, UT
DESCRIPTION:
URL:https://mikechristiansen.com/event/solo-guitar-at-le-nonne-restaurant-logan-ut-60/
END:VEVENT
END:VCALENDAR