BEGIN:VCALENDAR
VERSION:2.0
PRODID:-//Mike Christiansen - ECPv6.14.0//NONSGML v1.0//EN
CALSCALE:GREGORIAN
METHOD:PUBLISH
X-ORIGINAL-URL:https://mikechristiansen.com
X-WR-CALDESC:Events for Mike Christiansen
REFRESH-INTERVAL;VALUE=DURATION:PT1H
X-Robots-Tag:noindex
X-PUBLISHED-TTL:PT1H
BEGIN:VTIMEZONE
TZID:UTC
BEGIN:STANDARD
TZOFFSETFROM:+0000
TZOFFSETTO:+0000
TZNAME:UTC
DTSTART:20230101T000000
END:STANDARD
END:VTIMEZONE
BEGIN:VEVENT
DTSTART;TZID=UTC:20230804T173000
DTEND;TZID=UTC:20230804T210000
DTSTAMP:20260423T193507
CREATED:20230607T022602Z
LAST-MODIFIED:20230607T022602Z
UID:1092-1691170200-1691182800@mikechristiansen.com
SUMMARY:Solo Guitar at Le Nonne Restaurant/Logan UT
DESCRIPTION:
URL:https://mikechristiansen.com/event/solo-guitar-at-le-nonne-restaurant-logan-ut-67/
END:VEVENT
BEGIN:VEVENT
DTSTART;TZID=UTC:20230805T173000
DTEND;TZID=UTC:20230805T210000
DTSTAMP:20260423T193507
CREATED:20230607T022741Z
LAST-MODIFIED:20230607T022741Z
UID:1094-1691256600-1691269200@mikechristiansen.com
SUMMARY:Solo Guitar at Privagtge Wedding/Park City
DESCRIPTION:
URL:https://mikechristiansen.com/event/solo-guitar-at-privagtge-wedding-park-city/
END:VEVENT
BEGIN:VEVENT
DTSTART;TZID=UTC:20230811T173000
DTEND;TZID=UTC:20230811T210000
DTSTAMP:20260423T193507
CREATED:20230607T022839Z
LAST-MODIFIED:20230607T022839Z
UID:1096-1691775000-1691787600@mikechristiansen.com
SUMMARY:Solo Guitar at Le Nonne Restaurant/Logan UT
DESCRIPTION:
URL:https://mikechristiansen.com/event/solo-guitar-at-le-nonne-restaurant-logan-ut-68/
END:VEVENT
BEGIN:VEVENT
DTSTART;TZID=UTC:20230812T173000
DTEND;TZID=UTC:20230812T210000
DTSTAMP:20260423T193507
CREATED:20230607T022939Z
LAST-MODIFIED:20230607T022939Z
UID:1098-1691861400-1691874000@mikechristiansen.com
SUMMARY:Solo Guitar at Le Nonne Restaurant/Logan\,Ut
DESCRIPTION:
URL:https://mikechristiansen.com/event/solo-guitar-at-le-nonne-restaurant-loganut-10/
END:VEVENT
BEGIN:VEVENT
DTSTART;TZID=UTC:20230814T173000
DTEND;TZID=UTC:20230814T203000
DTSTAMP:20260423T193507
CREATED:20230607T024113Z
LAST-MODIFIED:20230607T024113Z
UID:1100-1692034200-1692045000@mikechristiansen.com
SUMMARY:Solo Guitar for Private Event/USU Ballroom\, Logan\,UT
DESCRIPTION:
URL:https://mikechristiansen.com/event/solo-guitar-for-private-event-usu-ballroom-loganut/
END:VEVENT
BEGIN:VEVENT
DTSTART;TZID=UTC:20230816T180000
DTEND;TZID=UTC:20230816T200000
DTSTAMP:20260423T193507
CREATED:20230607T024237Z
LAST-MODIFIED:20230607T024237Z
UID:1102-1692208800-1692216000@mikechristiansen.com
SUMMARY:Solo Guitar for Private Event/USU President's Home/Logan\,UT
DESCRIPTION:
URL:https://mikechristiansen.com/event/solo-guitar-for-private-event-usu-presidents-home-loganut/
END:VEVENT
BEGIN:VEVENT
DTSTART;TZID=UTC:20230818T173000
DTEND;TZID=UTC:20230818T210000
DTSTAMP:20260423T193507
CREATED:20230607T024334Z
LAST-MODIFIED:20230607T024334Z
UID:1104-1692379800-1692392400@mikechristiansen.com
SUMMARY:Solo Guitar at Le Nonne Restaurant/Logan\,UT
DESCRIPTION:
URL:https://mikechristiansen.com/event/solo-guitar-at-le-nonne-restaurant-loganut-11/
END:VEVENT
BEGIN:VEVENT
DTSTART;TZID=UTC:20230819T173000
DTEND;TZID=UTC:20230819T210000
DTSTAMP:20260423T193507
CREATED:20230607T024425Z
LAST-MODIFIED:20230607T024425Z
UID:1106-1692466200-1692478800@mikechristiansen.com
SUMMARY:Solo Guitar at Le Nonne Restaurant/Logan\,UT
DESCRIPTION:
URL:https://mikechristiansen.com/event/solo-guitar-at-le-nonne-restaurant-loganut-12/
END:VEVENT
BEGIN:VEVENT
DTSTART;TZID=UTC:20230825T173000
DTEND;TZID=UTC:20230825T210000
DTSTAMP:20260423T193507
CREATED:20230607T024518Z
LAST-MODIFIED:20230607T024518Z
UID:1108-1692984600-1692997200@mikechristiansen.com
SUMMARY:Solo Guitar at Le Nonne Restaurant/Logan\,UT
DESCRIPTION:
URL:https://mikechristiansen.com/event/solo-guitar-at-le-nonne-restaurant-loganut-13/
END:VEVENT
BEGIN:VEVENT
DTSTART;TZID=UTC:20230826T173000
DTEND;TZID=UTC:20230826T213000
DTSTAMP:20260423T193507
CREATED:20230607T024639Z
LAST-MODIFIED:20230607T024639Z
UID:1110-1693071000-1693085400@mikechristiansen.com
SUMMARY:Solo Guitar for Each Chamber Music Dinner/Logan\,UT
DESCRIPTION:
URL:https://mikechristiansen.com/event/solo-guitar-for-each-chamber-music-dinner-loganut/
END:VEVENT
END:VCALENDAR