BEGIN:VCALENDAR
VERSION:2.0
PRODID:-//Mike Christiansen - ECPv6.14.0//NONSGML v1.0//EN
CALSCALE:GREGORIAN
METHOD:PUBLISH
X-WR-CALNAME:Mike Christiansen
X-ORIGINAL-URL:https://mikechristiansen.com
X-WR-CALDESC:Events for Mike Christiansen
REFRESH-INTERVAL;VALUE=DURATION:PT1H
X-Robots-Tag:noindex
X-PUBLISHED-TTL:PT1H
BEGIN:VTIMEZONE
TZID:America/Denver
BEGIN:DAYLIGHT
TZOFFSETFROM:-0700
TZOFFSETTO:-0600
TZNAME:MDT
DTSTART:20230312T090000
END:DAYLIGHT
BEGIN:STANDARD
TZOFFSETFROM:-0600
TZOFFSETTO:-0700
TZNAME:MST
DTSTART:20231105T080000
END:STANDARD
END:VTIMEZONE
BEGIN:VEVENT
DTSTART;TZID=America/Denver:20231122T080000
DTEND;TZID=America/Denver:20231122T180000
DTSTAMP:20260423T152257
CREATED:20231120T172405Z
LAST-MODIFIED:20231120T172405Z
UID:1362-1700640000-1700676000@mikechristiansen.com
SUMMARY:Solo at Salt Lake International Airport
DESCRIPTION:
URL:https://mikechristiansen.com/event/solo-at-salt-lake-international-airport/
END:VEVENT
BEGIN:VEVENT
DTSTART;TZID=America/Denver:20231129T190000
DTEND;TZID=America/Denver:20231129T210000
DTSTAMP:20260423T152257
CREATED:20231120T172533Z
LAST-MODIFIED:20231120T172533Z
UID:1364-1701284400-1701291600@mikechristiansen.com
SUMMARY:With Lars Yorgeson Singers-Tabernacle at Temple Square
DESCRIPTION:
URL:https://mikechristiansen.com/event/with-lars-yorgeson-singers-tabernacle-at-temple-square/
END:VEVENT
END:VCALENDAR