BEGIN:VCALENDAR
VERSION:2.0
PRODID:-//Mike Christiansen - ECPv6.14.0//NONSGML v1.0//EN
CALSCALE:GREGORIAN
METHOD:PUBLISH
X-WR-CALNAME:Mike Christiansen
X-ORIGINAL-URL:https://mikechristiansen.com
X-WR-CALDESC:Events for Mike Christiansen
REFRESH-INTERVAL;VALUE=DURATION:PT1H
X-Robots-Tag:noindex
X-PUBLISHED-TTL:PT1H
BEGIN:VTIMEZONE
TZID:America/Denver
BEGIN:DAYLIGHT
TZOFFSETFROM:-0700
TZOFFSETTO:-0600
TZNAME:MDT
DTSTART:20240310T090000
END:DAYLIGHT
BEGIN:STANDARD
TZOFFSETFROM:-0600
TZOFFSETTO:-0700
TZNAME:MST
DTSTART:20241103T080000
END:STANDARD
END:VTIMEZONE
BEGIN:VEVENT
DTSTART;TZID=America/Denver:20240608T183000
DTEND;TZID=America/Denver:20240608T210000
DTSTAMP:20260423T052549
CREATED:20240502T224414Z
LAST-MODIFIED:20240502T224913Z
UID:1503-1717871400-1717880400@mikechristiansen.com
SUMMARY:Private Event/Logan\, UT
DESCRIPTION:
URL:https://mikechristiansen.com/event/solo-guitar-le-nonne-restaurant-logan-ut-21/
END:VEVENT
BEGIN:VEVENT
DTSTART;TZID=America/Denver:20240614T173000
DTEND;TZID=America/Denver:20240614T210000
DTSTAMP:20260423T052549
CREATED:20240502T225136Z
LAST-MODIFIED:20240502T225136Z
UID:1508-1718386200-1718398800@mikechristiansen.com
SUMMARY:Solo Guitar @ Le Nonne Restaurant/Logan\, UT
DESCRIPTION:
URL:https://mikechristiansen.com/event/solo-guitar-le-nonne-restaurant-logan-ut-22/
END:VEVENT
BEGIN:VEVENT
DTSTART;TZID=America/Denver:20240615T163000
DTEND;TZID=America/Denver:20240615T193000
DTSTAMP:20260423T052549
CREATED:20240503T005603Z
LAST-MODIFIED:20240503T005603Z
UID:1515-1718469000-1718479800@mikechristiansen.com
SUMMARY:Solo Guitar Private Event/Wedding/Park City\, UT
DESCRIPTION:
URL:https://mikechristiansen.com/event/solo-guitar-private-event-wedding-park-city-ut/
END:VEVENT
BEGIN:VEVENT
DTSTART;TZID=America/Denver:20240616T173000
DTEND;TZID=America/Denver:20240616T210000
DTSTAMP:20260423T052549
CREATED:20240502T225231Z
LAST-MODIFIED:20240502T225400Z
UID:1510-1718559000-1718571600@mikechristiansen.com
SUMMARY:Solo Guitar Private Event/Herm's Cafe/Logan\, UT
DESCRIPTION:
URL:https://mikechristiansen.com/event/solo-guitar-le-nonne-restaurant/
END:VEVENT
BEGIN:VEVENT
DTSTART;TZID=America/Denver:20240618T120000
DTEND;TZID=America/Denver:20240618T130000
DTSTAMP:20260423T052549
CREATED:20240503T005807Z
LAST-MODIFIED:20240503T005807Z
UID:1517-1718712000-1718715600@mikechristiansen.com
SUMMARY:Solo Concert for Tabernacle Series/Logan\, UT
DESCRIPTION:
URL:https://mikechristiansen.com/event/solo-concert-for-tabernacle-series-logan-ut/
END:VEVENT
BEGIN:VEVENT
DTSTART;TZID=America/Denver:20240621T173000
DTEND;TZID=America/Denver:20240621T210000
DTSTAMP:20260423T052549
CREATED:20240503T005919Z
LAST-MODIFIED:20240503T005919Z
UID:1519-1718991000-1719003600@mikechristiansen.com
SUMMARY:Solo Guitar @ Le Nonne Restaurant/Logan\, UT
DESCRIPTION:
URL:https://mikechristiansen.com/event/solo-guitar-le-nonne-restaurant-logan-ut-23/
END:VEVENT
BEGIN:VEVENT
DTSTART;TZID=America/Denver:20240622T173000
DTEND;TZID=America/Denver:20240622T210000
DTSTAMP:20260423T052549
CREATED:20240503T010050Z
LAST-MODIFIED:20240503T010050Z
UID:1521-1719077400-1719090000@mikechristiansen.com
SUMMARY:Solo Guitar @ Le Nonne Restaurant\, Logan\, UT
DESCRIPTION:
URL:https://mikechristiansen.com/event/solo-guitar-le-nonne-restaurant-logan-ut-24/
END:VEVENT
BEGIN:VEVENT
DTSTART;TZID=America/Denver:20240628T080000
DTEND;TZID=America/Denver:20240628T170000
DTSTAMP:20260423T052549
CREATED:20240503T010305Z
LAST-MODIFIED:20240503T010305Z
UID:1523-1719561600-1719594000@mikechristiansen.com
SUMMARY:Texas O6/28–07/01
DESCRIPTION:
URL:https://mikechristiansen.com/event/texas-o6-28-07-01/
END:VEVENT
END:VCALENDAR