BEGIN:VCALENDAR
VERSION:2.0
PRODID:-//Mike Christiansen - ECPv6.14.0//NONSGML v1.0//EN
CALSCALE:GREGORIAN
METHOD:PUBLISH
X-WR-CALNAME:Mike Christiansen
X-ORIGINAL-URL:https://mikechristiansen.com
X-WR-CALDESC:Events for Mike Christiansen
REFRESH-INTERVAL;VALUE=DURATION:PT1H
X-Robots-Tag:noindex
X-PUBLISHED-TTL:PT1H
BEGIN:VTIMEZONE
TZID:America/Denver
BEGIN:DAYLIGHT
TZOFFSETFROM:-0700
TZOFFSETTO:-0600
TZNAME:MDT
DTSTART:20240310T090000
END:DAYLIGHT
BEGIN:STANDARD
TZOFFSETFROM:-0600
TZOFFSETTO:-0700
TZNAME:MST
DTSTART:20241103T080000
END:STANDARD
END:VTIMEZONE
BEGIN:VEVENT
DTSTART;TZID=America/Denver:20241203T130000
DTEND;TZID=America/Denver:20241203T143000
DTSTAMP:20260422T203722
CREATED:20240926T203453Z
LAST-MODIFIED:20240926T203453Z
UID:1594-1733230800-1733236200@mikechristiansen.com
SUMMARY:Private Concert-Logan\, UT
DESCRIPTION:
URL:https://mikechristiansen.com/event/private-concert-logan-ut/
END:VEVENT
BEGIN:VEVENT
DTSTART;TZID=America/Denver:20241205T110000
DTEND;TZID=America/Denver:20241205T130000
DTSTAMP:20260422T203722
CREATED:20240926T203740Z
LAST-MODIFIED:20240926T203740Z
UID:1596-1733396400-1733403600@mikechristiansen.com
SUMMARY:Solo Guitar for USU Facilities Luncheon-Logan\, UT
DESCRIPTION:
URL:https://mikechristiansen.com/event/solo-guitar-for-usu-facilities-luncheon-logan-ut/
END:VEVENT
BEGIN:VEVENT
DTSTART;TZID=America/Denver:20241205T160000
DTEND;TZID=America/Denver:20241205T200000
DTSTAMP:20260422T203722
CREATED:20240926T203929Z
LAST-MODIFIED:20240926T203929Z
UID:1598-1733414400-1733428800@mikechristiansen.com
SUMMARY:Solo Guitar for Tanner Accounting Firm-SLC
DESCRIPTION:
URL:https://mikechristiansen.com/event/solo-guitar-for-tanner-accounting-firm-slc/
END:VEVENT
BEGIN:VEVENT
DTSTART;TZID=America/Denver:20241206T173000
DTEND;TZID=America/Denver:20241206T210000
DTSTAMP:20260422T203722
CREATED:20240926T204037Z
LAST-MODIFIED:20240926T204037Z
UID:1600-1733506200-1733518800@mikechristiansen.com
SUMMARY:Solo Guitar at Le Nonne Restaurant-Logan\, UT
DESCRIPTION:
URL:https://mikechristiansen.com/event/solo-guitar-at-le-nonne-restaurant-logan-ut-100/
END:VEVENT
BEGIN:VEVENT
DTSTART;TZID=America/Denver:20241207T190000
DTEND;TZID=America/Denver:20241207T210000
DTSTAMP:20260422T203722
CREATED:20240926T204218Z
LAST-MODIFIED:20240926T204218Z
UID:1602-1733598000-1733605200@mikechristiansen.com
SUMMARY:Concert with Lars Yorgeson Singers-Ogden\, UT
DESCRIPTION:
URL:https://mikechristiansen.com/event/concert-with-lars-yorgeson-singers-ogden-ut-3/
END:VEVENT
BEGIN:VEVENT
DTSTART;TZID=America/Denver:20241213T180000
DTEND;TZID=America/Denver:20241213T210000
DTSTAMP:20260422T203722
CREATED:20240926T204400Z
LAST-MODIFIED:20240926T204400Z
UID:1604-1734112800-1734123600@mikechristiansen.com
SUMMARY:Solo Guitar for Private Christmas Party-Logan\, UT
DESCRIPTION:
URL:https://mikechristiansen.com/event/solo-guitar-for-private-christmas-party-logan-ut/
END:VEVENT
BEGIN:VEVENT
DTSTART;TZID=America/Denver:20241214T173000
DTEND;TZID=America/Denver:20241214T210000
DTSTAMP:20260422T203722
CREATED:20240926T204508Z
LAST-MODIFIED:20240926T204508Z
UID:1606-1734197400-1734210000@mikechristiansen.com
SUMMARY:Solo Guitar at Le Nonne Restaurant\, Logan\, UT
DESCRIPTION:
URL:https://mikechristiansen.com/event/solo-guitar-at-le-nonne-restaurant-logan-ut-101/
END:VEVENT
BEGIN:VEVENT
DTSTART;TZID=America/Denver:20241220T173000
DTEND;TZID=America/Denver:20241220T210000
DTSTAMP:20260422T203722
CREATED:20240926T204620Z
LAST-MODIFIED:20240926T204620Z
UID:1608-1734715800-1734728400@mikechristiansen.com
SUMMARY:Solo Guitar at Le Nonne Restaurant-Logan\, UT
DESCRIPTION:
URL:https://mikechristiansen.com/event/solo-guitar-at-le-nonne-restaurant-logan-ut-102/
END:VEVENT
BEGIN:VEVENT
DTSTART;TZID=America/Denver:20241221T173000
DTEND;TZID=America/Denver:20241221T210000
DTSTAMP:20260422T203722
CREATED:20240926T204716Z
LAST-MODIFIED:20240926T204716Z
UID:1610-1734802200-1734814800@mikechristiansen.com
SUMMARY:Solo Guitar at Le Nonne Restaurant-Logan\, UT
DESCRIPTION:
URL:https://mikechristiansen.com/event/solo-guitar-at-le-nonne-restaurant-logan-ut-103/
END:VEVENT
BEGIN:VEVENT
DTSTART;TZID=America/Denver:20241224T070000
DTEND;TZID=America/Denver:20241224T150000
DTSTAMP:20260422T203722
CREATED:20240926T204823Z
LAST-MODIFIED:20240926T204823Z
UID:1612-1735023600-1735052400@mikechristiansen.com
SUMMARY:Solo Guitar at SLC International Airport
DESCRIPTION:
URL:https://mikechristiansen.com/event/solo-guitar-at-slc-international-airport-3/
END:VEVENT
BEGIN:VEVENT
DTSTART;TZID=America/Denver:20241227T173000
DTEND;TZID=America/Denver:20241227T210000
DTSTAMP:20260422T203722
CREATED:20240926T204919Z
LAST-MODIFIED:20240926T204919Z
UID:1614-1735320600-1735333200@mikechristiansen.com
SUMMARY:Solo Guitar at Le Nonne Restaurant-Logan\, UT
DESCRIPTION:
URL:https://mikechristiansen.com/event/solo-guitar-at-le-nonne-restaurant-logan-ut-104/
END:VEVENT
BEGIN:VEVENT
DTSTART;TZID=America/Denver:20241228T173000
DTEND;TZID=America/Denver:20241228T210000
DTSTAMP:20260422T203722
CREATED:20240926T205024Z
LAST-MODIFIED:20240926T205024Z
UID:1616-1735407000-1735419600@mikechristiansen.com
SUMMARY:Solo Guitar at Le Nonne Restaurant-Logan\, UT
DESCRIPTION:
URL:https://mikechristiansen.com/event/solo-guitar-at-le-nonne-restaurant-logan-ut-105/
END:VEVENT
BEGIN:VEVENT
DTSTART;TZID=America/Denver:20241231T173000
DTEND;TZID=America/Denver:20241231T210000
DTSTAMP:20260422T203722
CREATED:20240926T205144Z
LAST-MODIFIED:20240926T205144Z
UID:1618-1735666200-1735678800@mikechristiansen.com
SUMMARY:Solo Guitar at Le Nonne Restaurant-Logan\, UT
DESCRIPTION:
URL:https://mikechristiansen.com/event/solo-guitar-at-le-nonne-restaurant-logan-ut-106/
END:VEVENT
END:VCALENDAR