BEGIN:VCALENDAR
VERSION:2.0
PRODID:-//Mike Christiansen - ECPv6.14.0//NONSGML v1.0//EN
CALSCALE:GREGORIAN
METHOD:PUBLISH
X-ORIGINAL-URL:https://mikechristiansen.com
X-WR-CALDESC:Events for Mike Christiansen
REFRESH-INTERVAL;VALUE=DURATION:PT1H
X-Robots-Tag:noindex
X-PUBLISHED-TTL:PT1H
BEGIN:VTIMEZONE
TZID:America/Denver
BEGIN:DAYLIGHT
TZOFFSETFROM:-0700
TZOFFSETTO:-0600
TZNAME:MDT
DTSTART:20250309T090000
END:DAYLIGHT
BEGIN:STANDARD
TZOFFSETFROM:-0600
TZOFFSETTO:-0700
TZNAME:MST
DTSTART:20251102T080000
END:STANDARD
END:VTIMEZONE
BEGIN:VEVENT
DTSTART;TZID=America/Denver:20250110T070000
DTEND;TZID=America/Denver:20250110T220000
DTSTAMP:20260422T191835
CREATED:20250109T190725Z
LAST-MODIFIED:20250109T190725Z
UID:1623-1736492400-1736546400@mikechristiansen.com
SUMMARY:Solo at Asher Adams Hotel-SLC
DESCRIPTION:
URL:https://mikechristiansen.com/event/solo-at-asher-adams-hotel-slc/
END:VEVENT
BEGIN:VEVENT
DTSTART;TZID=America/Denver:20250111T173000
DTEND;TZID=America/Denver:20250111T210000
DTSTAMP:20260422T191835
CREATED:20250109T190908Z
LAST-MODIFIED:20250109T190908Z
UID:1625-1736616600-1736629200@mikechristiansen.com
SUMMARY:Solo @ Le Nonne Restaurant-Logan\, UT
DESCRIPTION:
URL:https://mikechristiansen.com/event/solo-le-nonne-restaurant-logan-ut-2/
END:VEVENT
BEGIN:VEVENT
DTSTART;TZID=America/Denver:20250117T090000
DTEND;TZID=America/Denver:20250117T100000
DTSTAMP:20260422T191835
CREATED:20250109T191120Z
LAST-MODIFIED:20250109T191120Z
UID:1627-1737104400-1737108000@mikechristiansen.com
SUMMARY:Clinic at LMEA Conference- New Orleans\, Louisiana
DESCRIPTION:
URL:https://mikechristiansen.com/event/clinic-at-lmea-conference-new-orleans-louisiana/
END:VEVENT
BEGIN:VEVENT
DTSTART;TZID=America/Denver:20250118T083000
DTEND;TZID=America/Denver:20250118T093000
DTSTAMP:20260422T191835
CREATED:20250109T191328Z
LAST-MODIFIED:20250109T191328Z
UID:1629-1737189000-1737192600@mikechristiansen.com
SUMMARY:Clinic at LMEA Conference - New Orleans\, Louisiana
DESCRIPTION:
URL:https://mikechristiansen.com/event/clinic-at-lmea-conference-new-orleans-louisiana-2/
END:VEVENT
BEGIN:VEVENT
DTSTART;TZID=America/Denver:20250125T090000
DTEND;TZID=America/Denver:20250125T100000
DTSTAMP:20260422T191835
CREATED:20250109T191755Z
LAST-MODIFIED:20250109T191755Z
UID:1632-1737795600-1737799200@mikechristiansen.com
SUMMARY:Clinic at AMEA Conference - Birmingham Alabama
DESCRIPTION:
URL:https://mikechristiansen.com/event/clinic-at-amea-conference-birmingham-alabama/
END:VEVENT
BEGIN:VEVENT
DTSTART;TZID=America/Denver:20250131T170000
DTEND;TZID=America/Denver:20250131T180000
DTSTAMP:20260422T191835
CREATED:20250109T191951Z
LAST-MODIFIED:20250109T191951Z
UID:1634-1738342800-1738346400@mikechristiansen.com
SUMMARY:Clinic at AZMEA Conference - Phoenix\, Arizona
DESCRIPTION:
URL:https://mikechristiansen.com/event/clinic-at-azmea-conference-phoenix-arizona/
END:VEVENT
END:VCALENDAR