BEGIN:VCALENDAR
VERSION:2.0
PRODID:-//Mike Christiansen - ECPv6.14.0//NONSGML v1.0//EN
CALSCALE:GREGORIAN
METHOD:PUBLISH
X-WR-CALNAME:Mike Christiansen
X-ORIGINAL-URL:https://mikechristiansen.com
X-WR-CALDESC:Events for Mike Christiansen
REFRESH-INTERVAL;VALUE=DURATION:PT1H
X-Robots-Tag:noindex
X-PUBLISHED-TTL:PT1H
BEGIN:VTIMEZONE
TZID:America/Denver
BEGIN:DAYLIGHT
TZOFFSETFROM:-0700
TZOFFSETTO:-0600
TZNAME:MDT
DTSTART:20250309T090000
END:DAYLIGHT
BEGIN:STANDARD
TZOFFSETFROM:-0600
TZOFFSETTO:-0700
TZNAME:MST
DTSTART:20251102T080000
END:STANDARD
END:VTIMEZONE
BEGIN:VEVENT
DTSTART;TZID=America/Denver:20250301T200000
DTEND;TZID=America/Denver:20250301T230000
DTSTAMP:20260422T163815
CREATED:20250109T193607Z
LAST-MODIFIED:20250214T162908Z
UID:1656-1740859200-1740870000@mikechristiansen.com
SUMMARY:Solo at Asher Adams Hotel - SLC
DESCRIPTION:
URL:https://mikechristiansen.com/event/solo-at-le-nonne-restaurant-logan-ut-8/
END:VEVENT
BEGIN:VEVENT
DTSTART;TZID=America/Denver:20250307T173000
DTEND;TZID=America/Denver:20250307T210000
DTSTAMP:20260422T163815
CREATED:20250109T193717Z
LAST-MODIFIED:20250109T193717Z
UID:1658-1741368600-1741381200@mikechristiansen.com
SUMMARY:Solo at Le Nonne Restaurant - Logan\, UT
DESCRIPTION:
URL:https://mikechristiansen.com/event/solo-at-le-nonne-restaurant-logan-ut-9/
END:VEVENT
BEGIN:VEVENT
DTSTART;TZID=America/Denver:20250308T173000
DTEND;TZID=America/Denver:20250308T210000
DTSTAMP:20260422T163815
CREATED:20250109T193809Z
LAST-MODIFIED:20250109T193809Z
UID:1660-1741455000-1741467600@mikechristiansen.com
SUMMARY:Solo at Le Nonne Restaurant - Logan\, UT
DESCRIPTION:
URL:https://mikechristiansen.com/event/solo-at-le-nonne-restaurant-logan-ut-10/
END:VEVENT
BEGIN:VEVENT
DTSTART;TZID=America/Denver:20250314T173000
DTEND;TZID=America/Denver:20250314T210000
DTSTAMP:20260422T163815
CREATED:20250109T193931Z
LAST-MODIFIED:20250109T193931Z
UID:1662-1741973400-1741986000@mikechristiansen.com
SUMMARY:Solo at Le Nonne Restaurant - Logan\, UT
DESCRIPTION:
URL:https://mikechristiansen.com/event/solo-at-le-nonne-restaurant-logan-ut-11/
END:VEVENT
BEGIN:VEVENT
DTSTART;TZID=America/Denver:20250315T173000
DTEND;TZID=America/Denver:20250315T210000
DTSTAMP:20260422T163815
CREATED:20250109T194019Z
LAST-MODIFIED:20250109T194019Z
UID:1664-1742059800-1742072400@mikechristiansen.com
SUMMARY:Solo at Le Nonne Restaurant - Logan\, UT
DESCRIPTION:
URL:https://mikechristiansen.com/event/solo-at-le-nonne-restaurant-logan-ut-12/
END:VEVENT
BEGIN:VEVENT
DTSTART;TZID=America/Denver:20250321T173000
DTEND;TZID=America/Denver:20250321T210000
DTSTAMP:20260422T163815
CREATED:20250109T194105Z
LAST-MODIFIED:20250109T194105Z
UID:1666-1742578200-1742590800@mikechristiansen.com
SUMMARY:Solo at Le Nonne Restaurant - Logan\, UT
DESCRIPTION:
URL:https://mikechristiansen.com/event/solo-at-le-nonne-restaurant-logan-ut-13/
END:VEVENT
BEGIN:VEVENT
DTSTART;TZID=America/Denver:20250322T173000
DTEND;TZID=America/Denver:20250322T210000
DTSTAMP:20260422T163815
CREATED:20250109T194144Z
LAST-MODIFIED:20250109T194144Z
UID:1668-1742664600-1742677200@mikechristiansen.com
SUMMARY:Solo at Le Nonne Restaurant - Logan\, UT
DESCRIPTION:
URL:https://mikechristiansen.com/event/solo-at-le-nonne-restaurant-logan-ut-14/
END:VEVENT
BEGIN:VEVENT
DTSTART;TZID=America/Denver:20250328T173000
DTEND;TZID=America/Denver:20250328T210000
DTSTAMP:20260422T163815
CREATED:20250109T194231Z
LAST-MODIFIED:20250109T194231Z
UID:1670-1743183000-1743195600@mikechristiansen.com
SUMMARY:Solo at Le Nonne Restaurant - Logan\, UT
DESCRIPTION:
URL:https://mikechristiansen.com/event/solo-at-le-nonne-restaurant-logan-ut-15/
END:VEVENT
BEGIN:VEVENT
DTSTART;TZID=America/Denver:20250329T173000
DTEND;TZID=America/Denver:20250329T210000
DTSTAMP:20260422T163815
CREATED:20250109T194328Z
LAST-MODIFIED:20250109T194328Z
UID:1672-1743269400-1743282000@mikechristiansen.com
SUMMARY:Solo at Le Nonne Restaurant - Logan\, UT
DESCRIPTION:
URL:https://mikechristiansen.com/event/solo-at-le-nonne-restaurant-logan-ut-16/
END:VEVENT
END:VCALENDAR