BEGIN:VCALENDAR
VERSION:2.0
PRODID:-//Mike Christiansen - ECPv6.14.0//NONSGML v1.0//EN
CALSCALE:GREGORIAN
METHOD:PUBLISH
X-ORIGINAL-URL:https://mikechristiansen.com
X-WR-CALDESC:Events for Mike Christiansen
REFRESH-INTERVAL;VALUE=DURATION:PT1H
X-Robots-Tag:noindex
X-PUBLISHED-TTL:PT1H
BEGIN:VTIMEZONE
TZID:America/Denver
BEGIN:DAYLIGHT
TZOFFSETFROM:-0700
TZOFFSETTO:-0600
TZNAME:MDT
DTSTART:20250309T090000
END:DAYLIGHT
BEGIN:STANDARD
TZOFFSETFROM:-0600
TZOFFSETTO:-0700
TZNAME:MST
DTSTART:20251102T080000
END:STANDARD
END:VTIMEZONE
BEGIN:VEVENT
DTSTART;TZID=America/Denver:20250404T173000
DTEND;TZID=America/Denver:20250404T210000
DTSTAMP:20260422T151836
CREATED:20250402T184841Z
LAST-MODIFIED:20250402T184841Z
UID:1682-1743787800-1743800400@mikechristiansen.com
SUMMARY:Solo Guitar at Le Nonne Resturant Logan\, UT
DESCRIPTION:
URL:https://mikechristiansen.com/event/solo-guitar-at-le-nonne-resturant-logan-ut/
END:VEVENT
BEGIN:VEVENT
DTSTART;TZID=America/Denver:20250405T173000
DTEND;TZID=America/Denver:20250405T210000
DTSTAMP:20260422T151836
CREATED:20250402T184949Z
LAST-MODIFIED:20250402T184949Z
UID:1684-1743874200-1743886800@mikechristiansen.com
SUMMARY:Solo Guitar at Le Nonne Restaurant/Logan\, UT
DESCRIPTION:
URL:https://mikechristiansen.com/event/solo-guitar-at-le-nonne-restaurant-logan-ut-107/
END:VEVENT
BEGIN:VEVENT
DTSTART;TZID=America/Denver:20250411T090000
DTEND;TZID=America/Denver:20250411T183000
DTSTAMP:20260422T151836
CREATED:20250402T185207Z
LAST-MODIFIED:20250402T185207Z
UID:1686-1744362000-1744396200@mikechristiansen.com
SUMMARY:Clinics for TMEA Conference\, Nashville\, TN
DESCRIPTION:
URL:https://mikechristiansen.com/event/clinics-for-tmea-conference-nashville-tn/
END:VEVENT
BEGIN:VEVENT
DTSTART;TZID=America/Denver:20250416T190000
DTEND;TZID=America/Denver:20250416T210000
DTSTAMP:20260422T151836
CREATED:20250402T185327Z
LAST-MODIFIED:20250402T185327Z
UID:1688-1744830000-1744837200@mikechristiansen.com
SUMMARY:Solo for USU library event-Logan\, UT
DESCRIPTION:
URL:https://mikechristiansen.com/event/solo-for-usu-library-event-logan-ut/
END:VEVENT
BEGIN:VEVENT
DTSTART;TZID=America/Denver:20250417T160000
DTEND;TZID=America/Denver:20250417T190000
DTSTAMP:20260422T151836
CREATED:20250402T185510Z
LAST-MODIFIED:20250402T185510Z
UID:1690-1744905600-1744916400@mikechristiansen.com
SUMMARY:Solo for USU College of Science e Dinner - Logan\, UT
DESCRIPTION:
URL:https://mikechristiansen.com/event/solo-for-usu-college-of-science-e-dinner-logan-ut/
END:VEVENT
BEGIN:VEVENT
DTSTART;TZID=America/Denver:20250418T173000
DTEND;TZID=America/Denver:20250418T210000
DTSTAMP:20260422T151836
CREATED:20250402T185720Z
LAST-MODIFIED:20250402T185720Z
UID:1692-1744997400-1745010000@mikechristiansen.com
SUMMARY:Solo at Le Nonne Resturant - Logan\, UT
DESCRIPTION:
URL:https://mikechristiansen.com/event/solo-at-le-nonne-resturant-logan-ut/
END:VEVENT
BEGIN:VEVENT
DTSTART;TZID=America/Denver:20250419T173000
DTEND;TZID=America/Denver:20250419T210000
DTSTAMP:20260422T151836
CREATED:20250402T185841Z
LAST-MODIFIED:20250402T185841Z
UID:1694-1745083800-1745096400@mikechristiansen.com
SUMMARY:Solo at Le Nonne Resturant - Logan\, UT
DESCRIPTION:
URL:https://mikechristiansen.com/event/solo-at-le-nonne-resturant-logan-ut-2/
END:VEVENT
BEGIN:VEVENT
DTSTART;TZID=America/Denver:20250420T113000
DTEND;TZID=America/Denver:20250420T143000
DTSTAMP:20260422T151836
CREATED:20250402T184532Z
LAST-MODIFIED:20250402T184532Z
UID:1680-1745148600-1745159400@mikechristiansen.com
SUMMARY:Solo Guitar at resturant Asher Adams Hotel SLC
DESCRIPTION:
URL:https://mikechristiansen.com/event/solo-guitar-at-resturant-asher-adams-hotel-slc/
END:VEVENT
BEGIN:VEVENT
DTSTART;TZID=America/Denver:20250425T173000
DTEND;TZID=America/Denver:20250425T210000
DTSTAMP:20260422T151836
CREATED:20250402T190000Z
LAST-MODIFIED:20250402T190000Z
UID:1696-1745602200-1745614800@mikechristiansen.com
SUMMARY:Solo at Le Nonne Resturant - Logan\, UT
DESCRIPTION:
URL:https://mikechristiansen.com/event/solo-at-le-nonne-resturant-logan-ut-3/
END:VEVENT
BEGIN:VEVENT
DTSTART;TZID=America/Denver:20250426T200000
DTEND;TZID=America/Denver:20250426T230000
DTSTAMP:20260422T151836
CREATED:20250402T190059Z
LAST-MODIFIED:20250402T190059Z
UID:1698-1745697600-1745708400@mikechristiansen.com
SUMMARY:Solo at Asher Adams Hotel - SLC
DESCRIPTION:
URL:https://mikechristiansen.com/event/solo-at-asher-adams-hotel-slc-2/
END:VEVENT
BEGIN:VEVENT
DTSTART;TZID=America/Denver:20250428T180000
DTEND;TZID=America/Denver:20250428T210000
DTSTAMP:20260422T151836
CREATED:20250402T190217Z
LAST-MODIFIED:20250402T190217Z
UID:1700-1745863200-1745874000@mikechristiansen.com
SUMMARY:Solo for College of Science - Champions Hall - Logan UT
DESCRIPTION:
URL:https://mikechristiansen.com/event/solo-for-college-of-science-champions-hall-logan-ut/
END:VEVENT
END:VCALENDAR