BEGIN:VCALENDAR
VERSION:2.0
PRODID:-//Mike Christiansen - ECPv6.14.0//NONSGML v1.0//EN
CALSCALE:GREGORIAN
METHOD:PUBLISH
X-ORIGINAL-URL:https://mikechristiansen.com
X-WR-CALDESC:Events for Mike Christiansen
REFRESH-INTERVAL;VALUE=DURATION:PT1H
X-Robots-Tag:noindex
X-PUBLISHED-TTL:PT1H
BEGIN:VTIMEZONE
TZID:America/Denver
BEGIN:DAYLIGHT
TZOFFSETFROM:-0700
TZOFFSETTO:-0600
TZNAME:MDT
DTSTART:20250309T090000
END:DAYLIGHT
BEGIN:STANDARD
TZOFFSETFROM:-0600
TZOFFSETTO:-0700
TZNAME:MST
DTSTART:20251102T080000
END:STANDARD
END:VTIMEZONE
BEGIN:VEVENT
DTSTART;TZID=America/Denver:20250905T053000
DTEND;TZID=America/Denver:20250905T210000
DTSTAMP:20260422T082855
CREATED:20250814T175243Z
LAST-MODIFIED:20250814T175243Z
UID:1773-1757050200-1757106000@mikechristiansen.com
SUMMARY:Solo Guitar/Le Nonne Restaurant/Logan\, UT
DESCRIPTION:
URL:https://mikechristiansen.com/event/solo-guitar-le-nonne-restaurant-logan-ut-40/
END:VEVENT
BEGIN:VEVENT
DTSTART;TZID=America/Denver:20250906T173000
DTEND;TZID=America/Denver:20250906T210000
DTSTAMP:20260422T082855
CREATED:20250814T175400Z
LAST-MODIFIED:20250814T175400Z
UID:1775-1757179800-1757192400@mikechristiansen.com
SUMMARY:Solo Guitar/Le Nonne Restaurant/Logan\, UT
DESCRIPTION:
URL:https://mikechristiansen.com/event/solo-guitar-le-nonne-restaurant-logan-ut-41/
END:VEVENT
BEGIN:VEVENT
DTSTART;TZID=America/Denver:20250912T173000
DTEND;TZID=America/Denver:20250912T210000
DTSTAMP:20260422T082855
CREATED:20250814T175728Z
LAST-MODIFIED:20250814T175728Z
UID:1777-1757698200-1757710800@mikechristiansen.com
SUMMARY:Solo Guitar/Le Nonne Restaurant/Logan\, UT
DESCRIPTION:
URL:https://mikechristiansen.com/event/solo-guitar-le-nonne-restaurant-logan-ut-42/
END:VEVENT
BEGIN:VEVENT
DTSTART;TZID=America/Denver:20250913T173000
DTEND;TZID=America/Denver:20250913T210000
DTSTAMP:20260422T082855
CREATED:20250814T175833Z
LAST-MODIFIED:20250814T175833Z
UID:1779-1757784600-1757797200@mikechristiansen.com
SUMMARY:Solo Guitar/Le Nonne Restaurant/Logan\, UT
DESCRIPTION:
URL:https://mikechristiansen.com/event/solo-guitar-le-nonne-restaurant-logan-ut-43/
END:VEVENT
BEGIN:VEVENT
DTSTART;TZID=America/Denver:20250914T100000
DTEND;TZID=America/Denver:20250914T120000
DTSTAMP:20260422T082855
CREATED:20250814T180019Z
LAST-MODIFIED:20250814T180019Z
UID:1781-1757844000-1757851200@mikechristiansen.com
SUMMARY:With Joe Muscolino Band/Gateway for Italian Days/ SLC\, UT
DESCRIPTION:
URL:https://mikechristiansen.com/event/with-joe-muscolino-band-gateway-for-italian-days-slc-ut/
END:VEVENT
BEGIN:VEVENT
DTSTART;TZID=America/Denver:20250917T173000
DTEND;TZID=America/Denver:20250917T210000
DTSTAMP:20260422T082855
CREATED:20250814T180144Z
LAST-MODIFIED:20250814T180144Z
UID:1783-1758130200-1758142800@mikechristiansen.com
SUMMARY:Private Event/Wedding/Le Nonne/ Logan. UT
DESCRIPTION:
URL:https://mikechristiansen.com/event/private-event-wedding-le-nonne-logan-ut/
END:VEVENT
BEGIN:VEVENT
DTSTART;TZID=America/Denver:20250919T173000
DTEND;TZID=America/Denver:20250919T210000
DTSTAMP:20260422T082855
CREATED:20250814T180322Z
LAST-MODIFIED:20250814T180322Z
UID:1785-1758303000-1758315600@mikechristiansen.com
SUMMARY:Solo Guitar/Le Nonne Restaurant/ Logan\, UT
DESCRIPTION:
URL:https://mikechristiansen.com/event/solo-guitar-le-nonne-restaurant-logan-ut-44/
END:VEVENT
BEGIN:VEVENT
DTSTART;TZID=America/Denver:20250920T173000
DTEND;TZID=America/Denver:20250920T210000
DTSTAMP:20260422T082855
CREATED:20250814T180451Z
LAST-MODIFIED:20250814T180451Z
UID:1787-1758389400-1758402000@mikechristiansen.com
SUMMARY:Solo Guitar/ Le Nonne Restaurant/Logan\, UT
DESCRIPTION:
URL:https://mikechristiansen.com/event/solo-guitar-le-nonne-restaurant-logan-ut-45/
END:VEVENT
BEGIN:VEVENT
DTSTART;TZID=America/Denver:20250926T173000
DTEND;TZID=America/Denver:20250926T210000
DTSTAMP:20260422T082855
CREATED:20250814T180600Z
LAST-MODIFIED:20250814T180600Z
UID:1789-1758907800-1758920400@mikechristiansen.com
SUMMARY:Solo Guitar/ Le Nonne Restaurant/Logan\, UT
DESCRIPTION:
URL:https://mikechristiansen.com/event/solo-guitar-le-nonne-restaurant-logan-ut-46/
END:VEVENT
BEGIN:VEVENT
DTSTART;TZID=America/Denver:20250927T173000
DTEND;TZID=America/Denver:20250927T210000
DTSTAMP:20260422T082855
CREATED:20250814T180708Z
LAST-MODIFIED:20250814T180708Z
UID:1791-1758994200-1759006800@mikechristiansen.com
SUMMARY:Solo Guitar/ Le Nonne Restaurant/Logan\, UT
DESCRIPTION:
URL:https://mikechristiansen.com/event/solo-guitar-le-nonne-restaurant-logan-ut-47/
END:VEVENT
BEGIN:VEVENT
DTSTART;TZID=America/Denver:20250930T110000
DTEND;TZID=America/Denver:20250930T140000
DTSTAMP:20260422T082855
CREATED:20250814T180852Z
LAST-MODIFIED:20250814T180852Z
UID:1793-1759230000-1759240800@mikechristiansen.com
SUMMARY:Solo Guitar For Private Event/Riverwoods/Logan\, UT
DESCRIPTION:
URL:https://mikechristiansen.com/event/solo-guitar-for-private-event-riverwoods-logan-ut/
END:VEVENT
END:VCALENDAR