BEGIN:VCALENDAR
VERSION:2.0
PRODID:-//Mike Christiansen - ECPv6.14.0//NONSGML v1.0//EN
CALSCALE:GREGORIAN
METHOD:PUBLISH
X-ORIGINAL-URL:https://mikechristiansen.com
X-WR-CALDESC:Events for Mike Christiansen
REFRESH-INTERVAL;VALUE=DURATION:PT1H
X-Robots-Tag:noindex
X-PUBLISHED-TTL:PT1H
BEGIN:VTIMEZONE
TZID:America/Denver
BEGIN:DAYLIGHT
TZOFFSETFROM:-0700
TZOFFSETTO:-0600
TZNAME:MDT
DTSTART:20250309T090000
END:DAYLIGHT
BEGIN:STANDARD
TZOFFSETFROM:-0600
TZOFFSETTO:-0700
TZNAME:MST
DTSTART:20251102T080000
END:STANDARD
END:VTIMEZONE
BEGIN:VEVENT
DTSTART;TZID=America/Denver:20251209T190000
DTEND;TZID=America/Denver:20251209T200000
DTSTAMP:20260422T035714
CREATED:20251209T154242Z
LAST-MODIFIED:20251209T154242Z
UID:1828-1765306800-1765310400@mikechristiansen.com
SUMMARY:UPR Radio Christmas Program
DESCRIPTION:
URL:https://mikechristiansen.com/event/upr-radio-christmas-program/
END:VEVENT
BEGIN:VEVENT
DTSTART;TZID=America/Denver:20251211T090000
DTEND;TZID=America/Denver:20251211T100000
DTSTAMP:20260422T035714
CREATED:20251209T154114Z
LAST-MODIFIED:20251209T154114Z
UID:1826-1765443600-1765447200@mikechristiansen.com
SUMMARY:UPR Christmas Radio Program
DESCRIPTION:
URL:https://mikechristiansen.com/event/upr-christmas-radio-program/
END:VEVENT
BEGIN:VEVENT
DTSTART;TZID=America/Denver:20251211T110000
DTEND;TZID=America/Denver:20251211T130000
DTSTAMP:20260422T035714
CREATED:20251209T154413Z
LAST-MODIFIED:20251209T154413Z
UID:1830-1765450800-1765458000@mikechristiansen.com
SUMMARY:Solo for USU Facilities Christmas Luncheon
DESCRIPTION:
URL:https://mikechristiansen.com/event/solo-for-usu-facilities-christmas-luncheon/
END:VEVENT
BEGIN:VEVENT
DTSTART;TZID=America/Denver:20251211T153000
DTEND;TZID=America/Denver:20251211T193000
DTSTAMP:20260422T035714
CREATED:20251209T154533Z
LAST-MODIFIED:20251209T154533Z
UID:1832-1765467000-1765481400@mikechristiansen.com
SUMMARY:Solo for Tanner Accounting Christmas Party\, SLC
DESCRIPTION:
URL:https://mikechristiansen.com/event/solo-for-tanner-accounting-christmas-party-slc/
END:VEVENT
BEGIN:VEVENT
DTSTART;TZID=America/Denver:20251212T180000
DTEND;TZID=America/Denver:20251212T210000
DTSTAMP:20260422T035714
CREATED:20251209T154718Z
LAST-MODIFIED:20251209T154718Z
UID:1834-1765562400-1765573200@mikechristiansen.com
SUMMARY:Solo for Apogee Christmas Party/Logan Country Club\, Logan UT
DESCRIPTION:
URL:https://mikechristiansen.com/event/solo-for-apogee-christmas-party-logan-country-club-logan-ut/
END:VEVENT
BEGIN:VEVENT
DTSTART;TZID=America/Denver:20251213T173000
DTEND;TZID=America/Denver:20251213T210000
DTSTAMP:20260422T035714
CREATED:20251209T154816Z
LAST-MODIFIED:20251209T154816Z
UID:1836-1765647000-1765659600@mikechristiansen.com
SUMMARY:Solo at Le Nonne Restaurant\, Logan UT
DESCRIPTION:
URL:https://mikechristiansen.com/event/solo-at-le-nonne-restaurant-logan-ut-17/
END:VEVENT
BEGIN:VEVENT
DTSTART;TZID=America/Denver:20251214T153000
DTEND;TZID=America/Denver:20251214T183000
DTSTAMP:20260422T035714
CREATED:20251209T154933Z
LAST-MODIFIED:20251209T154933Z
UID:1838-1765726200-1765737000@mikechristiansen.com
SUMMARY:Solo Privat Event Carol Laub Residence
DESCRIPTION:
URL:https://mikechristiansen.com/event/solo-privat-event-carol-laub-residence/
END:VEVENT
BEGIN:VEVENT
DTSTART;TZID=America/Denver:20251218T180000
DTEND;TZID=America/Denver:20251218T210000
DTSTAMP:20260422T035714
CREATED:20251209T155101Z
LAST-MODIFIED:20251209T155101Z
UID:1840-1766080800-1766091600@mikechristiansen.com
SUMMARY:Solo Private Event Carol Laub Residence
DESCRIPTION:
URL:https://mikechristiansen.com/event/solo-private-event-carol-laub-residence/
END:VEVENT
BEGIN:VEVENT
DTSTART;TZID=America/Denver:20251219T173000
DTEND;TZID=America/Denver:20251219T210000
DTSTAMP:20260422T035714
CREATED:20251209T155208Z
LAST-MODIFIED:20251209T155208Z
UID:1842-1766165400-1766178000@mikechristiansen.com
SUMMARY:Solo Guitar ar Le Nonne Restaurant\, Logan UT
DESCRIPTION:
URL:https://mikechristiansen.com/event/solo-guitar-ar-le-nonne-restaurant-logan-ut/
END:VEVENT
BEGIN:VEVENT
DTSTART;TZID=America/Denver:20251220T173000
DTEND;TZID=America/Denver:20251220T210000
DTSTAMP:20260422T035714
CREATED:20251209T155304Z
LAST-MODIFIED:20251209T155304Z
UID:1844-1766251800-1766264400@mikechristiansen.com
SUMMARY:Solo Guitar at Le Nonne Restaurant\, Logan UT
DESCRIPTION:
URL:https://mikechristiansen.com/event/solo-guitar-at-le-nonne-restaurant-logan-ut-109/
END:VEVENT
BEGIN:VEVENT
DTSTART;TZID=America/Denver:20251223T080000
DTEND;TZID=America/Denver:20251223T143000
DTSTAMP:20260422T035714
CREATED:20251209T155432Z
LAST-MODIFIED:20251209T155432Z
UID:1846-1766476800-1766500200@mikechristiansen.com
SUMMARY:Solo Guitar at SLC Airport
DESCRIPTION:
URL:https://mikechristiansen.com/event/solo-guitar-at-slc-airport/
END:VEVENT
BEGIN:VEVENT
DTSTART;TZID=America/Denver:20251225T130000
DTEND;TZID=America/Denver:20251225T140000
DTSTAMP:20260422T035714
CREATED:20251209T155559Z
LAST-MODIFIED:20251209T155559Z
UID:1848-1766667600-1766671200@mikechristiansen.com
SUMMARY:UPR Radio Broadcast
DESCRIPTION:
URL:https://mikechristiansen.com/event/upr-radio-broadcast/
END:VEVENT
BEGIN:VEVENT
DTSTART;TZID=America/Denver:20251226T173000
DTEND;TZID=America/Denver:20251226T210000
DTSTAMP:20260422T035714
CREATED:20251209T155703Z
LAST-MODIFIED:20251209T155703Z
UID:1850-1766770200-1766782800@mikechristiansen.com
SUMMARY:Solo Guitar at Le Nonne Restaurant\, Logan UT
DESCRIPTION:
URL:https://mikechristiansen.com/event/solo-guitar-at-le-nonne-restaurant-logan-ut-110/
END:VEVENT
BEGIN:VEVENT
DTSTART;TZID=America/Denver:20251227T173000
DTEND;TZID=America/Denver:20251227T210000
DTSTAMP:20260422T035714
CREATED:20251209T155806Z
LAST-MODIFIED:20251209T155806Z
UID:1852-1766856600-1766869200@mikechristiansen.com
SUMMARY:Solo Guitar at Le Nonne Restaurant/Logan UT
DESCRIPTION:
URL:https://mikechristiansen.com/event/solo-guitar-at-le-nonne-restaurant-logan-ut-111/
END:VEVENT
BEGIN:VEVENT
DTSTART;TZID=America/Denver:20251231T160000
DTEND;TZID=America/Denver:20251231T200000
DTSTAMP:20260422T035714
CREATED:20251209T155921Z
LAST-MODIFIED:20251209T155921Z
UID:1854-1767196800-1767211200@mikechristiansen.com
SUMMARY:Solo Guitar at Westgate Hotel/Park City Utah
DESCRIPTION:
URL:https://mikechristiansen.com/event/solo-guitar-at-westgate-hotel-park-city-utah/
END:VEVENT
END:VCALENDAR